BEGIN:VCALENDAR
VERSION:2.0
PRODID:-//Clinton County Housing Authority - ECPv6.15.20//NONSGML v1.0//EN
CALSCALE:GREGORIAN
METHOD:PUBLISH
X-WR-CALNAME:Clinton County Housing Authority
X-ORIGINAL-URL:https://www.clintoncountyhousing.com
X-WR-CALDESC:Events for Clinton County Housing Authority
REFRESH-INTERVAL;VALUE=DURATION:PT1H
X-Robots-Tag:noindex
X-PUBLISHED-TTL:PT1H
BEGIN:VTIMEZONE
TZID:America/New_York
BEGIN:DAYLIGHT
TZOFFSETFROM:-0500
TZOFFSETTO:-0400
TZNAME:EDT
DTSTART:20250309T070000
END:DAYLIGHT
BEGIN:STANDARD
TZOFFSETFROM:-0400
TZOFFSETTO:-0500
TZNAME:EST
DTSTART:20251102T060000
END:STANDARD
BEGIN:DAYLIGHT
TZOFFSETFROM:-0500
TZOFFSETTO:-0400
TZNAME:EDT
DTSTART:20260308T070000
END:DAYLIGHT
BEGIN:STANDARD
TZOFFSETFROM:-0400
TZOFFSETTO:-0500
TZNAME:EST
DTSTART:20261101T060000
END:STANDARD
BEGIN:DAYLIGHT
TZOFFSETFROM:-0500
TZOFFSETTO:-0400
TZNAME:EDT
DTSTART:20270314T070000
END:DAYLIGHT
BEGIN:STANDARD
TZOFFSETFROM:-0400
TZOFFSETTO:-0500
TZNAME:EST
DTSTART:20271107T060000
END:STANDARD
END:VTIMEZONE
BEGIN:VEVENT
DTSTART;TZID=America/New_York:20260625T100000
DTEND;TZID=America/New_York:20260625T120000
DTSTAMP:20260423T190307
CREATED:20260122T144456Z
LAST-MODIFIED:20260122T144456Z
UID:10000896-1782381600-1782388800@www.clintoncountyhousing.com
SUMMARY:Adult Computer Lab
DESCRIPTION:ADULT COMPUTER LAB\n \nWeekly on Thursdays\n10 am to 12 noon\n\ncall ahead to ensure computer availability\n570-893-1911 x-2\n\n 
URL:https://www.clintoncountyhousing.com/event/adult-computer-lab-3/2026-06-25/
LOCATION:John Yost Community Center\, 180 Bennage Ave\, Lock Haven\, PA\, 17745\, United States
ORGANIZER;CN="Tenant Services Coordinator":MAILTO:roxanne@clintoncountyhousing.com
END:VEVENT
BEGIN:VEVENT
DTSTART;TZID=America/New_York:20260623T130000
DTEND;TZID=America/New_York:20260623T150000
DTSTAMP:20260423T190307
CREATED:20260122T140329Z
LAST-MODIFIED:20260122T144638Z
UID:10000935-1782219600-1782226800@www.clintoncountyhousing.com
SUMMARY:Putman Manor Prize Bingo
DESCRIPTION:Prize Bingo\nResidents are welcome to join CCHA Tenant Services and volunteers monthly for Bingo games. \nAlways 1:00 to 3:00 in the Community Room
URL:https://www.clintoncountyhousing.com/event/putman-manor-prize-bingo-3/2026-06-23/
LOCATION:Putnam Manor\, 335 Center St\, Lock Haven\, PA\, 17745\, United States
END:VEVENT
BEGIN:VEVENT
DTSTART;TZID=America/New_York:20260618T100000
DTEND;TZID=America/New_York:20260618T120000
DTSTAMP:20260423T190307
CREATED:20260122T144456Z
LAST-MODIFIED:20260122T144456Z
UID:10000895-1781776800-1781784000@www.clintoncountyhousing.com
SUMMARY:Adult Computer Lab
DESCRIPTION:ADULT COMPUTER LAB\n \nWeekly on Thursdays\n10 am to 12 noon\n\ncall ahead to ensure computer availability\n570-893-1911 x-2\n\n 
URL:https://www.clintoncountyhousing.com/event/adult-computer-lab-3/2026-06-18/
LOCATION:John Yost Community Center\, 180 Bennage Ave\, Lock Haven\, PA\, 17745\, United States
ORGANIZER;CN="Tenant Services Coordinator":MAILTO:roxanne@clintoncountyhousing.com
END:VEVENT
BEGIN:VEVENT
DTSTART;TZID=America/New_York:20260616T130000
DTEND;TZID=America/New_York:20260616T150000
DTSTAMP:20260423T190307
CREATED:20260122T140155Z
LAST-MODIFIED:20260122T140155Z
UID:10000827-1781614800-1781622000@www.clintoncountyhousing.com
SUMMARY:Ransdorf Manor Prize Bingo
DESCRIPTION:Prize Bingo\nResidents are welcome to join CCHA Tenant Services and volunteers monthly for Bingo games. \nAlways 1:00 to 3:00 in the Community Room
URL:https://www.clintoncountyhousing.com/event/ransdorf-manor-prize-bingo-4/2026-06-16/
LOCATION:Ransdorf Manor\, 350 Huron Ave\, Renovo\, PA\, 17764\, United States
END:VEVENT
BEGIN:VEVENT
DTSTART;TZID=America/New_York:20260615T120000
DTEND;TZID=America/New_York:20260615T140000
DTSTAMP:20260423T190307
CREATED:20260122T141917Z
LAST-MODIFIED:20260122T141917Z
UID:10000836-1781524800-1781532000@www.clintoncountyhousing.com
SUMMARY:Fresh Express Food Bank- Lock Haven
DESCRIPTION:Fresh Express Food Distribution\nJohn Yost Community Center\n180 Bennage Avenue\n12:00 noon to 2:00 pm\n \n  \n 
URL:https://www.clintoncountyhousing.com/event/fresh-express-food-bank-lock-haven/2026-06-15/
LOCATION:John Yost Community Center\, 180 Bennage Ave\, Lock Haven\, PA\, 17745\, United States
END:VEVENT
BEGIN:VEVENT
DTSTART;TZID=America/New_York:20260615T100000
DTEND;TZID=America/New_York:20260615T120000
DTSTAMP:20260423T190307
CREATED:20260122T142315Z
LAST-MODIFIED:20260122T142315Z
UID:10000854-1781517600-1781524800@www.clintoncountyhousing.com
SUMMARY:Fresh Express Food Bank- Renovo
DESCRIPTION:Fresh Express Food Distribution\nRansdorf Manor\n350 Huron Avenue Avenue\n10:00 am to 12:00 noon\n \n  \n 
URL:https://www.clintoncountyhousing.com/event/fresh-express-food-bank-renovo/2026-06-15/
LOCATION:Ransdorf Manor\, 350 Huron Ave\, Renovo\, PA\, 17764\, United States
END:VEVENT
BEGIN:VEVENT
DTSTART;TZID=America/New_York:20260611T100000
DTEND;TZID=America/New_York:20260611T120000
DTSTAMP:20260423T190307
CREATED:20260122T144456Z
LAST-MODIFIED:20260122T144456Z
UID:10000894-1781172000-1781179200@www.clintoncountyhousing.com
SUMMARY:Adult Computer Lab
DESCRIPTION:ADULT COMPUTER LAB\n \nWeekly on Thursdays\n10 am to 12 noon\n\ncall ahead to ensure computer availability\n570-893-1911 x-2\n\n 
URL:https://www.clintoncountyhousing.com/event/adult-computer-lab-3/2026-06-11/
LOCATION:John Yost Community Center\, 180 Bennage Ave\, Lock Haven\, PA\, 17745\, United States
ORGANIZER;CN="Tenant Services Coordinator":MAILTO:roxanne@clintoncountyhousing.com
END:VEVENT
BEGIN:VEVENT
DTSTART;TZID=America/New_York:20260609T130000
DTEND;TZID=America/New_York:20260609T150000
DTSTAMP:20260423T190307
CREATED:20260122T135941Z
LAST-MODIFIED:20260122T135941Z
UID:10000783-1781010000-1781017200@www.clintoncountyhousing.com
SUMMARY:Probst Plaza Prize Bingo
DESCRIPTION:Prize Bingo\nResidents are welcome to join CCHA Tenant Services and volunteers monthly for Bingo games. \nAlways 1:00 to 3:00 in the Community Room
URL:https://www.clintoncountyhousing.com/event/probst-plaza-prize-bingo-2/2026-06-09/
LOCATION:Probst Plaza\, N Jones St\, Lock Haven\, PA\, 17745\, United States
ORGANIZER;CN="Tenant Services Coordinator":MAILTO:roxanne@clintoncountyhousing.com
END:VEVENT
BEGIN:VEVENT
DTSTART;TZID=America/New_York:20260604T100000
DTEND;TZID=America/New_York:20260604T120000
DTSTAMP:20260423T190307
CREATED:20260122T144456Z
LAST-MODIFIED:20260122T144456Z
UID:10000893-1780567200-1780574400@www.clintoncountyhousing.com
SUMMARY:Adult Computer Lab
DESCRIPTION:ADULT COMPUTER LAB\n \nWeekly on Thursdays\n10 am to 12 noon\n\ncall ahead to ensure computer availability\n570-893-1911 x-2\n\n 
URL:https://www.clintoncountyhousing.com/event/adult-computer-lab-3/2026-06-04/
LOCATION:John Yost Community Center\, 180 Bennage Ave\, Lock Haven\, PA\, 17745\, United States
ORGANIZER;CN="Tenant Services Coordinator":MAILTO:roxanne@clintoncountyhousing.com
END:VEVENT
BEGIN:VEVENT
DTSTART;TZID=America/New_York:20260603T153000
DTEND;TZID=America/New_York:20260603T163000
DTSTAMP:20260423T190307
CREATED:20250825T193530Z
LAST-MODIFIED:20250825T193813Z
UID:10000754-1780500600-1780504200@www.clintoncountyhousing.com
SUMMARY:After School Program 2025 - 2026
DESCRIPTION:CCHA’s After Schol Program\n \nThe After School Program runs every Monday & Wednesday from 3:30 to 4:30 at the John Yost Community Center. \nWe will provide help with homework\, snacks\, arts & crafts\, games\, computer days\, outside activities. \n – Kids in the Kitchen Days \n – Special Guests and Demonstrations \n 
URL:https://www.clintoncountyhousing.com/event/after-school-program-2025-2026/2026-06-03/
LOCATION:John Yost Community Center\, 180 Bennage Ave\, Lock Haven\, PA\, 17745\, United States
ORGANIZER;CN="Roxanne Gottshall":MAILTO:roxanne@clintoncountyhousing.com
END:VEVENT
BEGIN:VEVENT
DTSTART;TZID=America/New_York:20260602T130000
DTEND;TZID=America/New_York:20260602T150000
DTSTAMP:20260423T190307
CREATED:20260122T135846Z
LAST-MODIFIED:20260122T135846Z
UID:10000762-1780405200-1780412400@www.clintoncountyhousing.com
SUMMARY:Carter Towers Prize Bingo
DESCRIPTION:Prize Bingo\nResidents are welcome to join CCHA Tenant Services and volunteers monthly for Bingo games. \nAlways 1:00 to 3:00 in the Community Room
URL:https://www.clintoncountyhousing.com/event/carter-towers-prize-bingo-2/2026-06-02/
LOCATION:Carter Towers\, 11 S Jones St\, Lock Haven\, PA\, 17745\, United States
ORGANIZER;CN="Tenant Services Coordinator":MAILTO:roxanne@clintoncountyhousing.com
END:VEVENT
BEGIN:VEVENT
DTSTART;TZID=America/New_York:20260601T153000
DTEND;TZID=America/New_York:20260601T163000
DTSTAMP:20260423T190307
CREATED:20250825T193530Z
LAST-MODIFIED:20250825T193813Z
UID:10000753-1780327800-1780331400@www.clintoncountyhousing.com
SUMMARY:After School Program 2025 - 2026
DESCRIPTION:CCHA’s After Schol Program\n \nThe After School Program runs every Monday & Wednesday from 3:30 to 4:30 at the John Yost Community Center. \nWe will provide help with homework\, snacks\, arts & crafts\, games\, computer days\, outside activities. \n – Kids in the Kitchen Days \n – Special Guests and Demonstrations \n 
URL:https://www.clintoncountyhousing.com/event/after-school-program-2025-2026/2026-06-01/
LOCATION:John Yost Community Center\, 180 Bennage Ave\, Lock Haven\, PA\, 17745\, United States
ORGANIZER;CN="Roxanne Gottshall":MAILTO:roxanne@clintoncountyhousing.com
END:VEVENT
BEGIN:VEVENT
DTSTART;TZID=America/New_York:20260528T100000
DTEND;TZID=America/New_York:20260528T120000
DTSTAMP:20260423T190307
CREATED:20260122T144456Z
LAST-MODIFIED:20260122T144456Z
UID:10000892-1779962400-1779969600@www.clintoncountyhousing.com
SUMMARY:Adult Computer Lab
DESCRIPTION:ADULT COMPUTER LAB\n \nWeekly on Thursdays\n10 am to 12 noon\n\ncall ahead to ensure computer availability\n570-893-1911 x-2\n\n 
URL:https://www.clintoncountyhousing.com/event/adult-computer-lab-3/2026-05-28/
LOCATION:John Yost Community Center\, 180 Bennage Ave\, Lock Haven\, PA\, 17745\, United States
ORGANIZER;CN="Tenant Services Coordinator":MAILTO:roxanne@clintoncountyhousing.com
END:VEVENT
BEGIN:VEVENT
DTSTART;TZID=America/New_York:20260527T153000
DTEND;TZID=America/New_York:20260527T163000
DTSTAMP:20260423T190307
CREATED:20250825T193530Z
LAST-MODIFIED:20250825T193813Z
UID:10000752-1779895800-1779899400@www.clintoncountyhousing.com
SUMMARY:After School Program 2025 - 2026
DESCRIPTION:CCHA’s After Schol Program\n \nThe After School Program runs every Monday & Wednesday from 3:30 to 4:30 at the John Yost Community Center. \nWe will provide help with homework\, snacks\, arts & crafts\, games\, computer days\, outside activities. \n – Kids in the Kitchen Days \n – Special Guests and Demonstrations \n 
URL:https://www.clintoncountyhousing.com/event/after-school-program-2025-2026/2026-05-27/
LOCATION:John Yost Community Center\, 180 Bennage Ave\, Lock Haven\, PA\, 17745\, United States
ORGANIZER;CN="Roxanne Gottshall":MAILTO:roxanne@clintoncountyhousing.com
END:VEVENT
BEGIN:VEVENT
DTSTART;TZID=America/New_York:20260526T130000
DTEND;TZID=America/New_York:20260526T150000
DTSTAMP:20260423T190307
CREATED:20260122T140329Z
LAST-MODIFIED:20260122T144638Z
UID:10000934-1779800400-1779807600@www.clintoncountyhousing.com
SUMMARY:Putman Manor Prize Bingo
DESCRIPTION:Prize Bingo\nResidents are welcome to join CCHA Tenant Services and volunteers monthly for Bingo games. \nAlways 1:00 to 3:00 in the Community Room
URL:https://www.clintoncountyhousing.com/event/putman-manor-prize-bingo-3/2026-05-26/
LOCATION:Putnam Manor\, 335 Center St\, Lock Haven\, PA\, 17745\, United States
END:VEVENT
BEGIN:VEVENT
DTSTART;TZID=America/New_York:20260521T100000
DTEND;TZID=America/New_York:20260521T120000
DTSTAMP:20260423T190307
CREATED:20260122T144456Z
LAST-MODIFIED:20260122T144456Z
UID:10000891-1779357600-1779364800@www.clintoncountyhousing.com
SUMMARY:Adult Computer Lab
DESCRIPTION:ADULT COMPUTER LAB\n \nWeekly on Thursdays\n10 am to 12 noon\n\ncall ahead to ensure computer availability\n570-893-1911 x-2\n\n 
URL:https://www.clintoncountyhousing.com/event/adult-computer-lab-3/2026-05-21/
LOCATION:John Yost Community Center\, 180 Bennage Ave\, Lock Haven\, PA\, 17745\, United States
ORGANIZER;CN="Tenant Services Coordinator":MAILTO:roxanne@clintoncountyhousing.com
END:VEVENT
BEGIN:VEVENT
DTSTART;TZID=America/New_York:20260520T153000
DTEND;TZID=America/New_York:20260520T163000
DTSTAMP:20260423T190307
CREATED:20250825T193530Z
LAST-MODIFIED:20250825T193813Z
UID:10000750-1779291000-1779294600@www.clintoncountyhousing.com
SUMMARY:After School Program 2025 - 2026
DESCRIPTION:CCHA’s After Schol Program\n \nThe After School Program runs every Monday & Wednesday from 3:30 to 4:30 at the John Yost Community Center. \nWe will provide help with homework\, snacks\, arts & crafts\, games\, computer days\, outside activities. \n – Kids in the Kitchen Days \n – Special Guests and Demonstrations \n 
URL:https://www.clintoncountyhousing.com/event/after-school-program-2025-2026/2026-05-20/
LOCATION:John Yost Community Center\, 180 Bennage Ave\, Lock Haven\, PA\, 17745\, United States
ORGANIZER;CN="Roxanne Gottshall":MAILTO:roxanne@clintoncountyhousing.com
END:VEVENT
BEGIN:VEVENT
DTSTART;TZID=America/New_York:20260519T130000
DTEND;TZID=America/New_York:20260519T150000
DTSTAMP:20260423T190307
CREATED:20260122T140155Z
LAST-MODIFIED:20260122T140155Z
UID:10000826-1779195600-1779202800@www.clintoncountyhousing.com
SUMMARY:Ransdorf Manor Prize Bingo
DESCRIPTION:Prize Bingo\nResidents are welcome to join CCHA Tenant Services and volunteers monthly for Bingo games. \nAlways 1:00 to 3:00 in the Community Room
URL:https://www.clintoncountyhousing.com/event/ransdorf-manor-prize-bingo-4/2026-05-19/
LOCATION:Ransdorf Manor\, 350 Huron Ave\, Renovo\, PA\, 17764\, United States
END:VEVENT
BEGIN:VEVENT
DTSTART;TZID=America/New_York:20260518T153000
DTEND;TZID=America/New_York:20260518T163000
DTSTAMP:20260423T190307
CREATED:20250825T193530Z
LAST-MODIFIED:20250825T193813Z
UID:10000749-1779118200-1779121800@www.clintoncountyhousing.com
SUMMARY:After School Program 2025 - 2026
DESCRIPTION:CCHA’s After Schol Program\n \nThe After School Program runs every Monday & Wednesday from 3:30 to 4:30 at the John Yost Community Center. \nWe will provide help with homework\, snacks\, arts & crafts\, games\, computer days\, outside activities. \n – Kids in the Kitchen Days \n – Special Guests and Demonstrations \n 
URL:https://www.clintoncountyhousing.com/event/after-school-program-2025-2026/2026-05-18/
LOCATION:John Yost Community Center\, 180 Bennage Ave\, Lock Haven\, PA\, 17745\, United States
ORGANIZER;CN="Roxanne Gottshall":MAILTO:roxanne@clintoncountyhousing.com
END:VEVENT
BEGIN:VEVENT
DTSTART;TZID=America/New_York:20260518T120000
DTEND;TZID=America/New_York:20260518T140000
DTSTAMP:20260423T190307
CREATED:20260122T141917Z
LAST-MODIFIED:20260122T141917Z
UID:10000835-1779105600-1779112800@www.clintoncountyhousing.com
SUMMARY:Fresh Express Food Bank- Lock Haven
DESCRIPTION:Fresh Express Food Distribution\nJohn Yost Community Center\n180 Bennage Avenue\n12:00 noon to 2:00 pm\n \n  \n 
URL:https://www.clintoncountyhousing.com/event/fresh-express-food-bank-lock-haven/2026-05-18/
LOCATION:John Yost Community Center\, 180 Bennage Ave\, Lock Haven\, PA\, 17745\, United States
END:VEVENT
BEGIN:VEVENT
DTSTART;TZID=America/New_York:20260518T100000
DTEND;TZID=America/New_York:20260518T120000
DTSTAMP:20260423T190307
CREATED:20260122T142315Z
LAST-MODIFIED:20260122T142315Z
UID:10000853-1779098400-1779105600@www.clintoncountyhousing.com
SUMMARY:Fresh Express Food Bank- Renovo
DESCRIPTION:Fresh Express Food Distribution\nRansdorf Manor\n350 Huron Avenue Avenue\n10:00 am to 12:00 noon\n \n  \n 
URL:https://www.clintoncountyhousing.com/event/fresh-express-food-bank-renovo/2026-05-18/
LOCATION:Ransdorf Manor\, 350 Huron Ave\, Renovo\, PA\, 17764\, United States
END:VEVENT
BEGIN:VEVENT
DTSTART;TZID=America/New_York:20260514T100000
DTEND;TZID=America/New_York:20260514T120000
DTSTAMP:20260423T190307
CREATED:20260122T144456Z
LAST-MODIFIED:20260122T144456Z
UID:10000890-1778752800-1778760000@www.clintoncountyhousing.com
SUMMARY:Adult Computer Lab
DESCRIPTION:ADULT COMPUTER LAB\n \nWeekly on Thursdays\n10 am to 12 noon\n\ncall ahead to ensure computer availability\n570-893-1911 x-2\n\n 
URL:https://www.clintoncountyhousing.com/event/adult-computer-lab-3/2026-05-14/
LOCATION:John Yost Community Center\, 180 Bennage Ave\, Lock Haven\, PA\, 17745\, United States
ORGANIZER;CN="Tenant Services Coordinator":MAILTO:roxanne@clintoncountyhousing.com
END:VEVENT
BEGIN:VEVENT
DTSTART;TZID=America/New_York:20260513T153000
DTEND;TZID=America/New_York:20260513T163000
DTSTAMP:20260423T190307
CREATED:20250825T193530Z
LAST-MODIFIED:20250825T193813Z
UID:10000748-1778686200-1778689800@www.clintoncountyhousing.com
SUMMARY:After School Program 2025 - 2026
DESCRIPTION:CCHA’s After Schol Program\n \nThe After School Program runs every Monday & Wednesday from 3:30 to 4:30 at the John Yost Community Center. \nWe will provide help with homework\, snacks\, arts & crafts\, games\, computer days\, outside activities. \n – Kids in the Kitchen Days \n – Special Guests and Demonstrations \n 
URL:https://www.clintoncountyhousing.com/event/after-school-program-2025-2026/2026-05-13/
LOCATION:John Yost Community Center\, 180 Bennage Ave\, Lock Haven\, PA\, 17745\, United States
ORGANIZER;CN="Roxanne Gottshall":MAILTO:roxanne@clintoncountyhousing.com
END:VEVENT
BEGIN:VEVENT
DTSTART;TZID=America/New_York:20260512T130000
DTEND;TZID=America/New_York:20260512T150000
DTSTAMP:20260423T190307
CREATED:20260122T135941Z
LAST-MODIFIED:20260122T135941Z
UID:10000782-1778590800-1778598000@www.clintoncountyhousing.com
SUMMARY:Probst Plaza Prize Bingo
DESCRIPTION:Prize Bingo\nResidents are welcome to join CCHA Tenant Services and volunteers monthly for Bingo games. \nAlways 1:00 to 3:00 in the Community Room
URL:https://www.clintoncountyhousing.com/event/probst-plaza-prize-bingo-2/2026-05-12/
LOCATION:Probst Plaza\, N Jones St\, Lock Haven\, PA\, 17745\, United States
ORGANIZER;CN="Tenant Services Coordinator":MAILTO:roxanne@clintoncountyhousing.com
END:VEVENT
BEGIN:VEVENT
DTSTART;TZID=America/New_York:20260511T153000
DTEND;TZID=America/New_York:20260511T163000
DTSTAMP:20260423T190307
CREATED:20250825T193530Z
LAST-MODIFIED:20250825T193813Z
UID:10000747-1778513400-1778517000@www.clintoncountyhousing.com
SUMMARY:After School Program 2025 - 2026
DESCRIPTION:CCHA’s After Schol Program\n \nThe After School Program runs every Monday & Wednesday from 3:30 to 4:30 at the John Yost Community Center. \nWe will provide help with homework\, snacks\, arts & crafts\, games\, computer days\, outside activities. \n – Kids in the Kitchen Days \n – Special Guests and Demonstrations \n 
URL:https://www.clintoncountyhousing.com/event/after-school-program-2025-2026/2026-05-11/
LOCATION:John Yost Community Center\, 180 Bennage Ave\, Lock Haven\, PA\, 17745\, United States
ORGANIZER;CN="Roxanne Gottshall":MAILTO:roxanne@clintoncountyhousing.com
END:VEVENT
BEGIN:VEVENT
DTSTART;TZID=America/New_York:20260507T100000
DTEND;TZID=America/New_York:20260507T120000
DTSTAMP:20260423T190307
CREATED:20260122T144456Z
LAST-MODIFIED:20260122T144456Z
UID:10000889-1778148000-1778155200@www.clintoncountyhousing.com
SUMMARY:Adult Computer Lab
DESCRIPTION:ADULT COMPUTER LAB\n \nWeekly on Thursdays\n10 am to 12 noon\n\ncall ahead to ensure computer availability\n570-893-1911 x-2\n\n 
URL:https://www.clintoncountyhousing.com/event/adult-computer-lab-3/2026-05-07/
LOCATION:John Yost Community Center\, 180 Bennage Ave\, Lock Haven\, PA\, 17745\, United States
ORGANIZER;CN="Tenant Services Coordinator":MAILTO:roxanne@clintoncountyhousing.com
END:VEVENT
BEGIN:VEVENT
DTSTART;TZID=America/New_York:20260506T153000
DTEND;TZID=America/New_York:20260506T163000
DTSTAMP:20260423T190307
CREATED:20250825T193530Z
LAST-MODIFIED:20250825T193813Z
UID:10000746-1778081400-1778085000@www.clintoncountyhousing.com
SUMMARY:After School Program 2025 - 2026
DESCRIPTION:CCHA’s After Schol Program\n \nThe After School Program runs every Monday & Wednesday from 3:30 to 4:30 at the John Yost Community Center. \nWe will provide help with homework\, snacks\, arts & crafts\, games\, computer days\, outside activities. \n – Kids in the Kitchen Days \n – Special Guests and Demonstrations \n 
URL:https://www.clintoncountyhousing.com/event/after-school-program-2025-2026/2026-05-06/
LOCATION:John Yost Community Center\, 180 Bennage Ave\, Lock Haven\, PA\, 17745\, United States
ORGANIZER;CN="Roxanne Gottshall":MAILTO:roxanne@clintoncountyhousing.com
END:VEVENT
BEGIN:VEVENT
DTSTART;TZID=America/New_York:20260505T130000
DTEND;TZID=America/New_York:20260505T150000
DTSTAMP:20260423T190307
CREATED:20260122T135846Z
LAST-MODIFIED:20260122T135846Z
UID:10000761-1777986000-1777993200@www.clintoncountyhousing.com
SUMMARY:Carter Towers Prize Bingo
DESCRIPTION:Prize Bingo\nResidents are welcome to join CCHA Tenant Services and volunteers monthly for Bingo games. \nAlways 1:00 to 3:00 in the Community Room
URL:https://www.clintoncountyhousing.com/event/carter-towers-prize-bingo-2/2026-05-05/
LOCATION:Carter Towers\, 11 S Jones St\, Lock Haven\, PA\, 17745\, United States
ORGANIZER;CN="Tenant Services Coordinator":MAILTO:roxanne@clintoncountyhousing.com
END:VEVENT
BEGIN:VEVENT
DTSTART;TZID=America/New_York:20260504T153000
DTEND;TZID=America/New_York:20260504T163000
DTSTAMP:20260423T190307
CREATED:20250825T193530Z
LAST-MODIFIED:20250825T193813Z
UID:10000745-1777908600-1777912200@www.clintoncountyhousing.com
SUMMARY:After School Program 2025 - 2026
DESCRIPTION:CCHA’s After Schol Program\n \nThe After School Program runs every Monday & Wednesday from 3:30 to 4:30 at the John Yost Community Center. \nWe will provide help with homework\, snacks\, arts & crafts\, games\, computer days\, outside activities. \n – Kids in the Kitchen Days \n – Special Guests and Demonstrations \n 
URL:https://www.clintoncountyhousing.com/event/after-school-program-2025-2026/2026-05-04/
LOCATION:John Yost Community Center\, 180 Bennage Ave\, Lock Haven\, PA\, 17745\, United States
ORGANIZER;CN="Roxanne Gottshall":MAILTO:roxanne@clintoncountyhousing.com
END:VEVENT
BEGIN:VEVENT
DTSTART;TZID=America/New_York:20260430T100000
DTEND;TZID=America/New_York:20260430T120000
DTSTAMP:20260423T190307
CREATED:20260122T144456Z
LAST-MODIFIED:20260122T144456Z
UID:10000888-1777543200-1777550400@www.clintoncountyhousing.com
SUMMARY:Adult Computer Lab
DESCRIPTION:ADULT COMPUTER LAB\n \nWeekly on Thursdays\n10 am to 12 noon\n\ncall ahead to ensure computer availability\n570-893-1911 x-2\n\n 
URL:https://www.clintoncountyhousing.com/event/adult-computer-lab-3/2026-04-30/
LOCATION:John Yost Community Center\, 180 Bennage Ave\, Lock Haven\, PA\, 17745\, United States
ORGANIZER;CN="Tenant Services Coordinator":MAILTO:roxanne@clintoncountyhousing.com
END:VEVENT
END:VCALENDAR