BEGIN:VCALENDAR
VERSION:2.0
PRODID:-//Clinton County Housing Authority - ECPv6.15.20//NONSGML v1.0//EN
CALSCALE:GREGORIAN
METHOD:PUBLISH
X-WR-CALNAME:Clinton County Housing Authority
X-ORIGINAL-URL:https://www.clintoncountyhousing.com
X-WR-CALDESC:Events for Clinton County Housing Authority
REFRESH-INTERVAL;VALUE=DURATION:PT1H
X-Robots-Tag:noindex
X-PUBLISHED-TTL:PT1H
BEGIN:VTIMEZONE
TZID:America/New_York
BEGIN:DAYLIGHT
TZOFFSETFROM:-0500
TZOFFSETTO:-0400
TZNAME:EDT
DTSTART:20240310T070000
END:DAYLIGHT
BEGIN:STANDARD
TZOFFSETFROM:-0400
TZOFFSETTO:-0500
TZNAME:EST
DTSTART:20241103T060000
END:STANDARD
BEGIN:DAYLIGHT
TZOFFSETFROM:-0500
TZOFFSETTO:-0400
TZNAME:EDT
DTSTART:20250309T070000
END:DAYLIGHT
BEGIN:STANDARD
TZOFFSETFROM:-0400
TZOFFSETTO:-0500
TZNAME:EST
DTSTART:20251102T060000
END:STANDARD
BEGIN:DAYLIGHT
TZOFFSETFROM:-0500
TZOFFSETTO:-0400
TZNAME:EDT
DTSTART:20260308T070000
END:DAYLIGHT
BEGIN:STANDARD
TZOFFSETFROM:-0400
TZOFFSETTO:-0500
TZNAME:EST
DTSTART:20261101T060000
END:STANDARD
END:VTIMEZONE
BEGIN:VEVENT
DTSTART;TZID=America/New_York:20250814T100000
DTEND;TZID=America/New_York:20250814T120000
DTSTAMP:20260424T115750
CREATED:20250107T140901Z
LAST-MODIFIED:20250107T141721Z
UID:10000301-1755165600-1755172800@www.clintoncountyhousing.com
SUMMARY:Adult Computer Lab
DESCRIPTION:Adult Computer Lab is each Thursday from 10:00 am – 12:00 pm at the John Yost Community Center.
URL:https://www.clintoncountyhousing.com/event/adult-computer-lab-2/2025-08-14/
LOCATION:John Yost Community Center\, 180 Bennage Ave\, Lock Haven\, PA\, 17745\, United States
ORGANIZER;CN="Tenant Services Coordinator":MAILTO:roxanne@clintoncountyhousing.com
END:VEVENT
BEGIN:VEVENT
DTSTART;TZID=America/New_York:20250807T100000
DTEND;TZID=America/New_York:20250807T120000
DTSTAMP:20260424T115750
CREATED:20250107T140901Z
LAST-MODIFIED:20250107T141721Z
UID:10000300-1754560800-1754568000@www.clintoncountyhousing.com
SUMMARY:Adult Computer Lab
DESCRIPTION:Adult Computer Lab is each Thursday from 10:00 am – 12:00 pm at the John Yost Community Center.
URL:https://www.clintoncountyhousing.com/event/adult-computer-lab-2/2025-08-07/
LOCATION:John Yost Community Center\, 180 Bennage Ave\, Lock Haven\, PA\, 17745\, United States
ORGANIZER;CN="Tenant Services Coordinator":MAILTO:roxanne@clintoncountyhousing.com
END:VEVENT
BEGIN:VEVENT
DTSTART;TZID=America/New_York:20250806T140000
DTEND;TZID=America/New_York:20250806T150000
DTSTAMP:20260424T115750
CREATED:20250722T152705Z
LAST-MODIFIED:20250723T135426Z
UID:10000407-1754488800-1754492400@www.clintoncountyhousing.com
SUMMARY:Ransdorf Manor Summer Social
DESCRIPTION:Join us as we celebrate the End of Summer!  \nWe will provide a variety of Fresh Fruit\, Lemonade\, chips and pretzels. \nWe encourage you to bring a COLD dessert or your favorite dip. \n 
URL:https://www.clintoncountyhousing.com/event/ransdorf-manor-summer-social/
LOCATION:Ransdorf Manor\, 350 Huron Ave\, Renovo\, PA\, 17764\, United States
ORGANIZER;CN="Tenant Services Coordinator":MAILTO:roxanne@clintoncountyhousing.com
END:VEVENT
BEGIN:VEVENT
DTSTART;TZID=America/New_York:20250806T110000
DTEND;TZID=America/New_York:20250806T120000
DTSTAMP:20260424T115750
CREATED:20250722T152717Z
LAST-MODIFIED:20250723T135446Z
UID:10000406-1754478000-1754481600@www.clintoncountyhousing.com
SUMMARY:Putman Manor Summer Social
DESCRIPTION:Join us as we celebrate the End of Summer!  \nWe will provide a variety of Fresh Fruit\, Lemonade\, chips and pretzels. \nWe encourage you to bring a COLD dessert or your favorite dip. \n 
URL:https://www.clintoncountyhousing.com/event/putman-manor-summer-social/
LOCATION:Putnam Manor\, 335 Center St\, Lock Haven\, PA\, 17745\, United States
ORGANIZER;CN="Tenant Services Coordinator":MAILTO:roxanne@clintoncountyhousing.com
END:VEVENT
BEGIN:VEVENT
DTSTART;TZID=America/New_York:20250805T130000
DTEND;TZID=America/New_York:20250805T140000
DTSTAMP:20260424T115750
CREATED:20250722T152731Z
LAST-MODIFIED:20250723T135503Z
UID:10000405-1754398800-1754402400@www.clintoncountyhousing.com
SUMMARY:Probst Plaza Summer Social
DESCRIPTION:Join us as we celebrate the End of Summer!  \nWe will provide a variety of Fresh Fruit\, Lemonade\, chips and pretzels. \nWe encourage you to bring a COLD dessert or your favorite dip. \n 
URL:https://www.clintoncountyhousing.com/event/probst-plaza-summer-social/
LOCATION:Probst Plaza\, N Jones St\, Lock Haven\, PA\, 17745\, United States
ORGANIZER;CN="Tenant Services Coordinator":MAILTO:roxanne@clintoncountyhousing.com
END:VEVENT
BEGIN:VEVENT
DTSTART;TZID=America/New_York:20250805T110000
DTEND;TZID=America/New_York:20250805T120000
DTSTAMP:20260424T115750
CREATED:20250722T152743Z
LAST-MODIFIED:20250723T135519Z
UID:10000404-1754391600-1754395200@www.clintoncountyhousing.com
SUMMARY:Carter Towers Summer Social
DESCRIPTION:Join us as we celebrate the End of Summer!  \nWe will provide a variety of Fresh Fruit\, Lemonade\, chips and pretzels. \nWe encourage you to bring a COLD dessert or your favorite dip. \n 
URL:https://www.clintoncountyhousing.com/event/carter-towers-summer-social/
LOCATION:Carter Towers\, 11 S Jones St\, Lock Haven\, PA\, 17745\, United States
ORGANIZER;CN="Tenant Services Coordinator":MAILTO:roxanne@clintoncountyhousing.com
END:VEVENT
BEGIN:VEVENT
DTSTART;TZID=America/New_York:20250731T100000
DTEND;TZID=America/New_York:20250731T120000
DTSTAMP:20260424T115750
CREATED:20250107T140901Z
LAST-MODIFIED:20250107T141721Z
UID:10000299-1753956000-1753963200@www.clintoncountyhousing.com
SUMMARY:Adult Computer Lab
DESCRIPTION:Adult Computer Lab is each Thursday from 10:00 am – 12:00 pm at the John Yost Community Center.
URL:https://www.clintoncountyhousing.com/event/adult-computer-lab-2/2025-07-31/
LOCATION:John Yost Community Center\, 180 Bennage Ave\, Lock Haven\, PA\, 17745\, United States
ORGANIZER;CN="Tenant Services Coordinator":MAILTO:roxanne@clintoncountyhousing.com
END:VEVENT
BEGIN:VEVENT
DTSTART;TZID=America/New_York:20250724T100000
DTEND;TZID=America/New_York:20250724T120000
DTSTAMP:20260424T115750
CREATED:20250107T140901Z
LAST-MODIFIED:20250107T141721Z
UID:10000298-1753351200-1753358400@www.clintoncountyhousing.com
SUMMARY:Adult Computer Lab
DESCRIPTION:Adult Computer Lab is each Thursday from 10:00 am – 12:00 pm at the John Yost Community Center.
URL:https://www.clintoncountyhousing.com/event/adult-computer-lab-2/2025-07-24/
LOCATION:John Yost Community Center\, 180 Bennage Ave\, Lock Haven\, PA\, 17745\, United States
ORGANIZER;CN="Tenant Services Coordinator":MAILTO:roxanne@clintoncountyhousing.com
END:VEVENT
BEGIN:VEVENT
DTSTART;TZID=America/New_York:20250721T120000
DTEND;TZID=America/New_York:20250721T140000
DTSTAMP:20260424T115750
CREATED:20250107T143551Z
LAST-MODIFIED:20250404T171709Z
UID:10000370-1753099200-1753106400@www.clintoncountyhousing.com
SUMMARY:Central PA Food Bank - Fresh Express for Lock Haven
DESCRIPTION:
URL:https://www.clintoncountyhousing.com/event/central-pa-food-bank-fresh-express-for-lock-haven-2/2025-07-21/
LOCATION:John Yost Community Center\, 180 Bennage Ave\, Lock Haven\, PA\, 17745\, United States
END:VEVENT
BEGIN:VEVENT
DTSTART;TZID=America/New_York:20250721T100000
DTEND;TZID=America/New_York:20250721T120000
DTSTAMP:20260424T115750
CREATED:20250404T171743Z
LAST-MODIFIED:20250404T171855Z
UID:10000380-1753092000-1753099200@www.clintoncountyhousing.com
SUMMARY:Central PA Food Bank - Fresh Express for Renovo
DESCRIPTION:
URL:https://www.clintoncountyhousing.com/event/central-pa-food-bank-fresh-express-for-renovo-2-2/2025-07-21/
LOCATION:Ransdorf Manor\, 350 Huron Ave\, Renovo\, PA\, 17764\, United States
END:VEVENT
BEGIN:VEVENT
DTSTART;TZID=America/New_York:20250717T100000
DTEND;TZID=America/New_York:20250717T120000
DTSTAMP:20260424T115750
CREATED:20250107T140901Z
LAST-MODIFIED:20250107T141721Z
UID:10000297-1752746400-1752753600@www.clintoncountyhousing.com
SUMMARY:Adult Computer Lab
DESCRIPTION:Adult Computer Lab is each Thursday from 10:00 am – 12:00 pm at the John Yost Community Center.
URL:https://www.clintoncountyhousing.com/event/adult-computer-lab-2/2025-07-17/
LOCATION:John Yost Community Center\, 180 Bennage Ave\, Lock Haven\, PA\, 17745\, United States
ORGANIZER;CN="Tenant Services Coordinator":MAILTO:roxanne@clintoncountyhousing.com
END:VEVENT
BEGIN:VEVENT
DTSTART;TZID=America/New_York:20250710T100000
DTEND;TZID=America/New_York:20250710T120000
DTSTAMP:20260424T115750
CREATED:20250107T140901Z
LAST-MODIFIED:20250107T141721Z
UID:10000296-1752141600-1752148800@www.clintoncountyhousing.com
SUMMARY:Adult Computer Lab
DESCRIPTION:Adult Computer Lab is each Thursday from 10:00 am – 12:00 pm at the John Yost Community Center.
URL:https://www.clintoncountyhousing.com/event/adult-computer-lab-2/2025-07-10/
LOCATION:John Yost Community Center\, 180 Bennage Ave\, Lock Haven\, PA\, 17745\, United States
ORGANIZER;CN="Tenant Services Coordinator":MAILTO:roxanne@clintoncountyhousing.com
END:VEVENT
BEGIN:VEVENT
DTSTART;TZID=America/New_York:20250703T100000
DTEND;TZID=America/New_York:20250703T120000
DTSTAMP:20260424T115750
CREATED:20250107T140901Z
LAST-MODIFIED:20250107T141721Z
UID:10000295-1751536800-1751544000@www.clintoncountyhousing.com
SUMMARY:Adult Computer Lab
DESCRIPTION:Adult Computer Lab is each Thursday from 10:00 am – 12:00 pm at the John Yost Community Center.
URL:https://www.clintoncountyhousing.com/event/adult-computer-lab-2/2025-07-03/
LOCATION:John Yost Community Center\, 180 Bennage Ave\, Lock Haven\, PA\, 17745\, United States
ORGANIZER;CN="Tenant Services Coordinator":MAILTO:roxanne@clintoncountyhousing.com
END:VEVENT
BEGIN:VEVENT
DTSTART;TZID=America/New_York:20250626T100000
DTEND;TZID=America/New_York:20250626T120000
DTSTAMP:20260424T115750
CREATED:20250107T140901Z
LAST-MODIFIED:20250107T141721Z
UID:10000294-1750932000-1750939200@www.clintoncountyhousing.com
SUMMARY:Adult Computer Lab
DESCRIPTION:Adult Computer Lab is each Thursday from 10:00 am – 12:00 pm at the John Yost Community Center.
URL:https://www.clintoncountyhousing.com/event/adult-computer-lab-2/2025-06-26/
LOCATION:John Yost Community Center\, 180 Bennage Ave\, Lock Haven\, PA\, 17745\, United States
ORGANIZER;CN="Tenant Services Coordinator":MAILTO:roxanne@clintoncountyhousing.com
END:VEVENT
BEGIN:VEVENT
DTSTART;TZID=America/New_York:20250624T130000
DTEND;TZID=America/New_York:20250624T150000
DTSTAMP:20260424T115750
CREATED:20250107T142729Z
LAST-MODIFIED:20250724T215515Z
UID:10000357-1750770000-1750777200@www.clintoncountyhousing.com
SUMMARY:Putman Manor Prize Bingo
DESCRIPTION:
URL:https://www.clintoncountyhousing.com/event/putman-manor-prize-bingo/2025-06-24/
LOCATION:Putnam Manor\, 335 Center St\, Lock Haven\, PA\, 17745\, United States
END:VEVENT
BEGIN:VEVENT
DTSTART;TZID=America/New_York:20250619T100000
DTEND;TZID=America/New_York:20250619T120000
DTSTAMP:20260424T115750
CREATED:20250107T140901Z
LAST-MODIFIED:20250107T141721Z
UID:10000293-1750327200-1750334400@www.clintoncountyhousing.com
SUMMARY:Adult Computer Lab
DESCRIPTION:Adult Computer Lab is each Thursday from 10:00 am – 12:00 pm at the John Yost Community Center.
URL:https://www.clintoncountyhousing.com/event/adult-computer-lab-2/2025-06-19/
LOCATION:John Yost Community Center\, 180 Bennage Ave\, Lock Haven\, PA\, 17745\, United States
ORGANIZER;CN="Tenant Services Coordinator":MAILTO:roxanne@clintoncountyhousing.com
END:VEVENT
BEGIN:VEVENT
DTSTART;TZID=America/New_York:20250617T130000
DTEND;TZID=America/New_York:20250617T150000
DTSTAMP:20260424T115750
CREATED:20250107T142641Z
LAST-MODIFIED:20250724T215423Z
UID:10000346-1750165200-1750172400@www.clintoncountyhousing.com
SUMMARY:Ransdorf Manor Prize Bingo
DESCRIPTION:
URL:https://www.clintoncountyhousing.com/event/ransdorf-manor-prize-bingo/2025-06-17/
LOCATION:Ransdorf Manor\, 350 Huron Ave\, Renovo\, PA\, 17764\, United States
END:VEVENT
BEGIN:VEVENT
DTSTART;TZID=America/New_York:20250616T120000
DTEND;TZID=America/New_York:20250616T140000
DTSTAMP:20260424T115750
CREATED:20250107T143551Z
LAST-MODIFIED:20250404T171709Z
UID:10000369-1750075200-1750082400@www.clintoncountyhousing.com
SUMMARY:Central PA Food Bank - Fresh Express for Lock Haven
DESCRIPTION:
URL:https://www.clintoncountyhousing.com/event/central-pa-food-bank-fresh-express-for-lock-haven-2/2025-06-16/
LOCATION:John Yost Community Center\, 180 Bennage Ave\, Lock Haven\, PA\, 17745\, United States
END:VEVENT
BEGIN:VEVENT
DTSTART;TZID=America/New_York:20250616T100000
DTEND;TZID=America/New_York:20250616T120000
DTSTAMP:20260424T115750
CREATED:20250404T171743Z
LAST-MODIFIED:20250404T171855Z
UID:10000379-1750068000-1750075200@www.clintoncountyhousing.com
SUMMARY:Central PA Food Bank - Fresh Express for Renovo
DESCRIPTION:
URL:https://www.clintoncountyhousing.com/event/central-pa-food-bank-fresh-express-for-renovo-2-2/2025-06-16/
LOCATION:Ransdorf Manor\, 350 Huron Ave\, Renovo\, PA\, 17764\, United States
END:VEVENT
BEGIN:VEVENT
DTSTART;TZID=America/New_York:20250612T100000
DTEND;TZID=America/New_York:20250612T120000
DTSTAMP:20260424T115750
CREATED:20250107T140901Z
LAST-MODIFIED:20250107T141721Z
UID:10000292-1749722400-1749729600@www.clintoncountyhousing.com
SUMMARY:Adult Computer Lab
DESCRIPTION:Adult Computer Lab is each Thursday from 10:00 am – 12:00 pm at the John Yost Community Center.
URL:https://www.clintoncountyhousing.com/event/adult-computer-lab-2/2025-06-12/
LOCATION:John Yost Community Center\, 180 Bennage Ave\, Lock Haven\, PA\, 17745\, United States
ORGANIZER;CN="Tenant Services Coordinator":MAILTO:roxanne@clintoncountyhousing.com
END:VEVENT
BEGIN:VEVENT
DTSTART;TZID=America/New_York:20250611T120000
DTEND;TZID=America/New_York:20250611T140000
DTSTAMP:20260424T115750
CREATED:20250515T134951Z
LAST-MODIFIED:20250610T123159Z
UID:10000387-1749643200-1749650400@www.clintoncountyhousing.com
SUMMARY:2025 Family Bowling Party
DESCRIPTION:CCHA’s Annual Bowling Party at Clinton Lanes is June 11th\, 2025. \nThe party will be 12-2 pm. \nCCHA will provide pizza\, drinks and snacks. \n  \n \n 
URL:https://www.clintoncountyhousing.com/event/2025-family-bowling-party/
LOCATION:Clinton Lanes\, 529 High St\, Lock Haven\, PA\, 17745\, United States
ORGANIZER;CN="CCHA":MAILTO:roxanne@clintoncountyhousing.com
END:VEVENT
BEGIN:VEVENT
DTSTART;TZID=America/New_York:20250610T130000
DTEND;TZID=America/New_York:20250610T150000
DTSTAMP:20260424T115750
CREATED:20250107T142539Z
LAST-MODIFIED:20250716T133811Z
UID:10000335-1749560400-1749567600@www.clintoncountyhousing.com
SUMMARY:Probst Plaza Prize Bingo
DESCRIPTION:
URL:https://www.clintoncountyhousing.com/event/probst-plaza-prize-bingo/2025-06-10/
LOCATION:Probst Plaza\, N Jones St\, Lock Haven\, PA\, 17745\, United States
END:VEVENT
BEGIN:VEVENT
DTSTART;TZID=America/New_York:20250605T100000
DTEND;TZID=America/New_York:20250605T120000
DTSTAMP:20260424T115750
CREATED:20250107T140901Z
LAST-MODIFIED:20250107T141721Z
UID:10000291-1749117600-1749124800@www.clintoncountyhousing.com
SUMMARY:Adult Computer Lab
DESCRIPTION:Adult Computer Lab is each Thursday from 10:00 am – 12:00 pm at the John Yost Community Center.
URL:https://www.clintoncountyhousing.com/event/adult-computer-lab-2/2025-06-05/
LOCATION:John Yost Community Center\, 180 Bennage Ave\, Lock Haven\, PA\, 17745\, United States
ORGANIZER;CN="Tenant Services Coordinator":MAILTO:roxanne@clintoncountyhousing.com
END:VEVENT
BEGIN:VEVENT
DTSTART;TZID=America/New_York:20250603T130000
DTEND;TZID=America/New_York:20250603T150000
DTSTAMP:20260424T115750
CREATED:20250107T142434Z
LAST-MODIFIED:20250716T133740Z
UID:10000324-1748955600-1748962800@www.clintoncountyhousing.com
SUMMARY:Carter Towers (& Moriarty Court) Prize Bingo
DESCRIPTION:
URL:https://www.clintoncountyhousing.com/event/carter-towers-prize-bingo/2025-06-03/
LOCATION:Carter Towers\, 11 S Jones St\, Lock Haven\, PA\, 17745\, United States
END:VEVENT
BEGIN:VEVENT
DTSTART;TZID=America/New_York:20250529T100000
DTEND;TZID=America/New_York:20250529T120000
DTSTAMP:20260424T115750
CREATED:20250107T140901Z
LAST-MODIFIED:20250107T141721Z
UID:10000290-1748512800-1748520000@www.clintoncountyhousing.com
SUMMARY:Adult Computer Lab
DESCRIPTION:Adult Computer Lab is each Thursday from 10:00 am – 12:00 pm at the John Yost Community Center.
URL:https://www.clintoncountyhousing.com/event/adult-computer-lab-2/2025-05-29/
LOCATION:John Yost Community Center\, 180 Bennage Ave\, Lock Haven\, PA\, 17745\, United States
ORGANIZER;CN="Tenant Services Coordinator":MAILTO:roxanne@clintoncountyhousing.com
END:VEVENT
BEGIN:VEVENT
DTSTART;TZID=America/New_York:20250528T153000
DTEND;TZID=America/New_York:20250528T163000
DTSTAMP:20260424T115750
CREATED:20240806T185616Z
LAST-MODIFIED:20250724T220219Z
UID:10000253-1748446200-1748449800@www.clintoncountyhousing.com
SUMMARY:After School Program 2024 - 2025
DESCRIPTION:Mondays & Wednesdays from 3:30 to 4:30
URL:https://www.clintoncountyhousing.com/event/after-school-program/2025-05-28/
LOCATION:John Yost Community Center\, 180 Bennage Ave\, Lock Haven\, PA\, 17745\, United States
ORGANIZER;CN="Roxanne Gottshall":MAILTO:roxanne@clintoncountyhousing.com
END:VEVENT
BEGIN:VEVENT
DTSTART;TZID=America/New_York:20250527T130000
DTEND;TZID=America/New_York:20250527T150000
DTSTAMP:20260424T115750
CREATED:20250107T142729Z
LAST-MODIFIED:20250724T215515Z
UID:10000356-1748350800-1748358000@www.clintoncountyhousing.com
SUMMARY:Putman Manor Prize Bingo
DESCRIPTION:
URL:https://www.clintoncountyhousing.com/event/putman-manor-prize-bingo/2025-05-27/
LOCATION:Putnam Manor\, 335 Center St\, Lock Haven\, PA\, 17745\, United States
END:VEVENT
BEGIN:VEVENT
DTSTART;TZID=America/New_York:20250522T100000
DTEND;TZID=America/New_York:20250522T120000
DTSTAMP:20260424T115750
CREATED:20250107T140901Z
LAST-MODIFIED:20250107T141721Z
UID:10000289-1747908000-1747915200@www.clintoncountyhousing.com
SUMMARY:Adult Computer Lab
DESCRIPTION:Adult Computer Lab is each Thursday from 10:00 am – 12:00 pm at the John Yost Community Center.
URL:https://www.clintoncountyhousing.com/event/adult-computer-lab-2/2025-05-22/
LOCATION:John Yost Community Center\, 180 Bennage Ave\, Lock Haven\, PA\, 17745\, United States
ORGANIZER;CN="Tenant Services Coordinator":MAILTO:roxanne@clintoncountyhousing.com
END:VEVENT
BEGIN:VEVENT
DTSTART;TZID=America/New_York:20250521T153000
DTEND;TZID=America/New_York:20250521T163000
DTSTAMP:20260424T115750
CREATED:20240806T185616Z
LAST-MODIFIED:20250724T220219Z
UID:10000252-1747841400-1747845000@www.clintoncountyhousing.com
SUMMARY:After School Program 2024 - 2025
DESCRIPTION:Mondays & Wednesdays from 3:30 to 4:30
URL:https://www.clintoncountyhousing.com/event/after-school-program/2025-05-21/
LOCATION:John Yost Community Center\, 180 Bennage Ave\, Lock Haven\, PA\, 17745\, United States
ORGANIZER;CN="Roxanne Gottshall":MAILTO:roxanne@clintoncountyhousing.com
END:VEVENT
BEGIN:VEVENT
DTSTART;TZID=America/New_York:20250520T130000
DTEND;TZID=America/New_York:20250520T150000
DTSTAMP:20260424T115750
CREATED:20250107T142641Z
LAST-MODIFIED:20250724T215423Z
UID:10000345-1747746000-1747753200@www.clintoncountyhousing.com
SUMMARY:Ransdorf Manor Prize Bingo
DESCRIPTION:
URL:https://www.clintoncountyhousing.com/event/ransdorf-manor-prize-bingo/2025-05-20/
LOCATION:Ransdorf Manor\, 350 Huron Ave\, Renovo\, PA\, 17764\, United States
END:VEVENT
END:VCALENDAR