BEGIN:VCALENDAR
VERSION:2.0
PRODID:-//Clinton County Housing Authority - ECPv6.15.20//NONSGML v1.0//EN
CALSCALE:GREGORIAN
METHOD:PUBLISH
X-WR-CALNAME:Clinton County Housing Authority
X-ORIGINAL-URL:https://www.clintoncountyhousing.com
X-WR-CALDESC:Events for Clinton County Housing Authority
REFRESH-INTERVAL;VALUE=DURATION:PT1H
X-Robots-Tag:noindex
X-PUBLISHED-TTL:PT1H
BEGIN:VTIMEZONE
TZID:America/New_York
BEGIN:DAYLIGHT
TZOFFSETFROM:-0500
TZOFFSETTO:-0400
TZNAME:EDT
DTSTART:20240310T070000
END:DAYLIGHT
BEGIN:STANDARD
TZOFFSETFROM:-0400
TZOFFSETTO:-0500
TZNAME:EST
DTSTART:20241103T060000
END:STANDARD
BEGIN:DAYLIGHT
TZOFFSETFROM:-0500
TZOFFSETTO:-0400
TZNAME:EDT
DTSTART:20250309T070000
END:DAYLIGHT
BEGIN:STANDARD
TZOFFSETFROM:-0400
TZOFFSETTO:-0500
TZNAME:EST
DTSTART:20251102T060000
END:STANDARD
BEGIN:DAYLIGHT
TZOFFSETFROM:-0500
TZOFFSETTO:-0400
TZNAME:EDT
DTSTART:20260308T070000
END:DAYLIGHT
BEGIN:STANDARD
TZOFFSETFROM:-0400
TZOFFSETTO:-0500
TZNAME:EST
DTSTART:20261101T060000
END:STANDARD
END:VTIMEZONE
BEGIN:VEVENT
DTSTART;TZID=America/New_York:20250403T100000
DTEND;TZID=America/New_York:20250403T120000
DTSTAMP:20260425T073631
CREATED:20250107T140901Z
LAST-MODIFIED:20250107T141721Z
UID:10000282-1743674400-1743681600@www.clintoncountyhousing.com
SUMMARY:Adult Computer Lab
DESCRIPTION:Adult Computer Lab is each Thursday from 10:00 am – 12:00 pm at the John Yost Community Center.
URL:https://www.clintoncountyhousing.com/event/adult-computer-lab-2/2025-04-03/
LOCATION:John Yost Community Center\, 180 Bennage Ave\, Lock Haven\, PA\, 17745\, United States
ORGANIZER;CN="Tenant Services Coordinator":MAILTO:roxanne@clintoncountyhousing.com
END:VEVENT
BEGIN:VEVENT
DTSTART;TZID=America/New_York:20250402T153000
DTEND;TZID=America/New_York:20250402T163000
DTSTAMP:20260425T073631
CREATED:20240806T185616Z
LAST-MODIFIED:20250724T220219Z
UID:10000239-1743607800-1743611400@www.clintoncountyhousing.com
SUMMARY:After School Program 2024 - 2025
DESCRIPTION:Mondays & Wednesdays from 3:30 to 4:30
URL:https://www.clintoncountyhousing.com/event/after-school-program/2025-04-02/
LOCATION:John Yost Community Center\, 180 Bennage Ave\, Lock Haven\, PA\, 17745\, United States
ORGANIZER;CN="Roxanne Gottshall":MAILTO:roxanne@clintoncountyhousing.com
END:VEVENT
BEGIN:VEVENT
DTSTART;TZID=America/New_York:20250401T130000
DTEND;TZID=America/New_York:20250401T150000
DTSTAMP:20260425T073631
CREATED:20250107T142434Z
LAST-MODIFIED:20250716T133740Z
UID:10000322-1743512400-1743519600@www.clintoncountyhousing.com
SUMMARY:Carter Towers (& Moriarty Court) Prize Bingo
DESCRIPTION:
URL:https://www.clintoncountyhousing.com/event/carter-towers-prize-bingo/2025-04-01/
LOCATION:Carter Towers\, 11 S Jones St\, Lock Haven\, PA\, 17745\, United States
END:VEVENT
BEGIN:VEVENT
DTSTART;TZID=America/New_York:20250331T153000
DTEND;TZID=America/New_York:20250331T163000
DTSTAMP:20260425T073631
CREATED:20240806T185616Z
LAST-MODIFIED:20250724T220219Z
UID:10000238-1743435000-1743438600@www.clintoncountyhousing.com
SUMMARY:After School Program 2024 - 2025
DESCRIPTION:Mondays & Wednesdays from 3:30 to 4:30
URL:https://www.clintoncountyhousing.com/event/after-school-program/2025-03-31/
LOCATION:John Yost Community Center\, 180 Bennage Ave\, Lock Haven\, PA\, 17745\, United States
ORGANIZER;CN="Roxanne Gottshall":MAILTO:roxanne@clintoncountyhousing.com
END:VEVENT
BEGIN:VEVENT
DTSTART;TZID=America/New_York:20250327T100000
DTEND;TZID=America/New_York:20250327T120000
DTSTAMP:20260425T073631
CREATED:20250107T140901Z
LAST-MODIFIED:20250107T141721Z
UID:10000281-1743069600-1743076800@www.clintoncountyhousing.com
SUMMARY:Adult Computer Lab
DESCRIPTION:Adult Computer Lab is each Thursday from 10:00 am – 12:00 pm at the John Yost Community Center.
URL:https://www.clintoncountyhousing.com/event/adult-computer-lab-2/2025-03-27/
LOCATION:John Yost Community Center\, 180 Bennage Ave\, Lock Haven\, PA\, 17745\, United States
ORGANIZER;CN="Tenant Services Coordinator":MAILTO:roxanne@clintoncountyhousing.com
END:VEVENT
BEGIN:VEVENT
DTSTART;TZID=America/New_York:20250326T153000
DTEND;TZID=America/New_York:20250326T163000
DTSTAMP:20260425T073631
CREATED:20240806T185616Z
LAST-MODIFIED:20250724T220219Z
UID:10000237-1743003000-1743006600@www.clintoncountyhousing.com
SUMMARY:After School Program 2024 - 2025
DESCRIPTION:Mondays & Wednesdays from 3:30 to 4:30
URL:https://www.clintoncountyhousing.com/event/after-school-program/2025-03-26/
LOCATION:John Yost Community Center\, 180 Bennage Ave\, Lock Haven\, PA\, 17745\, United States
ORGANIZER;CN="Roxanne Gottshall":MAILTO:roxanne@clintoncountyhousing.com
END:VEVENT
BEGIN:VEVENT
DTSTART;TZID=America/New_York:20250325T130000
DTEND;TZID=America/New_York:20250325T150000
DTSTAMP:20260425T073631
CREATED:20250107T142729Z
LAST-MODIFIED:20250724T215515Z
UID:10000354-1742907600-1742914800@www.clintoncountyhousing.com
SUMMARY:Putman Manor Prize Bingo
DESCRIPTION:
URL:https://www.clintoncountyhousing.com/event/putman-manor-prize-bingo/2025-03-25/
LOCATION:Putnam Manor\, 335 Center St\, Lock Haven\, PA\, 17745\, United States
END:VEVENT
BEGIN:VEVENT
DTSTART;TZID=America/New_York:20250324T153000
DTEND;TZID=America/New_York:20250324T163000
DTSTAMP:20260425T073631
CREATED:20240806T185616Z
LAST-MODIFIED:20250724T220219Z
UID:10000236-1742830200-1742833800@www.clintoncountyhousing.com
SUMMARY:After School Program 2024 - 2025
DESCRIPTION:Mondays & Wednesdays from 3:30 to 4:30
URL:https://www.clintoncountyhousing.com/event/after-school-program/2025-03-24/
LOCATION:John Yost Community Center\, 180 Bennage Ave\, Lock Haven\, PA\, 17745\, United States
ORGANIZER;CN="Roxanne Gottshall":MAILTO:roxanne@clintoncountyhousing.com
END:VEVENT
BEGIN:VEVENT
DTSTART;TZID=America/New_York:20250320T100000
DTEND;TZID=America/New_York:20250320T120000
DTSTAMP:20260425T073631
CREATED:20250107T140901Z
LAST-MODIFIED:20250107T141721Z
UID:10000280-1742464800-1742472000@www.clintoncountyhousing.com
SUMMARY:Adult Computer Lab
DESCRIPTION:Adult Computer Lab is each Thursday from 10:00 am – 12:00 pm at the John Yost Community Center.
URL:https://www.clintoncountyhousing.com/event/adult-computer-lab-2/2025-03-20/
LOCATION:John Yost Community Center\, 180 Bennage Ave\, Lock Haven\, PA\, 17745\, United States
ORGANIZER;CN="Tenant Services Coordinator":MAILTO:roxanne@clintoncountyhousing.com
END:VEVENT
BEGIN:VEVENT
DTSTART;TZID=America/New_York:20250319T180000
DTEND;TZID=America/New_York:20250319T190000
DTSTAMP:20260425T073631
CREATED:20250220T145101Z
LAST-MODIFIED:20250220T145830Z
UID:10000391-1742407200-1742410800@www.clintoncountyhousing.com
SUMMARY:Reading Across PA
DESCRIPTION:  \nCCHA and BENV Kiwanis host Reading Across PA at the John Yost Community Center on March 19\, 2025\,  from 6 to 7 pm \n  \n🎶🎵🎶🎵 The theme is MUSIC!! 🎵🎶🎵🎶 \n  \nWe will have a variety of fun activities\, including reading books about Music. We will have Arts & Crafts and Making Noice Makers. We will offer pizza\, drinks and snacks. \nSPECIAL GUESTS from Keystone Central School District Band will be here with their instruments\, to provide a little demonstration and share their knowledge of the music. \nSign-ups are required for this event. You can sign up here\, you can sign up from the flyer distributed and scanning the QR Code\, or by contacting Roxanne or Tia at 570-893-1911.
URL:https://www.clintoncountyhousing.com/event/reading-across-pa/
LOCATION:John Yost Community Center\, 180 Bennage Ave\, Lock Haven\, PA\, 17745\, United States
ORGANIZER;CN="Tenant Services Coordinator":MAILTO:roxanne@clintoncountyhousing.com
END:VEVENT
BEGIN:VEVENT
DTSTART;TZID=America/New_York:20250319T153000
DTEND;TZID=America/New_York:20250319T163000
DTSTAMP:20260425T073631
CREATED:20240806T185616Z
LAST-MODIFIED:20250724T220219Z
UID:10000235-1742398200-1742401800@www.clintoncountyhousing.com
SUMMARY:After School Program 2024 - 2025
DESCRIPTION:Mondays & Wednesdays from 3:30 to 4:30
URL:https://www.clintoncountyhousing.com/event/after-school-program/2025-03-19/
LOCATION:John Yost Community Center\, 180 Bennage Ave\, Lock Haven\, PA\, 17745\, United States
ORGANIZER;CN="Roxanne Gottshall":MAILTO:roxanne@clintoncountyhousing.com
END:VEVENT
BEGIN:VEVENT
DTSTART;TZID=America/New_York:20250318T130000
DTEND;TZID=America/New_York:20250318T150000
DTSTAMP:20260425T073631
CREATED:20250107T142641Z
LAST-MODIFIED:20250724T215423Z
UID:10000343-1742302800-1742310000@www.clintoncountyhousing.com
SUMMARY:Ransdorf Manor Prize Bingo
DESCRIPTION:
URL:https://www.clintoncountyhousing.com/event/ransdorf-manor-prize-bingo/2025-03-18/
LOCATION:Ransdorf Manor\, 350 Huron Ave\, Renovo\, PA\, 17764\, United States
END:VEVENT
BEGIN:VEVENT
DTSTART;TZID=America/New_York:20250317T100000
DTEND;TZID=America/New_York:20250317T120000
DTSTAMP:20260425T073631
CREATED:20250107T143649Z
LAST-MODIFIED:20250107T143649Z
UID:10000376-1742205600-1742212800@www.clintoncountyhousing.com
SUMMARY:Central PA Food Bank - Fresh Express for Renovo
DESCRIPTION:
URL:https://www.clintoncountyhousing.com/event/central-pa-food-bank-fresh-express-for-renovo-2/
LOCATION:Ransdorf Manor\, 350 Huron Ave\, Renovo\, PA\, 17764\, United States
END:VEVENT
BEGIN:VEVENT
DTSTART;TZID=America/New_York:20250313T100000
DTEND;TZID=America/New_York:20250313T120000
DTSTAMP:20260425T073631
CREATED:20250107T140901Z
LAST-MODIFIED:20250107T141721Z
UID:10000279-1741860000-1741867200@www.clintoncountyhousing.com
SUMMARY:Adult Computer Lab
DESCRIPTION:Adult Computer Lab is each Thursday from 10:00 am – 12:00 pm at the John Yost Community Center.
URL:https://www.clintoncountyhousing.com/event/adult-computer-lab-2/2025-03-13/
LOCATION:John Yost Community Center\, 180 Bennage Ave\, Lock Haven\, PA\, 17745\, United States
ORGANIZER;CN="Tenant Services Coordinator":MAILTO:roxanne@clintoncountyhousing.com
END:VEVENT
BEGIN:VEVENT
DTSTART;TZID=America/New_York:20250312T153000
DTEND;TZID=America/New_York:20250312T163000
DTSTAMP:20260425T073631
CREATED:20240806T185616Z
LAST-MODIFIED:20250724T220219Z
UID:10000234-1741793400-1741797000@www.clintoncountyhousing.com
SUMMARY:After School Program 2024 - 2025
DESCRIPTION:Mondays & Wednesdays from 3:30 to 4:30
URL:https://www.clintoncountyhousing.com/event/after-school-program/2025-03-12/
LOCATION:John Yost Community Center\, 180 Bennage Ave\, Lock Haven\, PA\, 17745\, United States
ORGANIZER;CN="Roxanne Gottshall":MAILTO:roxanne@clintoncountyhousing.com
END:VEVENT
BEGIN:VEVENT
DTSTART;TZID=America/New_York:20250311T130000
DTEND;TZID=America/New_York:20250311T150000
DTSTAMP:20260425T073631
CREATED:20250107T142539Z
LAST-MODIFIED:20250716T133811Z
UID:10000332-1741698000-1741705200@www.clintoncountyhousing.com
SUMMARY:Probst Plaza Prize Bingo
DESCRIPTION:
URL:https://www.clintoncountyhousing.com/event/probst-plaza-prize-bingo/2025-03-11/
LOCATION:Probst Plaza\, N Jones St\, Lock Haven\, PA\, 17745\, United States
END:VEVENT
BEGIN:VEVENT
DTSTART;TZID=America/New_York:20250310T153000
DTEND;TZID=America/New_York:20250310T163000
DTSTAMP:20260425T073631
CREATED:20240806T185616Z
LAST-MODIFIED:20250724T220219Z
UID:10000233-1741620600-1741624200@www.clintoncountyhousing.com
SUMMARY:After School Program 2024 - 2025
DESCRIPTION:Mondays & Wednesdays from 3:30 to 4:30
URL:https://www.clintoncountyhousing.com/event/after-school-program/2025-03-10/
LOCATION:John Yost Community Center\, 180 Bennage Ave\, Lock Haven\, PA\, 17745\, United States
ORGANIZER;CN="Roxanne Gottshall":MAILTO:roxanne@clintoncountyhousing.com
END:VEVENT
BEGIN:VEVENT
DTSTART;TZID=America/New_York:20250306T100000
DTEND;TZID=America/New_York:20250306T120000
DTSTAMP:20260425T073631
CREATED:20250107T140901Z
LAST-MODIFIED:20250107T141721Z
UID:10000278-1741255200-1741262400@www.clintoncountyhousing.com
SUMMARY:Adult Computer Lab
DESCRIPTION:Adult Computer Lab is each Thursday from 10:00 am – 12:00 pm at the John Yost Community Center.
URL:https://www.clintoncountyhousing.com/event/adult-computer-lab-2/2025-03-06/
LOCATION:John Yost Community Center\, 180 Bennage Ave\, Lock Haven\, PA\, 17745\, United States
ORGANIZER;CN="Tenant Services Coordinator":MAILTO:roxanne@clintoncountyhousing.com
END:VEVENT
BEGIN:VEVENT
DTSTART;TZID=America/New_York:20250305T153000
DTEND;TZID=America/New_York:20250305T163000
DTSTAMP:20260425T073631
CREATED:20240806T185616Z
LAST-MODIFIED:20250724T220219Z
UID:10000232-1741188600-1741192200@www.clintoncountyhousing.com
SUMMARY:After School Program 2024 - 2025
DESCRIPTION:Mondays & Wednesdays from 3:30 to 4:30
URL:https://www.clintoncountyhousing.com/event/after-school-program/2025-03-05/
LOCATION:John Yost Community Center\, 180 Bennage Ave\, Lock Haven\, PA\, 17745\, United States
ORGANIZER;CN="Roxanne Gottshall":MAILTO:roxanne@clintoncountyhousing.com
END:VEVENT
BEGIN:VEVENT
DTSTART;TZID=America/New_York:20250304T130000
DTEND;TZID=America/New_York:20250304T150000
DTSTAMP:20260425T073631
CREATED:20250107T142434Z
LAST-MODIFIED:20250716T133740Z
UID:10000321-1741093200-1741100400@www.clintoncountyhousing.com
SUMMARY:Carter Towers (& Moriarty Court) Prize Bingo
DESCRIPTION:
URL:https://www.clintoncountyhousing.com/event/carter-towers-prize-bingo/2025-03-04/
LOCATION:Carter Towers\, 11 S Jones St\, Lock Haven\, PA\, 17745\, United States
END:VEVENT
BEGIN:VEVENT
DTSTART;TZID=America/New_York:20250303T153000
DTEND;TZID=America/New_York:20250303T163000
DTSTAMP:20260425T073631
CREATED:20240806T185616Z
LAST-MODIFIED:20250724T220219Z
UID:10000231-1741015800-1741019400@www.clintoncountyhousing.com
SUMMARY:After School Program 2024 - 2025
DESCRIPTION:Mondays & Wednesdays from 3:30 to 4:30
URL:https://www.clintoncountyhousing.com/event/after-school-program/2025-03-03/
LOCATION:John Yost Community Center\, 180 Bennage Ave\, Lock Haven\, PA\, 17745\, United States
ORGANIZER;CN="Roxanne Gottshall":MAILTO:roxanne@clintoncountyhousing.com
END:VEVENT
BEGIN:VEVENT
DTSTART;TZID=America/New_York:20250227T100000
DTEND;TZID=America/New_York:20250227T120000
DTSTAMP:20260425T073631
CREATED:20250107T140901Z
LAST-MODIFIED:20250107T141721Z
UID:10000277-1740650400-1740657600@www.clintoncountyhousing.com
SUMMARY:Adult Computer Lab
DESCRIPTION:Adult Computer Lab is each Thursday from 10:00 am – 12:00 pm at the John Yost Community Center.
URL:https://www.clintoncountyhousing.com/event/adult-computer-lab-2/2025-02-27/
LOCATION:John Yost Community Center\, 180 Bennage Ave\, Lock Haven\, PA\, 17745\, United States
ORGANIZER;CN="Tenant Services Coordinator":MAILTO:roxanne@clintoncountyhousing.com
END:VEVENT
BEGIN:VEVENT
DTSTART;TZID=America/New_York:20250226T153000
DTEND;TZID=America/New_York:20250226T163000
DTSTAMP:20260425T073631
CREATED:20240806T185616Z
LAST-MODIFIED:20250724T220219Z
UID:10000230-1740583800-1740587400@www.clintoncountyhousing.com
SUMMARY:After School Program 2024 - 2025
DESCRIPTION:Mondays & Wednesdays from 3:30 to 4:30
URL:https://www.clintoncountyhousing.com/event/after-school-program/2025-02-26/
LOCATION:John Yost Community Center\, 180 Bennage Ave\, Lock Haven\, PA\, 17745\, United States
ORGANIZER;CN="Roxanne Gottshall":MAILTO:roxanne@clintoncountyhousing.com
END:VEVENT
BEGIN:VEVENT
DTSTART;TZID=America/New_York:20250225T170000
DTEND;TZID=America/New_York:20250225T180000
DTSTAMP:20260425T073631
CREATED:20250210T151255Z
LAST-MODIFIED:20250210T151255Z
UID:10000390-1740502800-1740506400@www.clintoncountyhousing.com
SUMMARY:Homeownership Workshop
DESCRIPTION:CCHA FSS Program & Davis Real Estate Present: Homeownership Workshop.\nTuesday\, February 25\, 2025. 5:00-6:00 pm\, at the John Yost Community Center.\nA representative from a local bank will be on hand to discuss the loan process and credit score assistance along with Patty Davis\, Owner of Davis Real Estate. \nLight refreshments will be provided. \nSign up is required. Contact Tia at 570-893-1911
URL:https://www.clintoncountyhousing.com/event/homeownership-workshop/
LOCATION:John Yost Community Center\, 180 Bennage Ave\, Lock Haven\, PA\, 17745\, United States
ORGANIZER;CN="CCHA FSS Coordinator":MAILTO:tia@clintoncountyhousing.com
END:VEVENT
BEGIN:VEVENT
DTSTART;TZID=America/New_York:20250225T130000
DTEND;TZID=America/New_York:20250225T150000
DTSTAMP:20260425T073631
CREATED:20250130T143801Z
LAST-MODIFIED:20250130T143801Z
UID:10000389-1740488400-1740495600@www.clintoncountyhousing.com
SUMMARY:Ransdorf Manor Prize Bingo
DESCRIPTION:
URL:https://www.clintoncountyhousing.com/event/ransdorf-manor-prize-bingo-2/
LOCATION:Ransdorf Manor\, 350 Huron Ave\, Renovo\, PA\, 17764\, United States
END:VEVENT
BEGIN:VEVENT
DTSTART;TZID=America/New_York:20250224T153000
DTEND;TZID=America/New_York:20250224T163000
DTSTAMP:20260425T073631
CREATED:20240806T185616Z
LAST-MODIFIED:20250724T220219Z
UID:10000229-1740411000-1740414600@www.clintoncountyhousing.com
SUMMARY:After School Program 2024 - 2025
DESCRIPTION:Mondays & Wednesdays from 3:30 to 4:30
URL:https://www.clintoncountyhousing.com/event/after-school-program/2025-02-24/
LOCATION:John Yost Community Center\, 180 Bennage Ave\, Lock Haven\, PA\, 17745\, United States
ORGANIZER;CN="Roxanne Gottshall":MAILTO:roxanne@clintoncountyhousing.com
END:VEVENT
BEGIN:VEVENT
DTSTART;TZID=America/New_York:20250224T120000
DTEND;TZID=America/New_York:20250224T140000
DTSTAMP:20260425T073631
CREATED:20250107T143203Z
LAST-MODIFIED:20250107T143203Z
UID:10000365-1740398400-1740405600@www.clintoncountyhousing.com
SUMMARY:Central PA Food Bank - Fresh Express for Lock Haven
DESCRIPTION:
URL:https://www.clintoncountyhousing.com/event/central-pa-food-bank-fresh-express-for-lock-haven/
LOCATION:John Yost Community Center\, 180 Bennage Ave\, Lock Haven\, PA\, 17745\, United States
END:VEVENT
BEGIN:VEVENT
DTSTART;TZID=America/New_York:20250224T100000
DTEND;TZID=America/New_York:20250224T120000
DTSTAMP:20260425T073631
CREATED:20250107T143118Z
LAST-MODIFIED:20250107T143118Z
UID:10000364-1740391200-1740398400@www.clintoncountyhousing.com
SUMMARY:Central PA Food Bank - Fresh Express for Renovo
DESCRIPTION:
URL:https://www.clintoncountyhousing.com/event/central-pa-food-bank-fresh-express-for-renovo/
LOCATION:Ransdorf Manor\, 350 Huron Ave\, Renovo\, PA\, 17764\, United States
END:VEVENT
BEGIN:VEVENT
DTSTART;TZID=America/New_York:20250220T100000
DTEND;TZID=America/New_York:20250220T120000
DTSTAMP:20260425T073631
CREATED:20250107T140901Z
LAST-MODIFIED:20250107T141721Z
UID:10000276-1740045600-1740052800@www.clintoncountyhousing.com
SUMMARY:Adult Computer Lab
DESCRIPTION:Adult Computer Lab is each Thursday from 10:00 am – 12:00 pm at the John Yost Community Center.
URL:https://www.clintoncountyhousing.com/event/adult-computer-lab-2/2025-02-20/
LOCATION:John Yost Community Center\, 180 Bennage Ave\, Lock Haven\, PA\, 17745\, United States
ORGANIZER;CN="Tenant Services Coordinator":MAILTO:roxanne@clintoncountyhousing.com
END:VEVENT
BEGIN:VEVENT
DTSTART;TZID=America/New_York:20250219T153000
DTEND;TZID=America/New_York:20250219T163000
DTSTAMP:20260425T073631
CREATED:20240806T185616Z
LAST-MODIFIED:20250724T220219Z
UID:10000228-1739979000-1739982600@www.clintoncountyhousing.com
SUMMARY:After School Program 2024 - 2025
DESCRIPTION:Mondays & Wednesdays from 3:30 to 4:30
URL:https://www.clintoncountyhousing.com/event/after-school-program/2025-02-19/
LOCATION:John Yost Community Center\, 180 Bennage Ave\, Lock Haven\, PA\, 17745\, United States
ORGANIZER;CN="Roxanne Gottshall":MAILTO:roxanne@clintoncountyhousing.com
END:VEVENT
END:VCALENDAR