BEGIN:VCALENDAR
VERSION:2.0
PRODID:-//Clinton County Housing Authority - ECPv6.15.20//NONSGML v1.0//EN
CALSCALE:GREGORIAN
METHOD:PUBLISH
X-WR-CALNAME:Clinton County Housing Authority
X-ORIGINAL-URL:https://www.clintoncountyhousing.com
X-WR-CALDESC:Events for Clinton County Housing Authority
REFRESH-INTERVAL;VALUE=DURATION:PT1H
X-Robots-Tag:noindex
X-PUBLISHED-TTL:PT1H
BEGIN:VTIMEZONE
TZID:America/New_York
BEGIN:DAYLIGHT
TZOFFSETFROM:-0500
TZOFFSETTO:-0400
TZNAME:EDT
DTSTART:20240310T070000
END:DAYLIGHT
BEGIN:STANDARD
TZOFFSETFROM:-0400
TZOFFSETTO:-0500
TZNAME:EST
DTSTART:20241103T060000
END:STANDARD
BEGIN:DAYLIGHT
TZOFFSETFROM:-0500
TZOFFSETTO:-0400
TZNAME:EDT
DTSTART:20250309T070000
END:DAYLIGHT
BEGIN:STANDARD
TZOFFSETFROM:-0400
TZOFFSETTO:-0500
TZNAME:EST
DTSTART:20251102T060000
END:STANDARD
BEGIN:DAYLIGHT
TZOFFSETFROM:-0500
TZOFFSETTO:-0400
TZNAME:EDT
DTSTART:20260308T070000
END:DAYLIGHT
BEGIN:STANDARD
TZOFFSETFROM:-0400
TZOFFSETTO:-0500
TZNAME:EST
DTSTART:20261101T060000
END:STANDARD
END:VTIMEZONE
BEGIN:VEVENT
DTSTART;TZID=America/New_York:20250507T153000
DTEND;TZID=America/New_York:20250507T163000
DTSTAMP:20260425T095119
CREATED:20240806T185616Z
LAST-MODIFIED:20250724T220219Z
UID:10000248-1746631800-1746635400@www.clintoncountyhousing.com
SUMMARY:After School Program 2024 - 2025
DESCRIPTION:Mondays & Wednesdays from 3:30 to 4:30
URL:https://www.clintoncountyhousing.com/event/after-school-program/2025-05-07/
LOCATION:John Yost Community Center\, 180 Bennage Ave\, Lock Haven\, PA\, 17745\, United States
ORGANIZER;CN="Roxanne Gottshall":MAILTO:roxanne@clintoncountyhousing.com
END:VEVENT
BEGIN:VEVENT
DTSTART;TZID=America/New_York:20250506T130000
DTEND;TZID=America/New_York:20250506T150000
DTSTAMP:20260425T095119
CREATED:20250107T142434Z
LAST-MODIFIED:20250716T133740Z
UID:10000323-1746536400-1746543600@www.clintoncountyhousing.com
SUMMARY:Carter Towers (& Moriarty Court) Prize Bingo
DESCRIPTION:
URL:https://www.clintoncountyhousing.com/event/carter-towers-prize-bingo/2025-05-06/
LOCATION:Carter Towers\, 11 S Jones St\, Lock Haven\, PA\, 17745\, United States
END:VEVENT
BEGIN:VEVENT
DTSTART;TZID=America/New_York:20250505T153000
DTEND;TZID=America/New_York:20250505T163000
DTSTAMP:20260425T095119
CREATED:20240806T185616Z
LAST-MODIFIED:20250724T220219Z
UID:10000247-1746459000-1746462600@www.clintoncountyhousing.com
SUMMARY:After School Program 2024 - 2025
DESCRIPTION:Mondays & Wednesdays from 3:30 to 4:30
URL:https://www.clintoncountyhousing.com/event/after-school-program/2025-05-05/
LOCATION:John Yost Community Center\, 180 Bennage Ave\, Lock Haven\, PA\, 17745\, United States
ORGANIZER;CN="Roxanne Gottshall":MAILTO:roxanne@clintoncountyhousing.com
END:VEVENT
BEGIN:VEVENT
DTSTART;TZID=America/New_York:20250501T100000
DTEND;TZID=America/New_York:20250501T120000
DTSTAMP:20260425T095119
CREATED:20250107T140901Z
LAST-MODIFIED:20250107T141721Z
UID:10000286-1746093600-1746100800@www.clintoncountyhousing.com
SUMMARY:Adult Computer Lab
DESCRIPTION:Adult Computer Lab is each Thursday from 10:00 am – 12:00 pm at the John Yost Community Center.
URL:https://www.clintoncountyhousing.com/event/adult-computer-lab-2/2025-05-01/
LOCATION:John Yost Community Center\, 180 Bennage Ave\, Lock Haven\, PA\, 17745\, United States
ORGANIZER;CN="Tenant Services Coordinator":MAILTO:roxanne@clintoncountyhousing.com
END:VEVENT
BEGIN:VEVENT
DTSTART;TZID=America/New_York:20250430T153000
DTEND;TZID=America/New_York:20250430T163000
DTSTAMP:20260425T095119
CREATED:20240806T185616Z
LAST-MODIFIED:20250724T220219Z
UID:10000246-1746027000-1746030600@www.clintoncountyhousing.com
SUMMARY:After School Program 2024 - 2025
DESCRIPTION:Mondays & Wednesdays from 3:30 to 4:30
URL:https://www.clintoncountyhousing.com/event/after-school-program/2025-04-30/
LOCATION:John Yost Community Center\, 180 Bennage Ave\, Lock Haven\, PA\, 17745\, United States
ORGANIZER;CN="Roxanne Gottshall":MAILTO:roxanne@clintoncountyhousing.com
END:VEVENT
BEGIN:VEVENT
DTSTART;TZID=America/New_York:20250428T153000
DTEND;TZID=America/New_York:20250428T163000
DTSTAMP:20260425T095119
CREATED:20240806T185616Z
LAST-MODIFIED:20250724T220219Z
UID:10000245-1745854200-1745857800@www.clintoncountyhousing.com
SUMMARY:After School Program 2024 - 2025
DESCRIPTION:Mondays & Wednesdays from 3:30 to 4:30
URL:https://www.clintoncountyhousing.com/event/after-school-program/2025-04-28/
LOCATION:John Yost Community Center\, 180 Bennage Ave\, Lock Haven\, PA\, 17745\, United States
ORGANIZER;CN="Roxanne Gottshall":MAILTO:roxanne@clintoncountyhousing.com
END:VEVENT
BEGIN:VEVENT
DTSTART;TZID=America/New_York:20250424T100000
DTEND;TZID=America/New_York:20250424T120000
DTSTAMP:20260425T095119
CREATED:20250107T140901Z
LAST-MODIFIED:20250107T141721Z
UID:10000285-1745488800-1745496000@www.clintoncountyhousing.com
SUMMARY:Adult Computer Lab
DESCRIPTION:Adult Computer Lab is each Thursday from 10:00 am – 12:00 pm at the John Yost Community Center.
URL:https://www.clintoncountyhousing.com/event/adult-computer-lab-2/2025-04-24/
LOCATION:John Yost Community Center\, 180 Bennage Ave\, Lock Haven\, PA\, 17745\, United States
ORGANIZER;CN="Tenant Services Coordinator":MAILTO:roxanne@clintoncountyhousing.com
END:VEVENT
BEGIN:VEVENT
DTSTART;TZID=America/New_York:20250423T153000
DTEND;TZID=America/New_York:20250423T163000
DTSTAMP:20260425T095119
CREATED:20240806T185616Z
LAST-MODIFIED:20250724T220219Z
UID:10000244-1745422200-1745425800@www.clintoncountyhousing.com
SUMMARY:After School Program 2024 - 2025
DESCRIPTION:Mondays & Wednesdays from 3:30 to 4:30
URL:https://www.clintoncountyhousing.com/event/after-school-program/2025-04-23/
LOCATION:John Yost Community Center\, 180 Bennage Ave\, Lock Haven\, PA\, 17745\, United States
ORGANIZER;CN="Roxanne Gottshall":MAILTO:roxanne@clintoncountyhousing.com
END:VEVENT
BEGIN:VEVENT
DTSTART;TZID=America/New_York:20250422T130000
DTEND;TZID=America/New_York:20250422T150000
DTSTAMP:20260425T095119
CREATED:20250107T142729Z
LAST-MODIFIED:20250724T215515Z
UID:10000355-1745326800-1745334000@www.clintoncountyhousing.com
SUMMARY:Putman Manor Prize Bingo
DESCRIPTION:
URL:https://www.clintoncountyhousing.com/event/putman-manor-prize-bingo/2025-04-22/
LOCATION:Putnam Manor\, 335 Center St\, Lock Haven\, PA\, 17745\, United States
END:VEVENT
BEGIN:VEVENT
DTSTART;TZID=America/New_York:20250418T120000
DTEND;TZID=America/New_York:20250418T130000
DTSTAMP:20260425T095119
CREATED:20250305T140928Z
LAST-MODIFIED:20250403T122703Z
UID:10000386-1744977600-1744981200@www.clintoncountyhousing.com
SUMMARY:Annual Easter Egg Hunt - Lock Haven
DESCRIPTION:The 2025 Annual Easter Egg hunt will be held at the John Yost Community Center.  \nThis will take place on Friday\, April 18\, 2025\, at 12:30. \nRaffle Baskets and Prizes for the kids! \nRegistration is REQUIRED for this event. \nDeadline for Registration is Wednesday April 16\, 2025 \n \n 
URL:https://www.clintoncountyhousing.com/event/annual-easter-egg-hunt/
LOCATION:John Yost Community Center\, 180 Bennage Ave\, Lock Haven\, PA\, 17745\, United States
END:VEVENT
BEGIN:VEVENT
DTSTART;TZID=America/New_York:20250418T100000
DTEND;TZID=America/New_York:20250418T110000
DTSTAMP:20260425T095119
CREATED:20250403T122722Z
LAST-MODIFIED:20250403T122722Z
UID:10000400-1744970400-1744974000@www.clintoncountyhousing.com
SUMMARY:Annual Easter Egg Hunt - Renovo
DESCRIPTION:The 2025 Annual Easter Egg hunt will be held at the Schuylkill Avenue circle.  \nThis will take place on Friday\, April 18\, 2025\, at 10:00 am. \nRaffle Baskets and Prizes for the kids! \nRegistration is REQUIRED for this event. \nDeadline for Registration is Wednesday April 16\, 2025 \n \n 
URL:https://www.clintoncountyhousing.com/event/annual-easter-egg-hunt-renovo/
LOCATION:Schuylkill Ave\, Renovo\, 17764\, United States
ORGANIZER;CN="Tenant Services Coordinator":MAILTO:roxanne@clintoncountyhousing.com
END:VEVENT
BEGIN:VEVENT
DTSTART;TZID=America/New_York:20250417T100000
DTEND;TZID=America/New_York:20250417T120000
DTSTAMP:20260425T095119
CREATED:20250107T140901Z
LAST-MODIFIED:20250107T141721Z
UID:10000284-1744884000-1744891200@www.clintoncountyhousing.com
SUMMARY:Adult Computer Lab
DESCRIPTION:Adult Computer Lab is each Thursday from 10:00 am – 12:00 pm at the John Yost Community Center.
URL:https://www.clintoncountyhousing.com/event/adult-computer-lab-2/2025-04-17/
LOCATION:John Yost Community Center\, 180 Bennage Ave\, Lock Haven\, PA\, 17745\, United States
ORGANIZER;CN="Tenant Services Coordinator":MAILTO:roxanne@clintoncountyhousing.com
END:VEVENT
BEGIN:VEVENT
DTSTART;TZID=America/New_York:20250416T153000
DTEND;TZID=America/New_York:20250416T163000
DTSTAMP:20260425T095119
CREATED:20240806T185616Z
LAST-MODIFIED:20250724T220219Z
UID:10000243-1744817400-1744821000@www.clintoncountyhousing.com
SUMMARY:After School Program 2024 - 2025
DESCRIPTION:Mondays & Wednesdays from 3:30 to 4:30
URL:https://www.clintoncountyhousing.com/event/after-school-program/2025-04-16/
LOCATION:John Yost Community Center\, 180 Bennage Ave\, Lock Haven\, PA\, 17745\, United States
ORGANIZER;CN="Roxanne Gottshall":MAILTO:roxanne@clintoncountyhousing.com
END:VEVENT
BEGIN:VEVENT
DTSTART;TZID=America/New_York:20250415T130000
DTEND;TZID=America/New_York:20250415T150000
DTSTAMP:20260425T095119
CREATED:20250107T142641Z
LAST-MODIFIED:20250724T215423Z
UID:10000344-1744722000-1744729200@www.clintoncountyhousing.com
SUMMARY:Ransdorf Manor Prize Bingo
DESCRIPTION:
URL:https://www.clintoncountyhousing.com/event/ransdorf-manor-prize-bingo/2025-04-15/
LOCATION:Ransdorf Manor\, 350 Huron Ave\, Renovo\, PA\, 17764\, United States
END:VEVENT
BEGIN:VEVENT
DTSTART;TZID=America/New_York:20250414T153000
DTEND;TZID=America/New_York:20250414T163000
DTSTAMP:20260425T095119
CREATED:20240806T185616Z
LAST-MODIFIED:20250724T220219Z
UID:10000242-1744644600-1744648200@www.clintoncountyhousing.com
SUMMARY:After School Program 2024 - 2025
DESCRIPTION:Mondays & Wednesdays from 3:30 to 4:30
URL:https://www.clintoncountyhousing.com/event/after-school-program/2025-04-14/
LOCATION:John Yost Community Center\, 180 Bennage Ave\, Lock Haven\, PA\, 17745\, United States
ORGANIZER;CN="Roxanne Gottshall":MAILTO:roxanne@clintoncountyhousing.com
END:VEVENT
BEGIN:VEVENT
DTSTART;TZID=America/New_York:20250414T120000
DTEND;TZID=America/New_York:20250414T140000
DTSTAMP:20260425T095119
CREATED:20250404T172118Z
LAST-MODIFIED:20250404T172118Z
UID:10000402-1744632000-1744639200@www.clintoncountyhousing.com
SUMMARY:Central PA Food Bank - Fresh Express - Lock Haven
DESCRIPTION:
URL:https://www.clintoncountyhousing.com/event/central-pa-food-bank-fresh-express-lock-haven/
LOCATION:John Yost Community Center\, 180 Bennage Ave\, Lock Haven\, PA\, 17745\, United States
END:VEVENT
BEGIN:VEVENT
DTSTART;TZID=America/New_York:20250414T100000
DTEND;TZID=America/New_York:20250414T120000
DTSTAMP:20260425T095119
CREATED:20250404T172036Z
LAST-MODIFIED:20250404T172036Z
UID:10000401-1744624800-1744632000@www.clintoncountyhousing.com
SUMMARY:Central PA Food Bank - Fresh Express Renovo
DESCRIPTION:
URL:https://www.clintoncountyhousing.com/event/central-pa-food-bank-fresh-express-renovo/
LOCATION:Ransdorf Manor\, 350 Huron Ave\, Renovo\, PA\, 17764\, United States
END:VEVENT
BEGIN:VEVENT
DTSTART;TZID=America/New_York:20250410T100000
DTEND;TZID=America/New_York:20250410T120000
DTSTAMP:20260425T095119
CREATED:20250107T140901Z
LAST-MODIFIED:20250107T141721Z
UID:10000283-1744279200-1744286400@www.clintoncountyhousing.com
SUMMARY:Adult Computer Lab
DESCRIPTION:Adult Computer Lab is each Thursday from 10:00 am – 12:00 pm at the John Yost Community Center.
URL:https://www.clintoncountyhousing.com/event/adult-computer-lab-2/2025-04-10/
LOCATION:John Yost Community Center\, 180 Bennage Ave\, Lock Haven\, PA\, 17745\, United States
ORGANIZER;CN="Tenant Services Coordinator":MAILTO:roxanne@clintoncountyhousing.com
END:VEVENT
BEGIN:VEVENT
DTSTART;TZID=America/New_York:20250409T153000
DTEND;TZID=America/New_York:20250409T163000
DTSTAMP:20260425T095119
CREATED:20240806T185616Z
LAST-MODIFIED:20250724T220219Z
UID:10000241-1744212600-1744216200@www.clintoncountyhousing.com
SUMMARY:After School Program 2024 - 2025
DESCRIPTION:Mondays & Wednesdays from 3:30 to 4:30
URL:https://www.clintoncountyhousing.com/event/after-school-program/2025-04-09/
LOCATION:John Yost Community Center\, 180 Bennage Ave\, Lock Haven\, PA\, 17745\, United States
ORGANIZER;CN="Roxanne Gottshall":MAILTO:roxanne@clintoncountyhousing.com
END:VEVENT
BEGIN:VEVENT
DTSTART;TZID=America/New_York:20250408T130000
DTEND;TZID=America/New_York:20250408T150000
DTSTAMP:20260425T095119
CREATED:20250107T142539Z
LAST-MODIFIED:20250716T133811Z
UID:10000333-1744117200-1744124400@www.clintoncountyhousing.com
SUMMARY:Probst Plaza Prize Bingo
DESCRIPTION:
URL:https://www.clintoncountyhousing.com/event/probst-plaza-prize-bingo/2025-04-08/
LOCATION:Probst Plaza\, N Jones St\, Lock Haven\, PA\, 17745\, United States
END:VEVENT
BEGIN:VEVENT
DTSTART;TZID=America/New_York:20250407T153000
DTEND;TZID=America/New_York:20250407T163000
DTSTAMP:20260425T095119
CREATED:20240806T185616Z
LAST-MODIFIED:20250724T220219Z
UID:10000240-1744039800-1744043400@www.clintoncountyhousing.com
SUMMARY:After School Program 2024 - 2025
DESCRIPTION:Mondays & Wednesdays from 3:30 to 4:30
URL:https://www.clintoncountyhousing.com/event/after-school-program/2025-04-07/
LOCATION:John Yost Community Center\, 180 Bennage Ave\, Lock Haven\, PA\, 17745\, United States
ORGANIZER;CN="Roxanne Gottshall":MAILTO:roxanne@clintoncountyhousing.com
END:VEVENT
BEGIN:VEVENT
DTSTART;TZID=America/New_York:20250403T100000
DTEND;TZID=America/New_York:20250403T120000
DTSTAMP:20260425T095119
CREATED:20250107T140901Z
LAST-MODIFIED:20250107T141721Z
UID:10000282-1743674400-1743681600@www.clintoncountyhousing.com
SUMMARY:Adult Computer Lab
DESCRIPTION:Adult Computer Lab is each Thursday from 10:00 am – 12:00 pm at the John Yost Community Center.
URL:https://www.clintoncountyhousing.com/event/adult-computer-lab-2/2025-04-03/
LOCATION:John Yost Community Center\, 180 Bennage Ave\, Lock Haven\, PA\, 17745\, United States
ORGANIZER;CN="Tenant Services Coordinator":MAILTO:roxanne@clintoncountyhousing.com
END:VEVENT
BEGIN:VEVENT
DTSTART;TZID=America/New_York:20250402T153000
DTEND;TZID=America/New_York:20250402T163000
DTSTAMP:20260425T095119
CREATED:20240806T185616Z
LAST-MODIFIED:20250724T220219Z
UID:10000239-1743607800-1743611400@www.clintoncountyhousing.com
SUMMARY:After School Program 2024 - 2025
DESCRIPTION:Mondays & Wednesdays from 3:30 to 4:30
URL:https://www.clintoncountyhousing.com/event/after-school-program/2025-04-02/
LOCATION:John Yost Community Center\, 180 Bennage Ave\, Lock Haven\, PA\, 17745\, United States
ORGANIZER;CN="Roxanne Gottshall":MAILTO:roxanne@clintoncountyhousing.com
END:VEVENT
BEGIN:VEVENT
DTSTART;TZID=America/New_York:20250401T130000
DTEND;TZID=America/New_York:20250401T150000
DTSTAMP:20260425T095119
CREATED:20250107T142434Z
LAST-MODIFIED:20250716T133740Z
UID:10000322-1743512400-1743519600@www.clintoncountyhousing.com
SUMMARY:Carter Towers (& Moriarty Court) Prize Bingo
DESCRIPTION:
URL:https://www.clintoncountyhousing.com/event/carter-towers-prize-bingo/2025-04-01/
LOCATION:Carter Towers\, 11 S Jones St\, Lock Haven\, PA\, 17745\, United States
END:VEVENT
BEGIN:VEVENT
DTSTART;TZID=America/New_York:20250331T153000
DTEND;TZID=America/New_York:20250331T163000
DTSTAMP:20260425T095119
CREATED:20240806T185616Z
LAST-MODIFIED:20250724T220219Z
UID:10000238-1743435000-1743438600@www.clintoncountyhousing.com
SUMMARY:After School Program 2024 - 2025
DESCRIPTION:Mondays & Wednesdays from 3:30 to 4:30
URL:https://www.clintoncountyhousing.com/event/after-school-program/2025-03-31/
LOCATION:John Yost Community Center\, 180 Bennage Ave\, Lock Haven\, PA\, 17745\, United States
ORGANIZER;CN="Roxanne Gottshall":MAILTO:roxanne@clintoncountyhousing.com
END:VEVENT
BEGIN:VEVENT
DTSTART;TZID=America/New_York:20250327T100000
DTEND;TZID=America/New_York:20250327T120000
DTSTAMP:20260425T095119
CREATED:20250107T140901Z
LAST-MODIFIED:20250107T141721Z
UID:10000281-1743069600-1743076800@www.clintoncountyhousing.com
SUMMARY:Adult Computer Lab
DESCRIPTION:Adult Computer Lab is each Thursday from 10:00 am – 12:00 pm at the John Yost Community Center.
URL:https://www.clintoncountyhousing.com/event/adult-computer-lab-2/2025-03-27/
LOCATION:John Yost Community Center\, 180 Bennage Ave\, Lock Haven\, PA\, 17745\, United States
ORGANIZER;CN="Tenant Services Coordinator":MAILTO:roxanne@clintoncountyhousing.com
END:VEVENT
BEGIN:VEVENT
DTSTART;TZID=America/New_York:20250326T153000
DTEND;TZID=America/New_York:20250326T163000
DTSTAMP:20260425T095119
CREATED:20240806T185616Z
LAST-MODIFIED:20250724T220219Z
UID:10000237-1743003000-1743006600@www.clintoncountyhousing.com
SUMMARY:After School Program 2024 - 2025
DESCRIPTION:Mondays & Wednesdays from 3:30 to 4:30
URL:https://www.clintoncountyhousing.com/event/after-school-program/2025-03-26/
LOCATION:John Yost Community Center\, 180 Bennage Ave\, Lock Haven\, PA\, 17745\, United States
ORGANIZER;CN="Roxanne Gottshall":MAILTO:roxanne@clintoncountyhousing.com
END:VEVENT
BEGIN:VEVENT
DTSTART;TZID=America/New_York:20250325T130000
DTEND;TZID=America/New_York:20250325T150000
DTSTAMP:20260425T095119
CREATED:20250107T142729Z
LAST-MODIFIED:20250724T215515Z
UID:10000354-1742907600-1742914800@www.clintoncountyhousing.com
SUMMARY:Putman Manor Prize Bingo
DESCRIPTION:
URL:https://www.clintoncountyhousing.com/event/putman-manor-prize-bingo/2025-03-25/
LOCATION:Putnam Manor\, 335 Center St\, Lock Haven\, PA\, 17745\, United States
END:VEVENT
BEGIN:VEVENT
DTSTART;TZID=America/New_York:20250324T153000
DTEND;TZID=America/New_York:20250324T163000
DTSTAMP:20260425T095119
CREATED:20240806T185616Z
LAST-MODIFIED:20250724T220219Z
UID:10000236-1742830200-1742833800@www.clintoncountyhousing.com
SUMMARY:After School Program 2024 - 2025
DESCRIPTION:Mondays & Wednesdays from 3:30 to 4:30
URL:https://www.clintoncountyhousing.com/event/after-school-program/2025-03-24/
LOCATION:John Yost Community Center\, 180 Bennage Ave\, Lock Haven\, PA\, 17745\, United States
ORGANIZER;CN="Roxanne Gottshall":MAILTO:roxanne@clintoncountyhousing.com
END:VEVENT
BEGIN:VEVENT
DTSTART;TZID=America/New_York:20250320T100000
DTEND;TZID=America/New_York:20250320T120000
DTSTAMP:20260425T095119
CREATED:20250107T140901Z
LAST-MODIFIED:20250107T141721Z
UID:10000280-1742464800-1742472000@www.clintoncountyhousing.com
SUMMARY:Adult Computer Lab
DESCRIPTION:Adult Computer Lab is each Thursday from 10:00 am – 12:00 pm at the John Yost Community Center.
URL:https://www.clintoncountyhousing.com/event/adult-computer-lab-2/2025-03-20/
LOCATION:John Yost Community Center\, 180 Bennage Ave\, Lock Haven\, PA\, 17745\, United States
ORGANIZER;CN="Tenant Services Coordinator":MAILTO:roxanne@clintoncountyhousing.com
END:VEVENT
END:VCALENDAR