BEGIN:VCALENDAR
VERSION:2.0
PRODID:-//Clinton County Housing Authority - ECPv6.15.20//NONSGML v1.0//EN
CALSCALE:GREGORIAN
METHOD:PUBLISH
X-WR-CALNAME:Clinton County Housing Authority
X-ORIGINAL-URL:https://www.clintoncountyhousing.com
X-WR-CALDESC:Events for Clinton County Housing Authority
REFRESH-INTERVAL;VALUE=DURATION:PT1H
X-Robots-Tag:noindex
X-PUBLISHED-TTL:PT1H
BEGIN:VTIMEZONE
TZID:America/New_York
BEGIN:DAYLIGHT
TZOFFSETFROM:-0500
TZOFFSETTO:-0400
TZNAME:EDT
DTSTART:20230312T070000
END:DAYLIGHT
BEGIN:STANDARD
TZOFFSETFROM:-0400
TZOFFSETTO:-0500
TZNAME:EST
DTSTART:20231105T060000
END:STANDARD
BEGIN:DAYLIGHT
TZOFFSETFROM:-0500
TZOFFSETTO:-0400
TZNAME:EDT
DTSTART:20240310T070000
END:DAYLIGHT
BEGIN:STANDARD
TZOFFSETFROM:-0400
TZOFFSETTO:-0500
TZNAME:EST
DTSTART:20241103T060000
END:STANDARD
BEGIN:DAYLIGHT
TZOFFSETFROM:-0500
TZOFFSETTO:-0400
TZNAME:EDT
DTSTART:20250309T070000
END:DAYLIGHT
BEGIN:STANDARD
TZOFFSETFROM:-0400
TZOFFSETTO:-0500
TZNAME:EST
DTSTART:20251102T060000
END:STANDARD
END:VTIMEZONE
BEGIN:VEVENT
DTSTART;TZID=America/New_York:20241007T153000
DTEND;TZID=America/New_York:20241007T163000
DTSTAMP:20260425T114704
CREATED:20240806T185616Z
LAST-MODIFIED:20250724T220219Z
UID:10000197-1728315000-1728318600@www.clintoncountyhousing.com
SUMMARY:After School Program 2024 - 2025
DESCRIPTION:Mondays & Wednesdays from 3:30 to 4:30
URL:https://www.clintoncountyhousing.com/event/after-school-program/2024-10-07/
LOCATION:John Yost Community Center\, 180 Bennage Ave\, Lock Haven\, PA\, 17745\, United States
ORGANIZER;CN="Roxanne Gottshall":MAILTO:roxanne@clintoncountyhousing.com
END:VEVENT
BEGIN:VEVENT
DTSTART;TZID=America/New_York:20241007T130000
DTEND;TZID=America/New_York:20241007T150000
DTSTAMP:20260425T114704
CREATED:20240729T125530Z
LAST-MODIFIED:20241121T140530Z
UID:10000259-1728306000-1728313200@www.clintoncountyhousing.com
SUMMARY:Carter Towers Prize Bingo
DESCRIPTION:
URL:https://www.clintoncountyhousing.com/event/prize-bingo/2024-10-07/
LOCATION:Carter Towers\, 11 S Jones St\, Lock Haven\, PA\, 17745\, United States
END:VEVENT
BEGIN:VEVENT
DTSTART;TZID=America/New_York:20241003T100000
DTEND;TZID=America/New_York:20241003T120000
DTSTAMP:20260425T114704
CREATED:20240729T131753Z
LAST-MODIFIED:20240729T195146Z
UID:10000151-1727949600-1727956800@www.clintoncountyhousing.com
SUMMARY:Adult Computer Lab
DESCRIPTION:Adult Computer Lab is each Thursday from 10:00 am – 12:00 pm at the John Yost Community Center.
URL:https://www.clintoncountyhousing.com/event/adult-computer-lab/2024-10-03/
LOCATION:John Yost Community Center\, 180 Bennage Ave\, Lock Haven\, PA\, 17745\, United States
ORGANIZER;CN="Tenant Services Coordinator":MAILTO:roxanne@clintoncountyhousing.com
END:VEVENT
BEGIN:VEVENT
DTSTART;TZID=America/New_York:20241002T153000
DTEND;TZID=America/New_York:20241002T163000
DTSTAMP:20260425T114704
CREATED:20240806T185616Z
LAST-MODIFIED:20250724T220219Z
UID:10000196-1727883000-1727886600@www.clintoncountyhousing.com
SUMMARY:After School Program 2024 - 2025
DESCRIPTION:Mondays & Wednesdays from 3:30 to 4:30
URL:https://www.clintoncountyhousing.com/event/after-school-program/2024-10-02/
LOCATION:John Yost Community Center\, 180 Bennage Ave\, Lock Haven\, PA\, 17745\, United States
ORGANIZER;CN="Roxanne Gottshall":MAILTO:roxanne@clintoncountyhousing.com
END:VEVENT
BEGIN:VEVENT
DTSTART;TZID=America/New_York:20240930T153000
DTEND;TZID=America/New_York:20240930T163000
DTSTAMP:20260425T114704
CREATED:20240806T185616Z
LAST-MODIFIED:20250724T220219Z
UID:10000195-1727710200-1727713800@www.clintoncountyhousing.com
SUMMARY:After School Program 2024 - 2025
DESCRIPTION:Mondays & Wednesdays from 3:30 to 4:30
URL:https://www.clintoncountyhousing.com/event/after-school-program/2024-09-30/
LOCATION:John Yost Community Center\, 180 Bennage Ave\, Lock Haven\, PA\, 17745\, United States
ORGANIZER;CN="Roxanne Gottshall":MAILTO:roxanne@clintoncountyhousing.com
END:VEVENT
BEGIN:VEVENT
DTSTART;TZID=America/New_York:20240926T100000
DTEND;TZID=America/New_York:20240926T120000
DTSTAMP:20260425T114704
CREATED:20240729T131753Z
LAST-MODIFIED:20240729T195146Z
UID:10000150-1727344800-1727352000@www.clintoncountyhousing.com
SUMMARY:Adult Computer Lab
DESCRIPTION:Adult Computer Lab is each Thursday from 10:00 am – 12:00 pm at the John Yost Community Center.
URL:https://www.clintoncountyhousing.com/event/adult-computer-lab/2024-09-26/
LOCATION:John Yost Community Center\, 180 Bennage Ave\, Lock Haven\, PA\, 17745\, United States
ORGANIZER;CN="Tenant Services Coordinator":MAILTO:roxanne@clintoncountyhousing.com
END:VEVENT
BEGIN:VEVENT
DTSTART;TZID=America/New_York:20240925T153000
DTEND;TZID=America/New_York:20240925T163000
DTSTAMP:20260425T114704
CREATED:20240806T185616Z
LAST-MODIFIED:20250724T220219Z
UID:10000194-1727278200-1727281800@www.clintoncountyhousing.com
SUMMARY:After School Program 2024 - 2025
DESCRIPTION:Mondays & Wednesdays from 3:30 to 4:30
URL:https://www.clintoncountyhousing.com/event/after-school-program/2024-09-25/
LOCATION:John Yost Community Center\, 180 Bennage Ave\, Lock Haven\, PA\, 17745\, United States
ORGANIZER;CN="Roxanne Gottshall":MAILTO:roxanne@clintoncountyhousing.com
END:VEVENT
BEGIN:VEVENT
DTSTART;TZID=America/New_York:20240923T153000
DTEND;TZID=America/New_York:20240923T163000
DTSTAMP:20260425T114704
CREATED:20240806T185616Z
LAST-MODIFIED:20250724T220219Z
UID:10000193-1727105400-1727109000@www.clintoncountyhousing.com
SUMMARY:After School Program 2024 - 2025
DESCRIPTION:Mondays & Wednesdays from 3:30 to 4:30
URL:https://www.clintoncountyhousing.com/event/after-school-program/2024-09-23/
LOCATION:John Yost Community Center\, 180 Bennage Ave\, Lock Haven\, PA\, 17745\, United States
ORGANIZER;CN="Roxanne Gottshall":MAILTO:roxanne@clintoncountyhousing.com
END:VEVENT
BEGIN:VEVENT
DTSTART;TZID=America/New_York:20240923T130000
DTEND;TZID=America/New_York:20240923T150000
DTSTAMP:20260425T114704
CREATED:20240729T131339Z
LAST-MODIFIED:20241121T140400Z
UID:10000135-1727096400-1727103600@www.clintoncountyhousing.com
SUMMARY:Putnam Manor Prize Bingo
DESCRIPTION:
URL:https://www.clintoncountyhousing.com/event/prize-bingo-2/2024-09-23/
LOCATION:Putnam Manor\, 335 Center St\, Lock Haven\, PA\, 17745\, United States
END:VEVENT
BEGIN:VEVENT
DTSTART;TZID=America/New_York:20240919T100000
DTEND;TZID=America/New_York:20240919T120000
DTSTAMP:20260425T114704
CREATED:20240729T131753Z
LAST-MODIFIED:20240729T195146Z
UID:10000149-1726740000-1726747200@www.clintoncountyhousing.com
SUMMARY:Adult Computer Lab
DESCRIPTION:Adult Computer Lab is each Thursday from 10:00 am – 12:00 pm at the John Yost Community Center.
URL:https://www.clintoncountyhousing.com/event/adult-computer-lab/2024-09-19/
LOCATION:John Yost Community Center\, 180 Bennage Ave\, Lock Haven\, PA\, 17745\, United States
ORGANIZER;CN="Tenant Services Coordinator":MAILTO:roxanne@clintoncountyhousing.com
END:VEVENT
BEGIN:VEVENT
DTSTART;TZID=America/New_York:20240919T100000
DTEND;TZID=America/New_York:20240919T110000
DTSTAMP:20260425T114704
CREATED:20240806T194847Z
LAST-MODIFIED:20240806T194847Z
UID:10000257-1726740000-1726743600@www.clintoncountyhousing.com
SUMMARY:Ransdorf Manor Flu Shots
DESCRIPTION:
URL:https://www.clintoncountyhousing.com/event/ransdorf-manor-flu-shots/
LOCATION:Ransdorf Manor\, 350 Huron Ave\, Renovo\, PA\, 17764\, United States
ORGANIZER;CN="Roxanne Gottshall":MAILTO:roxanne@clintoncountyhousing.com
END:VEVENT
BEGIN:VEVENT
DTSTART;TZID=America/New_York:20240918T153000
DTEND;TZID=America/New_York:20240918T163000
DTSTAMP:20260425T114704
CREATED:20240806T185616Z
LAST-MODIFIED:20250724T220219Z
UID:10000192-1726673400-1726677000@www.clintoncountyhousing.com
SUMMARY:After School Program 2024 - 2025
DESCRIPTION:Mondays & Wednesdays from 3:30 to 4:30
URL:https://www.clintoncountyhousing.com/event/after-school-program/2024-09-18/
LOCATION:John Yost Community Center\, 180 Bennage Ave\, Lock Haven\, PA\, 17745\, United States
ORGANIZER;CN="Roxanne Gottshall":MAILTO:roxanne@clintoncountyhousing.com
END:VEVENT
BEGIN:VEVENT
DTSTART;TZID=America/New_York:20240918T100000
DTEND;TZID=America/New_York:20240918T113000
DTSTAMP:20260425T114704
CREATED:20240806T194614Z
LAST-MODIFIED:20240806T194614Z
UID:10000256-1726653600-1726659000@www.clintoncountyhousing.com
SUMMARY:Carter Towers & Moriarty Court Flu Shots
DESCRIPTION:
URL:https://www.clintoncountyhousing.com/event/carter-towers-moriarty-court-flu-shots/
LOCATION:Carter Towers\, 11 S Jones St\, Lock Haven\, PA\, 17745\, United States
ORGANIZER;CN="Roxanne Gottshall":MAILTO:roxanne@clintoncountyhousing.com
END:VEVENT
BEGIN:VEVENT
DTSTART;TZID=America/New_York:20240917T130000
DTEND;TZID=America/New_York:20240917T150000
DTSTAMP:20260425T114704
CREATED:20240729T133941Z
LAST-MODIFIED:20241121T140446Z
UID:10000138-1726578000-1726585200@www.clintoncountyhousing.com
SUMMARY:Ransdorf Manor Prize Bingo
DESCRIPTION:
URL:https://www.clintoncountyhousing.com/event/prize-bingo-4/2024-09-17/
LOCATION:Ransdorf Manor\, 350 Huron Ave\, Renovo\, PA\, 17764\, United States
END:VEVENT
BEGIN:VEVENT
DTSTART;TZID=America/New_York:20240916T153000
DTEND;TZID=America/New_York:20240916T163000
DTSTAMP:20260425T114704
CREATED:20240806T185616Z
LAST-MODIFIED:20250724T220219Z
UID:10000191-1726500600-1726504200@www.clintoncountyhousing.com
SUMMARY:After School Program 2024 - 2025
DESCRIPTION:Mondays & Wednesdays from 3:30 to 4:30
URL:https://www.clintoncountyhousing.com/event/after-school-program/2024-09-16/
LOCATION:John Yost Community Center\, 180 Bennage Ave\, Lock Haven\, PA\, 17745\, United States
ORGANIZER;CN="Roxanne Gottshall":MAILTO:roxanne@clintoncountyhousing.com
END:VEVENT
BEGIN:VEVENT
DTSTART;TZID=America/New_York:20240916T130000
DTEND;TZID=America/New_York:20240916T140000
DTSTAMP:20260425T114704
CREATED:20240806T194302Z
LAST-MODIFIED:20240806T194302Z
UID:10000255-1726491600-1726495200@www.clintoncountyhousing.com
SUMMARY:Probst Plaza Flu Shots
DESCRIPTION:
URL:https://www.clintoncountyhousing.com/event/probst-plaza-flu-shots/
LOCATION:Probst Plaza\, N Jones St\, Lock Haven\, PA\, 17745\, United States
ORGANIZER;CN="Roxanne Gottshall":MAILTO:roxanne@clintoncountyhousing.com
END:VEVENT
BEGIN:VEVENT
DTSTART;TZID=America/New_York:20240916T120000
DTEND;TZID=America/New_York:20240916T140000
DTSTAMP:20260425T114704
CREATED:20240729T130842Z
LAST-MODIFIED:20240729T130842Z
UID:10000125-1726488000-1726495200@www.clintoncountyhousing.com
SUMMARY:LOCK HAVEN Food Bank - Fresh Express Distribution
DESCRIPTION:
URL:https://www.clintoncountyhousing.com/event/lock-haven-food-bank-fresh-express-distribution/2024-09-16/
LOCATION:John Yost Community Center\, 180 Bennage Ave\, Lock Haven\, PA\, 17745\, United States
END:VEVENT
BEGIN:VEVENT
DTSTART;TZID=America/New_York:20240916T100000
DTEND;TZID=America/New_York:20240916T120000
DTSTAMP:20260425T114704
CREATED:20240729T131137Z
LAST-MODIFIED:20240729T131137Z
UID:10000130-1726480800-1726488000@www.clintoncountyhousing.com
SUMMARY:RENOVO Food Bank - Fresh Express Distribution
DESCRIPTION:
URL:https://www.clintoncountyhousing.com/event/renovo-food-bank-fresh-express-distribution/2024-09-16/
LOCATION:Ransdorf Manor\, 350 Huron Ave\, Renovo\, PA\, 17764\, United States
END:VEVENT
BEGIN:VEVENT
DTSTART;TZID=America/New_York:20240916T100000
DTEND;TZID=America/New_York:20240916T110000
DTSTAMP:20260425T114704
CREATED:20240806T193838Z
LAST-MODIFIED:20240806T193838Z
UID:10000254-1726480800-1726484400@www.clintoncountyhousing.com
SUMMARY:Putman Manor Flu Shots
DESCRIPTION:
URL:https://www.clintoncountyhousing.com/event/putman-manor-flu-shots/
LOCATION:Putnam Manor\, 335 Center St\, Lock Haven\, PA\, 17745\, United States
ORGANIZER;CN="Roxanne Gottshall":MAILTO:roxanne@clintoncountyhousing.com
END:VEVENT
BEGIN:VEVENT
DTSTART;TZID=America/New_York:20240912T100000
DTEND;TZID=America/New_York:20240912T120000
DTSTAMP:20260425T114704
CREATED:20240729T131753Z
LAST-MODIFIED:20240729T195146Z
UID:10000148-1726135200-1726142400@www.clintoncountyhousing.com
SUMMARY:Adult Computer Lab
DESCRIPTION:Adult Computer Lab is each Thursday from 10:00 am – 12:00 pm at the John Yost Community Center.
URL:https://www.clintoncountyhousing.com/event/adult-computer-lab/2024-09-12/
LOCATION:John Yost Community Center\, 180 Bennage Ave\, Lock Haven\, PA\, 17745\, United States
ORGANIZER;CN="Tenant Services Coordinator":MAILTO:roxanne@clintoncountyhousing.com
END:VEVENT
BEGIN:VEVENT
DTSTART;TZID=America/New_York:20240911T153000
DTEND;TZID=America/New_York:20240911T163000
DTSTAMP:20260425T114704
CREATED:20240806T185616Z
LAST-MODIFIED:20250724T220219Z
UID:10000190-1726068600-1726072200@www.clintoncountyhousing.com
SUMMARY:After School Program 2024 - 2025
DESCRIPTION:Mondays & Wednesdays from 3:30 to 4:30
URL:https://www.clintoncountyhousing.com/event/after-school-program/2024-09-11/
LOCATION:John Yost Community Center\, 180 Bennage Ave\, Lock Haven\, PA\, 17745\, United States
ORGANIZER;CN="Roxanne Gottshall":MAILTO:roxanne@clintoncountyhousing.com
END:VEVENT
BEGIN:VEVENT
DTSTART;TZID=America/New_York:20240909T153000
DTEND;TZID=America/New_York:20240909T163000
DTSTAMP:20260425T114704
CREATED:20240806T185616Z
LAST-MODIFIED:20250724T220219Z
UID:10000189-1725895800-1725899400@www.clintoncountyhousing.com
SUMMARY:After School Program 2024 - 2025
DESCRIPTION:Mondays & Wednesdays from 3:30 to 4:30
URL:https://www.clintoncountyhousing.com/event/after-school-program/2024-09-09/
LOCATION:John Yost Community Center\, 180 Bennage Ave\, Lock Haven\, PA\, 17745\, United States
ORGANIZER;CN="Roxanne Gottshall":MAILTO:roxanne@clintoncountyhousing.com
END:VEVENT
BEGIN:VEVENT
DTSTART;TZID=America/New_York:20240909T130000
DTEND;TZID=America/New_York:20240909T150000
DTSTAMP:20260425T114704
CREATED:20240729T131430Z
LAST-MODIFIED:20241121T140854Z
UID:10000117-1725886800-1725894000@www.clintoncountyhousing.com
SUMMARY:Probst Plaza Prize Bingo
DESCRIPTION:
URL:https://www.clintoncountyhousing.com/event/prize-bingo-3/2024-09-09/
LOCATION:Probst Plaza\, N Jones St\, Lock Haven\, PA\, 17745\, United States
END:VEVENT
BEGIN:VEVENT
DTSTART;TZID=America/New_York:20240905T100000
DTEND;TZID=America/New_York:20240905T120000
DTSTAMP:20260425T114704
CREATED:20240729T131753Z
LAST-MODIFIED:20240729T195146Z
UID:10000147-1725530400-1725537600@www.clintoncountyhousing.com
SUMMARY:Adult Computer Lab
DESCRIPTION:Adult Computer Lab is each Thursday from 10:00 am – 12:00 pm at the John Yost Community Center.
URL:https://www.clintoncountyhousing.com/event/adult-computer-lab/2024-09-05/
LOCATION:John Yost Community Center\, 180 Bennage Ave\, Lock Haven\, PA\, 17745\, United States
ORGANIZER;CN="Tenant Services Coordinator":MAILTO:roxanne@clintoncountyhousing.com
END:VEVENT
BEGIN:VEVENT
DTSTART;TZID=America/New_York:20240904T153000
DTEND;TZID=America/New_York:20240904T163000
DTSTAMP:20260425T114704
CREATED:20240806T185616Z
LAST-MODIFIED:20250724T220219Z
UID:10000188-1725463800-1725467400@www.clintoncountyhousing.com
SUMMARY:After School Program 2024 - 2025
DESCRIPTION:Mondays & Wednesdays from 3:30 to 4:30
URL:https://www.clintoncountyhousing.com/event/after-school-program/2024-09-04/
LOCATION:John Yost Community Center\, 180 Bennage Ave\, Lock Haven\, PA\, 17745\, United States
ORGANIZER;CN="Roxanne Gottshall":MAILTO:roxanne@clintoncountyhousing.com
END:VEVENT
BEGIN:VEVENT
DTSTART;TZID=America/New_York:20240829T100000
DTEND;TZID=America/New_York:20240829T120000
DTSTAMP:20260425T114704
CREATED:20240729T131753Z
LAST-MODIFIED:20240729T195146Z
UID:10000146-1724925600-1724932800@www.clintoncountyhousing.com
SUMMARY:Adult Computer Lab
DESCRIPTION:Adult Computer Lab is each Thursday from 10:00 am – 12:00 pm at the John Yost Community Center.
URL:https://www.clintoncountyhousing.com/event/adult-computer-lab/2024-08-29/
LOCATION:John Yost Community Center\, 180 Bennage Ave\, Lock Haven\, PA\, 17745\, United States
ORGANIZER;CN="Tenant Services Coordinator":MAILTO:roxanne@clintoncountyhousing.com
END:VEVENT
BEGIN:VEVENT
DTSTART;TZID=America/New_York:20240826T130000
DTEND;TZID=America/New_York:20240826T150000
DTSTAMP:20260425T114704
CREATED:20240729T131339Z
LAST-MODIFIED:20241121T140400Z
UID:10000134-1724677200-1724684400@www.clintoncountyhousing.com
SUMMARY:Putnam Manor Prize Bingo
DESCRIPTION:
URL:https://www.clintoncountyhousing.com/event/prize-bingo-2/2024-08-26/
LOCATION:Putnam Manor\, 335 Center St\, Lock Haven\, PA\, 17745\, United States
END:VEVENT
BEGIN:VEVENT
DTSTART;TZID=America/New_York:20240822T100000
DTEND;TZID=America/New_York:20240822T120000
DTSTAMP:20260425T114704
CREATED:20240729T131753Z
LAST-MODIFIED:20240729T195146Z
UID:10000145-1724320800-1724328000@www.clintoncountyhousing.com
SUMMARY:Adult Computer Lab
DESCRIPTION:Adult Computer Lab is each Thursday from 10:00 am – 12:00 pm at the John Yost Community Center.
URL:https://www.clintoncountyhousing.com/event/adult-computer-lab/2024-08-22/
LOCATION:John Yost Community Center\, 180 Bennage Ave\, Lock Haven\, PA\, 17745\, United States
ORGANIZER;CN="Tenant Services Coordinator":MAILTO:roxanne@clintoncountyhousing.com
END:VEVENT
BEGIN:VEVENT
DTSTART;TZID=America/New_York:20240820T130000
DTEND;TZID=America/New_York:20240820T150000
DTSTAMP:20260425T114704
CREATED:20240729T133941Z
LAST-MODIFIED:20241121T140446Z
UID:10000137-1724158800-1724166000@www.clintoncountyhousing.com
SUMMARY:Ransdorf Manor Prize Bingo
DESCRIPTION:
URL:https://www.clintoncountyhousing.com/event/prize-bingo-4/2024-08-20/
LOCATION:Ransdorf Manor\, 350 Huron Ave\, Renovo\, PA\, 17764\, United States
END:VEVENT
BEGIN:VEVENT
DTSTART;TZID=America/New_York:20240819T120000
DTEND;TZID=America/New_York:20240819T140000
DTSTAMP:20260425T114704
CREATED:20240729T130842Z
LAST-MODIFIED:20240729T130842Z
UID:10000124-1724068800-1724076000@www.clintoncountyhousing.com
SUMMARY:LOCK HAVEN Food Bank - Fresh Express Distribution
DESCRIPTION:
URL:https://www.clintoncountyhousing.com/event/lock-haven-food-bank-fresh-express-distribution/2024-08-19/
LOCATION:John Yost Community Center\, 180 Bennage Ave\, Lock Haven\, PA\, 17745\, United States
END:VEVENT
END:VCALENDAR