BEGIN:VCALENDAR
VERSION:2.0
PRODID:-//Clinton County Housing Authority - ECPv6.15.20//NONSGML v1.0//EN
CALSCALE:GREGORIAN
METHOD:PUBLISH
X-WR-CALNAME:Clinton County Housing Authority
X-ORIGINAL-URL:https://www.clintoncountyhousing.com
X-WR-CALDESC:Events for Clinton County Housing Authority
REFRESH-INTERVAL;VALUE=DURATION:PT1H
X-Robots-Tag:noindex
X-PUBLISHED-TTL:PT1H
BEGIN:VTIMEZONE
TZID:America/New_York
BEGIN:DAYLIGHT
TZOFFSETFROM:-0500
TZOFFSETTO:-0400
TZNAME:EDT
DTSTART:20250309T070000
END:DAYLIGHT
BEGIN:STANDARD
TZOFFSETFROM:-0400
TZOFFSETTO:-0500
TZNAME:EST
DTSTART:20251102T060000
END:STANDARD
BEGIN:DAYLIGHT
TZOFFSETFROM:-0500
TZOFFSETTO:-0400
TZNAME:EDT
DTSTART:20260308T070000
END:DAYLIGHT
BEGIN:STANDARD
TZOFFSETFROM:-0400
TZOFFSETTO:-0500
TZNAME:EST
DTSTART:20261101T060000
END:STANDARD
BEGIN:DAYLIGHT
TZOFFSETFROM:-0500
TZOFFSETTO:-0400
TZNAME:EDT
DTSTART:20270314T070000
END:DAYLIGHT
BEGIN:STANDARD
TZOFFSETFROM:-0400
TZOFFSETTO:-0500
TZNAME:EST
DTSTART:20271107T060000
END:STANDARD
END:VTIMEZONE
BEGIN:VEVENT
DTSTART;TZID=America/New_York:20260423T100000
DTEND;TZID=America/New_York:20260423T120000
DTSTAMP:20260423T093625
CREATED:20260122T144456Z
LAST-MODIFIED:20260122T144456Z
UID:10000887-1776938400-1776945600@www.clintoncountyhousing.com
SUMMARY:Adult Computer Lab
DESCRIPTION:ADULT COMPUTER LAB\n \nWeekly on Thursdays\n10 am to 12 noon\n\ncall ahead to ensure computer availability\n570-893-1911 x-2\n\n 
URL:https://www.clintoncountyhousing.com/event/adult-computer-lab-3/2026-04-23/
LOCATION:John Yost Community Center\, 180 Bennage Ave\, Lock Haven\, PA\, 17745\, United States
ORGANIZER;CN="Tenant Services Coordinator":MAILTO:roxanne@clintoncountyhousing.com
END:VEVENT
BEGIN:VEVENT
DTSTART;TZID=America/New_York:20260430T100000
DTEND;TZID=America/New_York:20260430T120000
DTSTAMP:20260423T093625
CREATED:20260122T144456Z
LAST-MODIFIED:20260122T144456Z
UID:10000888-1777543200-1777550400@www.clintoncountyhousing.com
SUMMARY:Adult Computer Lab
DESCRIPTION:ADULT COMPUTER LAB\n \nWeekly on Thursdays\n10 am to 12 noon\n\ncall ahead to ensure computer availability\n570-893-1911 x-2\n\n 
URL:https://www.clintoncountyhousing.com/event/adult-computer-lab-3/2026-04-30/
LOCATION:John Yost Community Center\, 180 Bennage Ave\, Lock Haven\, PA\, 17745\, United States
ORGANIZER;CN="Tenant Services Coordinator":MAILTO:roxanne@clintoncountyhousing.com
END:VEVENT
BEGIN:VEVENT
DTSTART;TZID=America/New_York:20260507T100000
DTEND;TZID=America/New_York:20260507T120000
DTSTAMP:20260423T093625
CREATED:20260122T144456Z
LAST-MODIFIED:20260122T144456Z
UID:10000889-1778148000-1778155200@www.clintoncountyhousing.com
SUMMARY:Adult Computer Lab
DESCRIPTION:ADULT COMPUTER LAB\n \nWeekly on Thursdays\n10 am to 12 noon\n\ncall ahead to ensure computer availability\n570-893-1911 x-2\n\n 
URL:https://www.clintoncountyhousing.com/event/adult-computer-lab-3/2026-05-07/
LOCATION:John Yost Community Center\, 180 Bennage Ave\, Lock Haven\, PA\, 17745\, United States
ORGANIZER;CN="Tenant Services Coordinator":MAILTO:roxanne@clintoncountyhousing.com
END:VEVENT
BEGIN:VEVENT
DTSTART;TZID=America/New_York:20260514T100000
DTEND;TZID=America/New_York:20260514T120000
DTSTAMP:20260423T093625
CREATED:20260122T144456Z
LAST-MODIFIED:20260122T144456Z
UID:10000890-1778752800-1778760000@www.clintoncountyhousing.com
SUMMARY:Adult Computer Lab
DESCRIPTION:ADULT COMPUTER LAB\n \nWeekly on Thursdays\n10 am to 12 noon\n\ncall ahead to ensure computer availability\n570-893-1911 x-2\n\n 
URL:https://www.clintoncountyhousing.com/event/adult-computer-lab-3/2026-05-14/
LOCATION:John Yost Community Center\, 180 Bennage Ave\, Lock Haven\, PA\, 17745\, United States
ORGANIZER;CN="Tenant Services Coordinator":MAILTO:roxanne@clintoncountyhousing.com
END:VEVENT
BEGIN:VEVENT
DTSTART;TZID=America/New_York:20260521T100000
DTEND;TZID=America/New_York:20260521T120000
DTSTAMP:20260423T093625
CREATED:20260122T144456Z
LAST-MODIFIED:20260122T144456Z
UID:10000891-1779357600-1779364800@www.clintoncountyhousing.com
SUMMARY:Adult Computer Lab
DESCRIPTION:ADULT COMPUTER LAB\n \nWeekly on Thursdays\n10 am to 12 noon\n\ncall ahead to ensure computer availability\n570-893-1911 x-2\n\n 
URL:https://www.clintoncountyhousing.com/event/adult-computer-lab-3/2026-05-21/
LOCATION:John Yost Community Center\, 180 Bennage Ave\, Lock Haven\, PA\, 17745\, United States
ORGANIZER;CN="Tenant Services Coordinator":MAILTO:roxanne@clintoncountyhousing.com
END:VEVENT
BEGIN:VEVENT
DTSTART;TZID=America/New_York:20260528T100000
DTEND;TZID=America/New_York:20260528T120000
DTSTAMP:20260423T093625
CREATED:20260122T144456Z
LAST-MODIFIED:20260122T144456Z
UID:10000892-1779962400-1779969600@www.clintoncountyhousing.com
SUMMARY:Adult Computer Lab
DESCRIPTION:ADULT COMPUTER LAB\n \nWeekly on Thursdays\n10 am to 12 noon\n\ncall ahead to ensure computer availability\n570-893-1911 x-2\n\n 
URL:https://www.clintoncountyhousing.com/event/adult-computer-lab-3/2026-05-28/
LOCATION:John Yost Community Center\, 180 Bennage Ave\, Lock Haven\, PA\, 17745\, United States
ORGANIZER;CN="Tenant Services Coordinator":MAILTO:roxanne@clintoncountyhousing.com
END:VEVENT
BEGIN:VEVENT
DTSTART;TZID=America/New_York:20260604T100000
DTEND;TZID=America/New_York:20260604T120000
DTSTAMP:20260423T093625
CREATED:20260122T144456Z
LAST-MODIFIED:20260122T144456Z
UID:10000893-1780567200-1780574400@www.clintoncountyhousing.com
SUMMARY:Adult Computer Lab
DESCRIPTION:ADULT COMPUTER LAB\n \nWeekly on Thursdays\n10 am to 12 noon\n\ncall ahead to ensure computer availability\n570-893-1911 x-2\n\n 
URL:https://www.clintoncountyhousing.com/event/adult-computer-lab-3/2026-06-04/
LOCATION:John Yost Community Center\, 180 Bennage Ave\, Lock Haven\, PA\, 17745\, United States
ORGANIZER;CN="Tenant Services Coordinator":MAILTO:roxanne@clintoncountyhousing.com
END:VEVENT
BEGIN:VEVENT
DTSTART;TZID=America/New_York:20260611T100000
DTEND;TZID=America/New_York:20260611T120000
DTSTAMP:20260423T093625
CREATED:20260122T144456Z
LAST-MODIFIED:20260122T144456Z
UID:10000894-1781172000-1781179200@www.clintoncountyhousing.com
SUMMARY:Adult Computer Lab
DESCRIPTION:ADULT COMPUTER LAB\n \nWeekly on Thursdays\n10 am to 12 noon\n\ncall ahead to ensure computer availability\n570-893-1911 x-2\n\n 
URL:https://www.clintoncountyhousing.com/event/adult-computer-lab-3/2026-06-11/
LOCATION:John Yost Community Center\, 180 Bennage Ave\, Lock Haven\, PA\, 17745\, United States
ORGANIZER;CN="Tenant Services Coordinator":MAILTO:roxanne@clintoncountyhousing.com
END:VEVENT
BEGIN:VEVENT
DTSTART;TZID=America/New_York:20260618T100000
DTEND;TZID=America/New_York:20260618T120000
DTSTAMP:20260423T093625
CREATED:20260122T144456Z
LAST-MODIFIED:20260122T144456Z
UID:10000895-1781776800-1781784000@www.clintoncountyhousing.com
SUMMARY:Adult Computer Lab
DESCRIPTION:ADULT COMPUTER LAB\n \nWeekly on Thursdays\n10 am to 12 noon\n\ncall ahead to ensure computer availability\n570-893-1911 x-2\n\n 
URL:https://www.clintoncountyhousing.com/event/adult-computer-lab-3/2026-06-18/
LOCATION:John Yost Community Center\, 180 Bennage Ave\, Lock Haven\, PA\, 17745\, United States
ORGANIZER;CN="Tenant Services Coordinator":MAILTO:roxanne@clintoncountyhousing.com
END:VEVENT
BEGIN:VEVENT
DTSTART;TZID=America/New_York:20260625T100000
DTEND;TZID=America/New_York:20260625T120000
DTSTAMP:20260423T093625
CREATED:20260122T144456Z
LAST-MODIFIED:20260122T144456Z
UID:10000896-1782381600-1782388800@www.clintoncountyhousing.com
SUMMARY:Adult Computer Lab
DESCRIPTION:ADULT COMPUTER LAB\n \nWeekly on Thursdays\n10 am to 12 noon\n\ncall ahead to ensure computer availability\n570-893-1911 x-2\n\n 
URL:https://www.clintoncountyhousing.com/event/adult-computer-lab-3/2026-06-25/
LOCATION:John Yost Community Center\, 180 Bennage Ave\, Lock Haven\, PA\, 17745\, United States
ORGANIZER;CN="Tenant Services Coordinator":MAILTO:roxanne@clintoncountyhousing.com
END:VEVENT
BEGIN:VEVENT
DTSTART;TZID=America/New_York:20260702T100000
DTEND;TZID=America/New_York:20260702T120000
DTSTAMP:20260423T093625
CREATED:20260122T144456Z
LAST-MODIFIED:20260122T144456Z
UID:10000897-1782986400-1782993600@www.clintoncountyhousing.com
SUMMARY:Adult Computer Lab
DESCRIPTION:ADULT COMPUTER LAB\n \nWeekly on Thursdays\n10 am to 12 noon\n\ncall ahead to ensure computer availability\n570-893-1911 x-2\n\n 
URL:https://www.clintoncountyhousing.com/event/adult-computer-lab-3/2026-07-02/
LOCATION:John Yost Community Center\, 180 Bennage Ave\, Lock Haven\, PA\, 17745\, United States
ORGANIZER;CN="Tenant Services Coordinator":MAILTO:roxanne@clintoncountyhousing.com
END:VEVENT
BEGIN:VEVENT
DTSTART;TZID=America/New_York:20260709T100000
DTEND;TZID=America/New_York:20260709T120000
DTSTAMP:20260423T093625
CREATED:20260122T144456Z
LAST-MODIFIED:20260122T144456Z
UID:10000898-1783591200-1783598400@www.clintoncountyhousing.com
SUMMARY:Adult Computer Lab
DESCRIPTION:ADULT COMPUTER LAB\n \nWeekly on Thursdays\n10 am to 12 noon\n\ncall ahead to ensure computer availability\n570-893-1911 x-2\n\n 
URL:https://www.clintoncountyhousing.com/event/adult-computer-lab-3/2026-07-09/
LOCATION:John Yost Community Center\, 180 Bennage Ave\, Lock Haven\, PA\, 17745\, United States
ORGANIZER;CN="Tenant Services Coordinator":MAILTO:roxanne@clintoncountyhousing.com
END:VEVENT
BEGIN:VEVENT
DTSTART;TZID=America/New_York:20260716T100000
DTEND;TZID=America/New_York:20260716T120000
DTSTAMP:20260423T093625
CREATED:20260122T144456Z
LAST-MODIFIED:20260122T144456Z
UID:10000899-1784196000-1784203200@www.clintoncountyhousing.com
SUMMARY:Adult Computer Lab
DESCRIPTION:ADULT COMPUTER LAB\n \nWeekly on Thursdays\n10 am to 12 noon\n\ncall ahead to ensure computer availability\n570-893-1911 x-2\n\n 
URL:https://www.clintoncountyhousing.com/event/adult-computer-lab-3/2026-07-16/
LOCATION:John Yost Community Center\, 180 Bennage Ave\, Lock Haven\, PA\, 17745\, United States
ORGANIZER;CN="Tenant Services Coordinator":MAILTO:roxanne@clintoncountyhousing.com
END:VEVENT
BEGIN:VEVENT
DTSTART;TZID=America/New_York:20260723T100000
DTEND;TZID=America/New_York:20260723T120000
DTSTAMP:20260423T093625
CREATED:20260122T144456Z
LAST-MODIFIED:20260122T144456Z
UID:10000900-1784800800-1784808000@www.clintoncountyhousing.com
SUMMARY:Adult Computer Lab
DESCRIPTION:ADULT COMPUTER LAB\n \nWeekly on Thursdays\n10 am to 12 noon\n\ncall ahead to ensure computer availability\n570-893-1911 x-2\n\n 
URL:https://www.clintoncountyhousing.com/event/adult-computer-lab-3/2026-07-23/
LOCATION:John Yost Community Center\, 180 Bennage Ave\, Lock Haven\, PA\, 17745\, United States
ORGANIZER;CN="Tenant Services Coordinator":MAILTO:roxanne@clintoncountyhousing.com
END:VEVENT
BEGIN:VEVENT
DTSTART;TZID=America/New_York:20260730T100000
DTEND;TZID=America/New_York:20260730T120000
DTSTAMP:20260423T093625
CREATED:20260122T144456Z
LAST-MODIFIED:20260122T144456Z
UID:10000901-1785405600-1785412800@www.clintoncountyhousing.com
SUMMARY:Adult Computer Lab
DESCRIPTION:ADULT COMPUTER LAB\n \nWeekly on Thursdays\n10 am to 12 noon\n\ncall ahead to ensure computer availability\n570-893-1911 x-2\n\n 
URL:https://www.clintoncountyhousing.com/event/adult-computer-lab-3/2026-07-30/
LOCATION:John Yost Community Center\, 180 Bennage Ave\, Lock Haven\, PA\, 17745\, United States
ORGANIZER;CN="Tenant Services Coordinator":MAILTO:roxanne@clintoncountyhousing.com
END:VEVENT
BEGIN:VEVENT
DTSTART;TZID=America/New_York:20260806T100000
DTEND;TZID=America/New_York:20260806T120000
DTSTAMP:20260423T093625
CREATED:20260122T144456Z
LAST-MODIFIED:20260122T144456Z
UID:10000902-1786010400-1786017600@www.clintoncountyhousing.com
SUMMARY:Adult Computer Lab
DESCRIPTION:ADULT COMPUTER LAB\n \nWeekly on Thursdays\n10 am to 12 noon\n\ncall ahead to ensure computer availability\n570-893-1911 x-2\n\n 
URL:https://www.clintoncountyhousing.com/event/adult-computer-lab-3/2026-08-06/
LOCATION:John Yost Community Center\, 180 Bennage Ave\, Lock Haven\, PA\, 17745\, United States
ORGANIZER;CN="Tenant Services Coordinator":MAILTO:roxanne@clintoncountyhousing.com
END:VEVENT
BEGIN:VEVENT
DTSTART;TZID=America/New_York:20260813T100000
DTEND;TZID=America/New_York:20260813T120000
DTSTAMP:20260423T093625
CREATED:20260122T144456Z
LAST-MODIFIED:20260122T144456Z
UID:10000903-1786615200-1786622400@www.clintoncountyhousing.com
SUMMARY:Adult Computer Lab
DESCRIPTION:ADULT COMPUTER LAB\n \nWeekly on Thursdays\n10 am to 12 noon\n\ncall ahead to ensure computer availability\n570-893-1911 x-2\n\n 
URL:https://www.clintoncountyhousing.com/event/adult-computer-lab-3/2026-08-13/
LOCATION:John Yost Community Center\, 180 Bennage Ave\, Lock Haven\, PA\, 17745\, United States
ORGANIZER;CN="Tenant Services Coordinator":MAILTO:roxanne@clintoncountyhousing.com
END:VEVENT
BEGIN:VEVENT
DTSTART;TZID=America/New_York:20260820T100000
DTEND;TZID=America/New_York:20260820T120000
DTSTAMP:20260423T093625
CREATED:20260122T144456Z
LAST-MODIFIED:20260122T144456Z
UID:10000904-1787220000-1787227200@www.clintoncountyhousing.com
SUMMARY:Adult Computer Lab
DESCRIPTION:ADULT COMPUTER LAB\n \nWeekly on Thursdays\n10 am to 12 noon\n\ncall ahead to ensure computer availability\n570-893-1911 x-2\n\n 
URL:https://www.clintoncountyhousing.com/event/adult-computer-lab-3/2026-08-20/
LOCATION:John Yost Community Center\, 180 Bennage Ave\, Lock Haven\, PA\, 17745\, United States
ORGANIZER;CN="Tenant Services Coordinator":MAILTO:roxanne@clintoncountyhousing.com
END:VEVENT
BEGIN:VEVENT
DTSTART;TZID=America/New_York:20260827T100000
DTEND;TZID=America/New_York:20260827T120000
DTSTAMP:20260423T093625
CREATED:20260122T144456Z
LAST-MODIFIED:20260122T144456Z
UID:10000905-1787824800-1787832000@www.clintoncountyhousing.com
SUMMARY:Adult Computer Lab
DESCRIPTION:ADULT COMPUTER LAB\n \nWeekly on Thursdays\n10 am to 12 noon\n\ncall ahead to ensure computer availability\n570-893-1911 x-2\n\n 
URL:https://www.clintoncountyhousing.com/event/adult-computer-lab-3/2026-08-27/
LOCATION:John Yost Community Center\, 180 Bennage Ave\, Lock Haven\, PA\, 17745\, United States
ORGANIZER;CN="Tenant Services Coordinator":MAILTO:roxanne@clintoncountyhousing.com
END:VEVENT
BEGIN:VEVENT
DTSTART;TZID=America/New_York:20260903T100000
DTEND;TZID=America/New_York:20260903T120000
DTSTAMP:20260423T093625
CREATED:20260122T144456Z
LAST-MODIFIED:20260122T144456Z
UID:10000906-1788429600-1788436800@www.clintoncountyhousing.com
SUMMARY:Adult Computer Lab
DESCRIPTION:ADULT COMPUTER LAB\n \nWeekly on Thursdays\n10 am to 12 noon\n\ncall ahead to ensure computer availability\n570-893-1911 x-2\n\n 
URL:https://www.clintoncountyhousing.com/event/adult-computer-lab-3/2026-09-03/
LOCATION:John Yost Community Center\, 180 Bennage Ave\, Lock Haven\, PA\, 17745\, United States
ORGANIZER;CN="Tenant Services Coordinator":MAILTO:roxanne@clintoncountyhousing.com
END:VEVENT
BEGIN:VEVENT
DTSTART;TZID=America/New_York:20260910T100000
DTEND;TZID=America/New_York:20260910T120000
DTSTAMP:20260423T093625
CREATED:20260122T144456Z
LAST-MODIFIED:20260122T144456Z
UID:10000907-1789034400-1789041600@www.clintoncountyhousing.com
SUMMARY:Adult Computer Lab
DESCRIPTION:ADULT COMPUTER LAB\n \nWeekly on Thursdays\n10 am to 12 noon\n\ncall ahead to ensure computer availability\n570-893-1911 x-2\n\n 
URL:https://www.clintoncountyhousing.com/event/adult-computer-lab-3/2026-09-10/
LOCATION:John Yost Community Center\, 180 Bennage Ave\, Lock Haven\, PA\, 17745\, United States
ORGANIZER;CN="Tenant Services Coordinator":MAILTO:roxanne@clintoncountyhousing.com
END:VEVENT
BEGIN:VEVENT
DTSTART;TZID=America/New_York:20260917T100000
DTEND;TZID=America/New_York:20260917T120000
DTSTAMP:20260423T093625
CREATED:20260122T144456Z
LAST-MODIFIED:20260122T144456Z
UID:10000908-1789639200-1789646400@www.clintoncountyhousing.com
SUMMARY:Adult Computer Lab
DESCRIPTION:ADULT COMPUTER LAB\n \nWeekly on Thursdays\n10 am to 12 noon\n\ncall ahead to ensure computer availability\n570-893-1911 x-2\n\n 
URL:https://www.clintoncountyhousing.com/event/adult-computer-lab-3/2026-09-17/
LOCATION:John Yost Community Center\, 180 Bennage Ave\, Lock Haven\, PA\, 17745\, United States
ORGANIZER;CN="Tenant Services Coordinator":MAILTO:roxanne@clintoncountyhousing.com
END:VEVENT
BEGIN:VEVENT
DTSTART;TZID=America/New_York:20260924T100000
DTEND;TZID=America/New_York:20260924T120000
DTSTAMP:20260423T093625
CREATED:20260122T144456Z
LAST-MODIFIED:20260122T144456Z
UID:10000909-1790244000-1790251200@www.clintoncountyhousing.com
SUMMARY:Adult Computer Lab
DESCRIPTION:ADULT COMPUTER LAB\n \nWeekly on Thursdays\n10 am to 12 noon\n\ncall ahead to ensure computer availability\n570-893-1911 x-2\n\n 
URL:https://www.clintoncountyhousing.com/event/adult-computer-lab-3/2026-09-24/
LOCATION:John Yost Community Center\, 180 Bennage Ave\, Lock Haven\, PA\, 17745\, United States
ORGANIZER;CN="Tenant Services Coordinator":MAILTO:roxanne@clintoncountyhousing.com
END:VEVENT
BEGIN:VEVENT
DTSTART;TZID=America/New_York:20261001T100000
DTEND;TZID=America/New_York:20261001T120000
DTSTAMP:20260423T093625
CREATED:20260122T144456Z
LAST-MODIFIED:20260122T144456Z
UID:10000910-1790848800-1790856000@www.clintoncountyhousing.com
SUMMARY:Adult Computer Lab
DESCRIPTION:ADULT COMPUTER LAB\n \nWeekly on Thursdays\n10 am to 12 noon\n\ncall ahead to ensure computer availability\n570-893-1911 x-2\n\n 
URL:https://www.clintoncountyhousing.com/event/adult-computer-lab-3/2026-10-01/
LOCATION:John Yost Community Center\, 180 Bennage Ave\, Lock Haven\, PA\, 17745\, United States
ORGANIZER;CN="Tenant Services Coordinator":MAILTO:roxanne@clintoncountyhousing.com
END:VEVENT
BEGIN:VEVENT
DTSTART;TZID=America/New_York:20261008T100000
DTEND;TZID=America/New_York:20261008T120000
DTSTAMP:20260423T093625
CREATED:20260122T144456Z
LAST-MODIFIED:20260122T144456Z
UID:10000911-1791453600-1791460800@www.clintoncountyhousing.com
SUMMARY:Adult Computer Lab
DESCRIPTION:ADULT COMPUTER LAB\n \nWeekly on Thursdays\n10 am to 12 noon\n\ncall ahead to ensure computer availability\n570-893-1911 x-2\n\n 
URL:https://www.clintoncountyhousing.com/event/adult-computer-lab-3/2026-10-08/
LOCATION:John Yost Community Center\, 180 Bennage Ave\, Lock Haven\, PA\, 17745\, United States
ORGANIZER;CN="Tenant Services Coordinator":MAILTO:roxanne@clintoncountyhousing.com
END:VEVENT
BEGIN:VEVENT
DTSTART;TZID=America/New_York:20261015T100000
DTEND;TZID=America/New_York:20261015T120000
DTSTAMP:20260423T093625
CREATED:20260122T144456Z
LAST-MODIFIED:20260122T144456Z
UID:10000912-1792058400-1792065600@www.clintoncountyhousing.com
SUMMARY:Adult Computer Lab
DESCRIPTION:ADULT COMPUTER LAB\n \nWeekly on Thursdays\n10 am to 12 noon\n\ncall ahead to ensure computer availability\n570-893-1911 x-2\n\n 
URL:https://www.clintoncountyhousing.com/event/adult-computer-lab-3/2026-10-15/
LOCATION:John Yost Community Center\, 180 Bennage Ave\, Lock Haven\, PA\, 17745\, United States
ORGANIZER;CN="Tenant Services Coordinator":MAILTO:roxanne@clintoncountyhousing.com
END:VEVENT
BEGIN:VEVENT
DTSTART;TZID=America/New_York:20261022T100000
DTEND;TZID=America/New_York:20261022T120000
DTSTAMP:20260423T093625
CREATED:20260122T144456Z
LAST-MODIFIED:20260122T144456Z
UID:10000913-1792663200-1792670400@www.clintoncountyhousing.com
SUMMARY:Adult Computer Lab
DESCRIPTION:ADULT COMPUTER LAB\n \nWeekly on Thursdays\n10 am to 12 noon\n\ncall ahead to ensure computer availability\n570-893-1911 x-2\n\n 
URL:https://www.clintoncountyhousing.com/event/adult-computer-lab-3/2026-10-22/
LOCATION:John Yost Community Center\, 180 Bennage Ave\, Lock Haven\, PA\, 17745\, United States
ORGANIZER;CN="Tenant Services Coordinator":MAILTO:roxanne@clintoncountyhousing.com
END:VEVENT
BEGIN:VEVENT
DTSTART;TZID=America/New_York:20261029T100000
DTEND;TZID=America/New_York:20261029T120000
DTSTAMP:20260423T093625
CREATED:20260122T144456Z
LAST-MODIFIED:20260122T144456Z
UID:10000914-1793268000-1793275200@www.clintoncountyhousing.com
SUMMARY:Adult Computer Lab
DESCRIPTION:ADULT COMPUTER LAB\n \nWeekly on Thursdays\n10 am to 12 noon\n\ncall ahead to ensure computer availability\n570-893-1911 x-2\n\n 
URL:https://www.clintoncountyhousing.com/event/adult-computer-lab-3/2026-10-29/
LOCATION:John Yost Community Center\, 180 Bennage Ave\, Lock Haven\, PA\, 17745\, United States
ORGANIZER;CN="Tenant Services Coordinator":MAILTO:roxanne@clintoncountyhousing.com
END:VEVENT
BEGIN:VEVENT
DTSTART;TZID=America/New_York:20261105T100000
DTEND;TZID=America/New_York:20261105T120000
DTSTAMP:20260423T093625
CREATED:20260122T144456Z
LAST-MODIFIED:20260122T144456Z
UID:10000915-1793872800-1793880000@www.clintoncountyhousing.com
SUMMARY:Adult Computer Lab
DESCRIPTION:ADULT COMPUTER LAB\n \nWeekly on Thursdays\n10 am to 12 noon\n\ncall ahead to ensure computer availability\n570-893-1911 x-2\n\n 
URL:https://www.clintoncountyhousing.com/event/adult-computer-lab-3/2026-11-05/
LOCATION:John Yost Community Center\, 180 Bennage Ave\, Lock Haven\, PA\, 17745\, United States
ORGANIZER;CN="Tenant Services Coordinator":MAILTO:roxanne@clintoncountyhousing.com
END:VEVENT
BEGIN:VEVENT
DTSTART;TZID=America/New_York:20261112T100000
DTEND;TZID=America/New_York:20261112T120000
DTSTAMP:20260423T093625
CREATED:20260122T144456Z
LAST-MODIFIED:20260122T144456Z
UID:10000916-1794477600-1794484800@www.clintoncountyhousing.com
SUMMARY:Adult Computer Lab
DESCRIPTION:ADULT COMPUTER LAB\n \nWeekly on Thursdays\n10 am to 12 noon\n\ncall ahead to ensure computer availability\n570-893-1911 x-2\n\n 
URL:https://www.clintoncountyhousing.com/event/adult-computer-lab-3/2026-11-12/
LOCATION:John Yost Community Center\, 180 Bennage Ave\, Lock Haven\, PA\, 17745\, United States
ORGANIZER;CN="Tenant Services Coordinator":MAILTO:roxanne@clintoncountyhousing.com
END:VEVENT
END:VCALENDAR