BEGIN:VCALENDAR
VERSION:2.0
PRODID:-//Clinton County Housing Authority - ECPv6.15.20//NONSGML v1.0//EN
CALSCALE:GREGORIAN
METHOD:PUBLISH
X-ORIGINAL-URL:https://www.clintoncountyhousing.com
X-WR-CALDESC:Events for Clinton County Housing Authority
REFRESH-INTERVAL;VALUE=DURATION:PT1H
X-Robots-Tag:noindex
X-PUBLISHED-TTL:PT1H
BEGIN:VTIMEZONE
TZID:America/New_York
BEGIN:DAYLIGHT
TZOFFSETFROM:-0500
TZOFFSETTO:-0400
TZNAME:EDT
DTSTART:20230312T070000
END:DAYLIGHT
BEGIN:STANDARD
TZOFFSETFROM:-0400
TZOFFSETTO:-0500
TZNAME:EST
DTSTART:20231105T060000
END:STANDARD
BEGIN:DAYLIGHT
TZOFFSETFROM:-0500
TZOFFSETTO:-0400
TZNAME:EDT
DTSTART:20240310T070000
END:DAYLIGHT
BEGIN:STANDARD
TZOFFSETFROM:-0400
TZOFFSETTO:-0500
TZNAME:EST
DTSTART:20241103T060000
END:STANDARD
BEGIN:DAYLIGHT
TZOFFSETFROM:-0500
TZOFFSETTO:-0400
TZNAME:EDT
DTSTART:20250309T070000
END:DAYLIGHT
BEGIN:STANDARD
TZOFFSETFROM:-0400
TZOFFSETTO:-0500
TZNAME:EST
DTSTART:20251102T060000
END:STANDARD
BEGIN:DAYLIGHT
TZOFFSETFROM:-0500
TZOFFSETTO:-0400
TZNAME:EDT
DTSTART:20260308T070000
END:DAYLIGHT
BEGIN:STANDARD
TZOFFSETFROM:-0400
TZOFFSETTO:-0500
TZNAME:EST
DTSTART:20261101T060000
END:STANDARD
END:VTIMEZONE
BEGIN:VEVENT
DTSTART;TZID=America/New_York:20250113T153000
DTEND;TZID=America/New_York:20250113T163000
DTSTAMP:20260424T005623
CREATED:20240806T185616Z
LAST-MODIFIED:20250724T220219Z
UID:10000218-1736782200-1736785800@www.clintoncountyhousing.com
SUMMARY:After School Program 2024 - 2025
DESCRIPTION:Mondays & Wednesdays from 3:30 to 4:30
URL:https://www.clintoncountyhousing.com/event/after-school-program/2025-01-13/
LOCATION:John Yost Community Center\, 180 Bennage Ave\, Lock Haven\, PA\, 17745\, United States
ORGANIZER;CN="Roxanne Gottshall":MAILTO:roxanne@clintoncountyhousing.com
END:VEVENT
BEGIN:VEVENT
DTSTART;TZID=America/New_York:20250108T153000
DTEND;TZID=America/New_York:20250108T163000
DTSTAMP:20260424T005623
CREATED:20240806T185616Z
LAST-MODIFIED:20250724T220219Z
UID:10000217-1736350200-1736353800@www.clintoncountyhousing.com
SUMMARY:After School Program 2024 - 2025
DESCRIPTION:Mondays & Wednesdays from 3:30 to 4:30
URL:https://www.clintoncountyhousing.com/event/after-school-program/2025-01-08/
LOCATION:John Yost Community Center\, 180 Bennage Ave\, Lock Haven\, PA\, 17745\, United States
ORGANIZER;CN="Roxanne Gottshall":MAILTO:roxanne@clintoncountyhousing.com
END:VEVENT
BEGIN:VEVENT
DTSTART;TZID=America/New_York:20250106T153000
DTEND;TZID=America/New_York:20250106T163000
DTSTAMP:20260424T005623
CREATED:20240806T185616Z
LAST-MODIFIED:20250724T220219Z
UID:10000216-1736177400-1736181000@www.clintoncountyhousing.com
SUMMARY:After School Program 2024 - 2025
DESCRIPTION:Mondays & Wednesdays from 3:30 to 4:30
URL:https://www.clintoncountyhousing.com/event/after-school-program/2025-01-06/
LOCATION:John Yost Community Center\, 180 Bennage Ave\, Lock Haven\, PA\, 17745\, United States
ORGANIZER;CN="Roxanne Gottshall":MAILTO:roxanne@clintoncountyhousing.com
END:VEVENT
BEGIN:VEVENT
DTSTART;TZID=America/New_York:20241211T153000
DTEND;TZID=America/New_York:20241211T163000
DTSTAMP:20260424T005623
CREATED:20240806T185616Z
LAST-MODIFIED:20250724T220219Z
UID:10000213-1733931000-1733934600@www.clintoncountyhousing.com
SUMMARY:After School Program 2024 - 2025
DESCRIPTION:Mondays & Wednesdays from 3:30 to 4:30
URL:https://www.clintoncountyhousing.com/event/after-school-program/2024-12-11/
LOCATION:John Yost Community Center\, 180 Bennage Ave\, Lock Haven\, PA\, 17745\, United States
ORGANIZER;CN="Roxanne Gottshall":MAILTO:roxanne@clintoncountyhousing.com
END:VEVENT
BEGIN:VEVENT
DTSTART;TZID=America/New_York:20241209T153000
DTEND;TZID=America/New_York:20241209T163000
DTSTAMP:20260424T005623
CREATED:20240806T185616Z
LAST-MODIFIED:20250724T220219Z
UID:10000212-1733758200-1733761800@www.clintoncountyhousing.com
SUMMARY:After School Program 2024 - 2025
DESCRIPTION:Mondays & Wednesdays from 3:30 to 4:30
URL:https://www.clintoncountyhousing.com/event/after-school-program/2024-12-09/
LOCATION:John Yost Community Center\, 180 Bennage Ave\, Lock Haven\, PA\, 17745\, United States
ORGANIZER;CN="Roxanne Gottshall":MAILTO:roxanne@clintoncountyhousing.com
END:VEVENT
BEGIN:VEVENT
DTSTART;TZID=America/New_York:20241204T153000
DTEND;TZID=America/New_York:20241204T163000
DTSTAMP:20260424T005623
CREATED:20240806T185616Z
LAST-MODIFIED:20250724T220219Z
UID:10000211-1733326200-1733329800@www.clintoncountyhousing.com
SUMMARY:After School Program 2024 - 2025
DESCRIPTION:Mondays & Wednesdays from 3:30 to 4:30
URL:https://www.clintoncountyhousing.com/event/after-school-program/2024-12-04/
LOCATION:John Yost Community Center\, 180 Bennage Ave\, Lock Haven\, PA\, 17745\, United States
ORGANIZER;CN="Roxanne Gottshall":MAILTO:roxanne@clintoncountyhousing.com
END:VEVENT
BEGIN:VEVENT
DTSTART;TZID=America/New_York:20241125T153000
DTEND;TZID=America/New_York:20241125T163000
DTSTAMP:20260424T005623
CREATED:20240806T185616Z
LAST-MODIFIED:20250724T220219Z
UID:10000210-1732548600-1732552200@www.clintoncountyhousing.com
SUMMARY:After School Program 2024 - 2025
DESCRIPTION:Mondays & Wednesdays from 3:30 to 4:30
URL:https://www.clintoncountyhousing.com/event/after-school-program/2024-11-25/
LOCATION:John Yost Community Center\, 180 Bennage Ave\, Lock Haven\, PA\, 17745\, United States
ORGANIZER;CN="Roxanne Gottshall":MAILTO:roxanne@clintoncountyhousing.com
END:VEVENT
BEGIN:VEVENT
DTSTART;TZID=America/New_York:20241120T153000
DTEND;TZID=America/New_York:20241120T163000
DTSTAMP:20260424T005623
CREATED:20240806T185616Z
LAST-MODIFIED:20250724T220219Z
UID:10000209-1732116600-1732120200@www.clintoncountyhousing.com
SUMMARY:After School Program 2024 - 2025
DESCRIPTION:Mondays & Wednesdays from 3:30 to 4:30
URL:https://www.clintoncountyhousing.com/event/after-school-program/2024-11-20/
LOCATION:John Yost Community Center\, 180 Bennage Ave\, Lock Haven\, PA\, 17745\, United States
ORGANIZER;CN="Roxanne Gottshall":MAILTO:roxanne@clintoncountyhousing.com
END:VEVENT
BEGIN:VEVENT
DTSTART;TZID=America/New_York:20241118T153000
DTEND;TZID=America/New_York:20241118T163000
DTSTAMP:20260424T005623
CREATED:20240806T185616Z
LAST-MODIFIED:20250724T220219Z
UID:10000208-1731943800-1731947400@www.clintoncountyhousing.com
SUMMARY:After School Program 2024 - 2025
DESCRIPTION:Mondays & Wednesdays from 3:30 to 4:30
URL:https://www.clintoncountyhousing.com/event/after-school-program/2024-11-18/
LOCATION:John Yost Community Center\, 180 Bennage Ave\, Lock Haven\, PA\, 17745\, United States
ORGANIZER;CN="Roxanne Gottshall":MAILTO:roxanne@clintoncountyhousing.com
END:VEVENT
BEGIN:VEVENT
DTSTART;TZID=America/New_York:20241113T153000
DTEND;TZID=America/New_York:20241113T163000
DTSTAMP:20260424T005623
CREATED:20240806T185616Z
LAST-MODIFIED:20250724T220219Z
UID:10000207-1731511800-1731515400@www.clintoncountyhousing.com
SUMMARY:After School Program 2024 - 2025
DESCRIPTION:Mondays & Wednesdays from 3:30 to 4:30
URL:https://www.clintoncountyhousing.com/event/after-school-program/2024-11-13/
LOCATION:John Yost Community Center\, 180 Bennage Ave\, Lock Haven\, PA\, 17745\, United States
ORGANIZER;CN="Roxanne Gottshall":MAILTO:roxanne@clintoncountyhousing.com
END:VEVENT
BEGIN:VEVENT
DTSTART;TZID=America/New_York:20241111T153000
DTEND;TZID=America/New_York:20241111T163000
DTSTAMP:20260424T005623
CREATED:20240806T185616Z
LAST-MODIFIED:20250724T220219Z
UID:10000206-1731339000-1731342600@www.clintoncountyhousing.com
SUMMARY:After School Program 2024 - 2025
DESCRIPTION:Mondays & Wednesdays from 3:30 to 4:30
URL:https://www.clintoncountyhousing.com/event/after-school-program/2024-11-11/
LOCATION:John Yost Community Center\, 180 Bennage Ave\, Lock Haven\, PA\, 17745\, United States
ORGANIZER;CN="Roxanne Gottshall":MAILTO:roxanne@clintoncountyhousing.com
END:VEVENT
BEGIN:VEVENT
DTSTART;TZID=America/New_York:20241106T153000
DTEND;TZID=America/New_York:20241106T163000
DTSTAMP:20260424T005623
CREATED:20240806T185616Z
LAST-MODIFIED:20250724T220219Z
UID:10000205-1730907000-1730910600@www.clintoncountyhousing.com
SUMMARY:After School Program 2024 - 2025
DESCRIPTION:Mondays & Wednesdays from 3:30 to 4:30
URL:https://www.clintoncountyhousing.com/event/after-school-program/2024-11-06/
LOCATION:John Yost Community Center\, 180 Bennage Ave\, Lock Haven\, PA\, 17745\, United States
ORGANIZER;CN="Roxanne Gottshall":MAILTO:roxanne@clintoncountyhousing.com
END:VEVENT
BEGIN:VEVENT
DTSTART;TZID=America/New_York:20241104T153000
DTEND;TZID=America/New_York:20241104T163000
DTSTAMP:20260424T005623
CREATED:20240806T185616Z
LAST-MODIFIED:20250724T220219Z
UID:10000204-1730734200-1730737800@www.clintoncountyhousing.com
SUMMARY:After School Program 2024 - 2025
DESCRIPTION:Mondays & Wednesdays from 3:30 to 4:30
URL:https://www.clintoncountyhousing.com/event/after-school-program/2024-11-04/
LOCATION:John Yost Community Center\, 180 Bennage Ave\, Lock Haven\, PA\, 17745\, United States
ORGANIZER;CN="Roxanne Gottshall":MAILTO:roxanne@clintoncountyhousing.com
END:VEVENT
BEGIN:VEVENT
DTSTART;TZID=America/New_York:20241030T153000
DTEND;TZID=America/New_York:20241030T163000
DTSTAMP:20260424T005623
CREATED:20240806T185616Z
LAST-MODIFIED:20250724T220219Z
UID:10000203-1730302200-1730305800@www.clintoncountyhousing.com
SUMMARY:After School Program 2024 - 2025
DESCRIPTION:Mondays & Wednesdays from 3:30 to 4:30
URL:https://www.clintoncountyhousing.com/event/after-school-program/2024-10-30/
LOCATION:John Yost Community Center\, 180 Bennage Ave\, Lock Haven\, PA\, 17745\, United States
ORGANIZER;CN="Roxanne Gottshall":MAILTO:roxanne@clintoncountyhousing.com
END:VEVENT
BEGIN:VEVENT
DTSTART;TZID=America/New_York:20241028T153000
DTEND;TZID=America/New_York:20241028T163000
DTSTAMP:20260424T005623
CREATED:20240806T185616Z
LAST-MODIFIED:20250724T220219Z
UID:10000202-1730129400-1730133000@www.clintoncountyhousing.com
SUMMARY:After School Program 2024 - 2025
DESCRIPTION:Mondays & Wednesdays from 3:30 to 4:30
URL:https://www.clintoncountyhousing.com/event/after-school-program/2024-10-28/
LOCATION:John Yost Community Center\, 180 Bennage Ave\, Lock Haven\, PA\, 17745\, United States
ORGANIZER;CN="Roxanne Gottshall":MAILTO:roxanne@clintoncountyhousing.com
END:VEVENT
BEGIN:VEVENT
DTSTART;TZID=America/New_York:20241023T153000
DTEND;TZID=America/New_York:20241023T163000
DTSTAMP:20260424T005623
CREATED:20240806T185616Z
LAST-MODIFIED:20250724T220219Z
UID:10000201-1729697400-1729701000@www.clintoncountyhousing.com
SUMMARY:After School Program 2024 - 2025
DESCRIPTION:Mondays & Wednesdays from 3:30 to 4:30
URL:https://www.clintoncountyhousing.com/event/after-school-program/2024-10-23/
LOCATION:John Yost Community Center\, 180 Bennage Ave\, Lock Haven\, PA\, 17745\, United States
ORGANIZER;CN="Roxanne Gottshall":MAILTO:roxanne@clintoncountyhousing.com
END:VEVENT
BEGIN:VEVENT
DTSTART;TZID=America/New_York:20241021T153000
DTEND;TZID=America/New_York:20241021T163000
DTSTAMP:20260424T005623
CREATED:20240806T185616Z
LAST-MODIFIED:20250724T220219Z
UID:10000200-1729524600-1729528200@www.clintoncountyhousing.com
SUMMARY:After School Program 2024 - 2025
DESCRIPTION:Mondays & Wednesdays from 3:30 to 4:30
URL:https://www.clintoncountyhousing.com/event/after-school-program/2024-10-21/
LOCATION:John Yost Community Center\, 180 Bennage Ave\, Lock Haven\, PA\, 17745\, United States
ORGANIZER;CN="Roxanne Gottshall":MAILTO:roxanne@clintoncountyhousing.com
END:VEVENT
BEGIN:VEVENT
DTSTART;TZID=America/New_York:20241016T153000
DTEND;TZID=America/New_York:20241016T163000
DTSTAMP:20260424T005623
CREATED:20240806T185616Z
LAST-MODIFIED:20250724T220219Z
UID:10000199-1729092600-1729096200@www.clintoncountyhousing.com
SUMMARY:After School Program 2024 - 2025
DESCRIPTION:Mondays & Wednesdays from 3:30 to 4:30
URL:https://www.clintoncountyhousing.com/event/after-school-program/2024-10-16/
LOCATION:John Yost Community Center\, 180 Bennage Ave\, Lock Haven\, PA\, 17745\, United States
ORGANIZER;CN="Roxanne Gottshall":MAILTO:roxanne@clintoncountyhousing.com
END:VEVENT
BEGIN:VEVENT
DTSTART;TZID=America/New_York:20241009T153000
DTEND;TZID=America/New_York:20241009T163000
DTSTAMP:20260424T005623
CREATED:20240806T185616Z
LAST-MODIFIED:20250724T220219Z
UID:10000198-1728487800-1728491400@www.clintoncountyhousing.com
SUMMARY:After School Program 2024 - 2025
DESCRIPTION:Mondays & Wednesdays from 3:30 to 4:30
URL:https://www.clintoncountyhousing.com/event/after-school-program/2024-10-09/
LOCATION:John Yost Community Center\, 180 Bennage Ave\, Lock Haven\, PA\, 17745\, United States
ORGANIZER;CN="Roxanne Gottshall":MAILTO:roxanne@clintoncountyhousing.com
END:VEVENT
BEGIN:VEVENT
DTSTART;TZID=America/New_York:20241007T153000
DTEND;TZID=America/New_York:20241007T163000
DTSTAMP:20260424T005623
CREATED:20240806T185616Z
LAST-MODIFIED:20250724T220219Z
UID:10000197-1728315000-1728318600@www.clintoncountyhousing.com
SUMMARY:After School Program 2024 - 2025
DESCRIPTION:Mondays & Wednesdays from 3:30 to 4:30
URL:https://www.clintoncountyhousing.com/event/after-school-program/2024-10-07/
LOCATION:John Yost Community Center\, 180 Bennage Ave\, Lock Haven\, PA\, 17745\, United States
ORGANIZER;CN="Roxanne Gottshall":MAILTO:roxanne@clintoncountyhousing.com
END:VEVENT
BEGIN:VEVENT
DTSTART;TZID=America/New_York:20241002T153000
DTEND;TZID=America/New_York:20241002T163000
DTSTAMP:20260424T005623
CREATED:20240806T185616Z
LAST-MODIFIED:20250724T220219Z
UID:10000196-1727883000-1727886600@www.clintoncountyhousing.com
SUMMARY:After School Program 2024 - 2025
DESCRIPTION:Mondays & Wednesdays from 3:30 to 4:30
URL:https://www.clintoncountyhousing.com/event/after-school-program/2024-10-02/
LOCATION:John Yost Community Center\, 180 Bennage Ave\, Lock Haven\, PA\, 17745\, United States
ORGANIZER;CN="Roxanne Gottshall":MAILTO:roxanne@clintoncountyhousing.com
END:VEVENT
BEGIN:VEVENT
DTSTART;TZID=America/New_York:20240930T153000
DTEND;TZID=America/New_York:20240930T163000
DTSTAMP:20260424T005623
CREATED:20240806T185616Z
LAST-MODIFIED:20250724T220219Z
UID:10000195-1727710200-1727713800@www.clintoncountyhousing.com
SUMMARY:After School Program 2024 - 2025
DESCRIPTION:Mondays & Wednesdays from 3:30 to 4:30
URL:https://www.clintoncountyhousing.com/event/after-school-program/2024-09-30/
LOCATION:John Yost Community Center\, 180 Bennage Ave\, Lock Haven\, PA\, 17745\, United States
ORGANIZER;CN="Roxanne Gottshall":MAILTO:roxanne@clintoncountyhousing.com
END:VEVENT
BEGIN:VEVENT
DTSTART;TZID=America/New_York:20240925T153000
DTEND;TZID=America/New_York:20240925T163000
DTSTAMP:20260424T005623
CREATED:20240806T185616Z
LAST-MODIFIED:20250724T220219Z
UID:10000194-1727278200-1727281800@www.clintoncountyhousing.com
SUMMARY:After School Program 2024 - 2025
DESCRIPTION:Mondays & Wednesdays from 3:30 to 4:30
URL:https://www.clintoncountyhousing.com/event/after-school-program/2024-09-25/
LOCATION:John Yost Community Center\, 180 Bennage Ave\, Lock Haven\, PA\, 17745\, United States
ORGANIZER;CN="Roxanne Gottshall":MAILTO:roxanne@clintoncountyhousing.com
END:VEVENT
BEGIN:VEVENT
DTSTART;TZID=America/New_York:20240923T153000
DTEND;TZID=America/New_York:20240923T163000
DTSTAMP:20260424T005623
CREATED:20240806T185616Z
LAST-MODIFIED:20250724T220219Z
UID:10000193-1727105400-1727109000@www.clintoncountyhousing.com
SUMMARY:After School Program 2024 - 2025
DESCRIPTION:Mondays & Wednesdays from 3:30 to 4:30
URL:https://www.clintoncountyhousing.com/event/after-school-program/2024-09-23/
LOCATION:John Yost Community Center\, 180 Bennage Ave\, Lock Haven\, PA\, 17745\, United States
ORGANIZER;CN="Roxanne Gottshall":MAILTO:roxanne@clintoncountyhousing.com
END:VEVENT
BEGIN:VEVENT
DTSTART;TZID=America/New_York:20240919T100000
DTEND;TZID=America/New_York:20240919T110000
DTSTAMP:20260424T005623
CREATED:20240806T194847Z
LAST-MODIFIED:20240806T194847Z
UID:10000257-1726740000-1726743600@www.clintoncountyhousing.com
SUMMARY:Ransdorf Manor Flu Shots
DESCRIPTION:
URL:https://www.clintoncountyhousing.com/event/ransdorf-manor-flu-shots/
LOCATION:Ransdorf Manor\, 350 Huron Ave\, Renovo\, PA\, 17764\, United States
ORGANIZER;CN="Roxanne Gottshall":MAILTO:roxanne@clintoncountyhousing.com
END:VEVENT
BEGIN:VEVENT
DTSTART;TZID=America/New_York:20240918T153000
DTEND;TZID=America/New_York:20240918T163000
DTSTAMP:20260424T005623
CREATED:20240806T185616Z
LAST-MODIFIED:20250724T220219Z
UID:10000192-1726673400-1726677000@www.clintoncountyhousing.com
SUMMARY:After School Program 2024 - 2025
DESCRIPTION:Mondays & Wednesdays from 3:30 to 4:30
URL:https://www.clintoncountyhousing.com/event/after-school-program/2024-09-18/
LOCATION:John Yost Community Center\, 180 Bennage Ave\, Lock Haven\, PA\, 17745\, United States
ORGANIZER;CN="Roxanne Gottshall":MAILTO:roxanne@clintoncountyhousing.com
END:VEVENT
BEGIN:VEVENT
DTSTART;TZID=America/New_York:20240918T100000
DTEND;TZID=America/New_York:20240918T113000
DTSTAMP:20260424T005623
CREATED:20240806T194614Z
LAST-MODIFIED:20240806T194614Z
UID:10000256-1726653600-1726659000@www.clintoncountyhousing.com
SUMMARY:Carter Towers & Moriarty Court Flu Shots
DESCRIPTION:
URL:https://www.clintoncountyhousing.com/event/carter-towers-moriarty-court-flu-shots/
LOCATION:Carter Towers\, 11 S Jones St\, Lock Haven\, PA\, 17745\, United States
ORGANIZER;CN="Roxanne Gottshall":MAILTO:roxanne@clintoncountyhousing.com
END:VEVENT
BEGIN:VEVENT
DTSTART;TZID=America/New_York:20240916T153000
DTEND;TZID=America/New_York:20240916T163000
DTSTAMP:20260424T005623
CREATED:20240806T185616Z
LAST-MODIFIED:20250724T220219Z
UID:10000191-1726500600-1726504200@www.clintoncountyhousing.com
SUMMARY:After School Program 2024 - 2025
DESCRIPTION:Mondays & Wednesdays from 3:30 to 4:30
URL:https://www.clintoncountyhousing.com/event/after-school-program/2024-09-16/
LOCATION:John Yost Community Center\, 180 Bennage Ave\, Lock Haven\, PA\, 17745\, United States
ORGANIZER;CN="Roxanne Gottshall":MAILTO:roxanne@clintoncountyhousing.com
END:VEVENT
BEGIN:VEVENT
DTSTART;TZID=America/New_York:20240916T130000
DTEND;TZID=America/New_York:20240916T140000
DTSTAMP:20260424T005623
CREATED:20240806T194302Z
LAST-MODIFIED:20240806T194302Z
UID:10000255-1726491600-1726495200@www.clintoncountyhousing.com
SUMMARY:Probst Plaza Flu Shots
DESCRIPTION:
URL:https://www.clintoncountyhousing.com/event/probst-plaza-flu-shots/
LOCATION:Probst Plaza\, N Jones St\, Lock Haven\, PA\, 17745\, United States
ORGANIZER;CN="Roxanne Gottshall":MAILTO:roxanne@clintoncountyhousing.com
END:VEVENT
BEGIN:VEVENT
DTSTART;TZID=America/New_York:20240916T100000
DTEND;TZID=America/New_York:20240916T110000
DTSTAMP:20260424T005623
CREATED:20240806T193838Z
LAST-MODIFIED:20240806T193838Z
UID:10000254-1726480800-1726484400@www.clintoncountyhousing.com
SUMMARY:Putman Manor Flu Shots
DESCRIPTION:
URL:https://www.clintoncountyhousing.com/event/putman-manor-flu-shots/
LOCATION:Putnam Manor\, 335 Center St\, Lock Haven\, PA\, 17745\, United States
ORGANIZER;CN="Roxanne Gottshall":MAILTO:roxanne@clintoncountyhousing.com
END:VEVENT
END:VCALENDAR