BEGIN:VCALENDAR
VERSION:2.0
PRODID:-//Clinton County Housing Authority - ECPv6.15.20//NONSGML v1.0//EN
CALSCALE:GREGORIAN
METHOD:PUBLISH
X-ORIGINAL-URL:https://www.clintoncountyhousing.com
X-WR-CALDESC:Events for Clinton County Housing Authority
REFRESH-INTERVAL;VALUE=DURATION:PT1H
X-Robots-Tag:noindex
X-PUBLISHED-TTL:PT1H
BEGIN:VTIMEZONE
TZID:America/New_York
BEGIN:DAYLIGHT
TZOFFSETFROM:-0500
TZOFFSETTO:-0400
TZNAME:EDT
DTSTART:20240310T070000
END:DAYLIGHT
BEGIN:STANDARD
TZOFFSETFROM:-0400
TZOFFSETTO:-0500
TZNAME:EST
DTSTART:20241103T060000
END:STANDARD
BEGIN:DAYLIGHT
TZOFFSETFROM:-0500
TZOFFSETTO:-0400
TZNAME:EDT
DTSTART:20250309T070000
END:DAYLIGHT
BEGIN:STANDARD
TZOFFSETFROM:-0400
TZOFFSETTO:-0500
TZNAME:EST
DTSTART:20251102T060000
END:STANDARD
BEGIN:DAYLIGHT
TZOFFSETFROM:-0500
TZOFFSETTO:-0400
TZNAME:EDT
DTSTART:20260308T070000
END:DAYLIGHT
BEGIN:STANDARD
TZOFFSETFROM:-0400
TZOFFSETTO:-0500
TZNAME:EST
DTSTART:20261101T060000
END:STANDARD
BEGIN:DAYLIGHT
TZOFFSETFROM:-0500
TZOFFSETTO:-0400
TZNAME:EDT
DTSTART:20270314T070000
END:DAYLIGHT
BEGIN:STANDARD
TZOFFSETFROM:-0400
TZOFFSETTO:-0500
TZNAME:EST
DTSTART:20271107T060000
END:STANDARD
END:VTIMEZONE
BEGIN:VEVENT
DTSTART;TZID=America/New_York:20260316T153000
DTEND;TZID=America/New_York:20260316T163000
DTSTAMP:20260423T134823
CREATED:20250825T193530Z
LAST-MODIFIED:20250825T193813Z
UID:10000731-1773675000-1773678600@www.clintoncountyhousing.com
SUMMARY:After School Program 2025 - 2026
DESCRIPTION:CCHA’s After Schol Program\n \nThe After School Program runs every Monday & Wednesday from 3:30 to 4:30 at the John Yost Community Center. \nWe will provide help with homework\, snacks\, arts & crafts\, games\, computer days\, outside activities. \n – Kids in the Kitchen Days \n – Special Guests and Demonstrations \n 
URL:https://www.clintoncountyhousing.com/event/after-school-program-2025-2026/2026-03-16/
LOCATION:John Yost Community Center\, 180 Bennage Ave\, Lock Haven\, PA\, 17745\, United States
ORGANIZER;CN="Roxanne Gottshall":MAILTO:roxanne@clintoncountyhousing.com
END:VEVENT
BEGIN:VEVENT
DTSTART;TZID=America/New_York:20260311T153000
DTEND;TZID=America/New_York:20260311T163000
DTSTAMP:20260423T134823
CREATED:20250825T193530Z
LAST-MODIFIED:20250825T193813Z
UID:10000730-1773243000-1773246600@www.clintoncountyhousing.com
SUMMARY:After School Program 2025 - 2026
DESCRIPTION:CCHA’s After Schol Program\n \nThe After School Program runs every Monday & Wednesday from 3:30 to 4:30 at the John Yost Community Center. \nWe will provide help with homework\, snacks\, arts & crafts\, games\, computer days\, outside activities. \n – Kids in the Kitchen Days \n – Special Guests and Demonstrations \n 
URL:https://www.clintoncountyhousing.com/event/after-school-program-2025-2026/2026-03-11/
LOCATION:John Yost Community Center\, 180 Bennage Ave\, Lock Haven\, PA\, 17745\, United States
ORGANIZER;CN="Roxanne Gottshall":MAILTO:roxanne@clintoncountyhousing.com
END:VEVENT
BEGIN:VEVENT
DTSTART;TZID=America/New_York:20260309T153000
DTEND;TZID=America/New_York:20260309T163000
DTSTAMP:20260423T134823
CREATED:20250825T193530Z
LAST-MODIFIED:20250825T193813Z
UID:10000729-1773070200-1773073800@www.clintoncountyhousing.com
SUMMARY:After School Program 2025 - 2026
DESCRIPTION:CCHA’s After Schol Program\n \nThe After School Program runs every Monday & Wednesday from 3:30 to 4:30 at the John Yost Community Center. \nWe will provide help with homework\, snacks\, arts & crafts\, games\, computer days\, outside activities. \n – Kids in the Kitchen Days \n – Special Guests and Demonstrations \n 
URL:https://www.clintoncountyhousing.com/event/after-school-program-2025-2026/2026-03-09/
LOCATION:John Yost Community Center\, 180 Bennage Ave\, Lock Haven\, PA\, 17745\, United States
ORGANIZER;CN="Roxanne Gottshall":MAILTO:roxanne@clintoncountyhousing.com
END:VEVENT
BEGIN:VEVENT
DTSTART;TZID=America/New_York:20260304T153000
DTEND;TZID=America/New_York:20260304T163000
DTSTAMP:20260423T134823
CREATED:20250825T193530Z
LAST-MODIFIED:20250825T193813Z
UID:10000728-1772638200-1772641800@www.clintoncountyhousing.com
SUMMARY:After School Program 2025 - 2026
DESCRIPTION:CCHA’s After Schol Program\n \nThe After School Program runs every Monday & Wednesday from 3:30 to 4:30 at the John Yost Community Center. \nWe will provide help with homework\, snacks\, arts & crafts\, games\, computer days\, outside activities. \n – Kids in the Kitchen Days \n – Special Guests and Demonstrations \n 
URL:https://www.clintoncountyhousing.com/event/after-school-program-2025-2026/2026-03-04/
LOCATION:John Yost Community Center\, 180 Bennage Ave\, Lock Haven\, PA\, 17745\, United States
ORGANIZER;CN="Roxanne Gottshall":MAILTO:roxanne@clintoncountyhousing.com
END:VEVENT
BEGIN:VEVENT
DTSTART;TZID=America/New_York:20260302T153000
DTEND;TZID=America/New_York:20260302T163000
DTSTAMP:20260423T134823
CREATED:20250825T193530Z
LAST-MODIFIED:20250825T193813Z
UID:10000727-1772465400-1772469000@www.clintoncountyhousing.com
SUMMARY:After School Program 2025 - 2026
DESCRIPTION:CCHA’s After Schol Program\n \nThe After School Program runs every Monday & Wednesday from 3:30 to 4:30 at the John Yost Community Center. \nWe will provide help with homework\, snacks\, arts & crafts\, games\, computer days\, outside activities. \n – Kids in the Kitchen Days \n – Special Guests and Demonstrations \n 
URL:https://www.clintoncountyhousing.com/event/after-school-program-2025-2026/2026-03-02/
LOCATION:John Yost Community Center\, 180 Bennage Ave\, Lock Haven\, PA\, 17745\, United States
ORGANIZER;CN="Roxanne Gottshall":MAILTO:roxanne@clintoncountyhousing.com
END:VEVENT
BEGIN:VEVENT
DTSTART;TZID=America/New_York:20260225T153000
DTEND;TZID=America/New_York:20260225T163000
DTSTAMP:20260423T134823
CREATED:20250825T193530Z
LAST-MODIFIED:20250825T193813Z
UID:10000726-1772033400-1772037000@www.clintoncountyhousing.com
SUMMARY:After School Program 2025 - 2026
DESCRIPTION:CCHA’s After Schol Program\n \nThe After School Program runs every Monday & Wednesday from 3:30 to 4:30 at the John Yost Community Center. \nWe will provide help with homework\, snacks\, arts & crafts\, games\, computer days\, outside activities. \n – Kids in the Kitchen Days \n – Special Guests and Demonstrations \n 
URL:https://www.clintoncountyhousing.com/event/after-school-program-2025-2026/2026-02-25/
LOCATION:John Yost Community Center\, 180 Bennage Ave\, Lock Haven\, PA\, 17745\, United States
ORGANIZER;CN="Roxanne Gottshall":MAILTO:roxanne@clintoncountyhousing.com
END:VEVENT
BEGIN:VEVENT
DTSTART;TZID=America/New_York:20260223T153000
DTEND;TZID=America/New_York:20260223T163000
DTSTAMP:20260423T134823
CREATED:20250825T193530Z
LAST-MODIFIED:20250825T193813Z
UID:10000725-1771860600-1771864200@www.clintoncountyhousing.com
SUMMARY:After School Program 2025 - 2026
DESCRIPTION:CCHA’s After Schol Program\n \nThe After School Program runs every Monday & Wednesday from 3:30 to 4:30 at the John Yost Community Center. \nWe will provide help with homework\, snacks\, arts & crafts\, games\, computer days\, outside activities. \n – Kids in the Kitchen Days \n – Special Guests and Demonstrations \n 
URL:https://www.clintoncountyhousing.com/event/after-school-program-2025-2026/2026-02-23/
LOCATION:John Yost Community Center\, 180 Bennage Ave\, Lock Haven\, PA\, 17745\, United States
ORGANIZER;CN="Roxanne Gottshall":MAILTO:roxanne@clintoncountyhousing.com
END:VEVENT
BEGIN:VEVENT
DTSTART;TZID=America/New_York:20260218T153000
DTEND;TZID=America/New_York:20260218T163000
DTSTAMP:20260423T134823
CREATED:20250825T193530Z
LAST-MODIFIED:20250825T193813Z
UID:10000724-1771428600-1771432200@www.clintoncountyhousing.com
SUMMARY:After School Program 2025 - 2026
DESCRIPTION:CCHA’s After Schol Program\n \nThe After School Program runs every Monday & Wednesday from 3:30 to 4:30 at the John Yost Community Center. \nWe will provide help with homework\, snacks\, arts & crafts\, games\, computer days\, outside activities. \n – Kids in the Kitchen Days \n – Special Guests and Demonstrations \n 
URL:https://www.clintoncountyhousing.com/event/after-school-program-2025-2026/2026-02-18/
LOCATION:John Yost Community Center\, 180 Bennage Ave\, Lock Haven\, PA\, 17745\, United States
ORGANIZER;CN="Roxanne Gottshall":MAILTO:roxanne@clintoncountyhousing.com
END:VEVENT
BEGIN:VEVENT
DTSTART;TZID=America/New_York:20260211T153000
DTEND;TZID=America/New_York:20260211T163000
DTSTAMP:20260423T134823
CREATED:20250825T193530Z
LAST-MODIFIED:20250825T193813Z
UID:10000722-1770823800-1770827400@www.clintoncountyhousing.com
SUMMARY:After School Program 2025 - 2026
DESCRIPTION:CCHA’s After Schol Program\n \nThe After School Program runs every Monday & Wednesday from 3:30 to 4:30 at the John Yost Community Center. \nWe will provide help with homework\, snacks\, arts & crafts\, games\, computer days\, outside activities. \n – Kids in the Kitchen Days \n – Special Guests and Demonstrations \n 
URL:https://www.clintoncountyhousing.com/event/after-school-program-2025-2026/2026-02-11/
LOCATION:John Yost Community Center\, 180 Bennage Ave\, Lock Haven\, PA\, 17745\, United States
ORGANIZER;CN="Roxanne Gottshall":MAILTO:roxanne@clintoncountyhousing.com
END:VEVENT
BEGIN:VEVENT
DTSTART;TZID=America/New_York:20260209T153000
DTEND;TZID=America/New_York:20260209T163000
DTSTAMP:20260423T134823
CREATED:20250825T193530Z
LAST-MODIFIED:20250825T193813Z
UID:10000721-1770651000-1770654600@www.clintoncountyhousing.com
SUMMARY:After School Program 2025 - 2026
DESCRIPTION:CCHA’s After Schol Program\n \nThe After School Program runs every Monday & Wednesday from 3:30 to 4:30 at the John Yost Community Center. \nWe will provide help with homework\, snacks\, arts & crafts\, games\, computer days\, outside activities. \n – Kids in the Kitchen Days \n – Special Guests and Demonstrations \n 
URL:https://www.clintoncountyhousing.com/event/after-school-program-2025-2026/2026-02-09/
LOCATION:John Yost Community Center\, 180 Bennage Ave\, Lock Haven\, PA\, 17745\, United States
ORGANIZER;CN="Roxanne Gottshall":MAILTO:roxanne@clintoncountyhousing.com
END:VEVENT
BEGIN:VEVENT
DTSTART;TZID=America/New_York:20260204T153000
DTEND;TZID=America/New_York:20260204T163000
DTSTAMP:20260423T134823
CREATED:20250825T193530Z
LAST-MODIFIED:20250825T193813Z
UID:10000720-1770219000-1770222600@www.clintoncountyhousing.com
SUMMARY:After School Program 2025 - 2026
DESCRIPTION:CCHA’s After Schol Program\n \nThe After School Program runs every Monday & Wednesday from 3:30 to 4:30 at the John Yost Community Center. \nWe will provide help with homework\, snacks\, arts & crafts\, games\, computer days\, outside activities. \n – Kids in the Kitchen Days \n – Special Guests and Demonstrations \n 
URL:https://www.clintoncountyhousing.com/event/after-school-program-2025-2026/2026-02-04/
LOCATION:John Yost Community Center\, 180 Bennage Ave\, Lock Haven\, PA\, 17745\, United States
ORGANIZER;CN="Roxanne Gottshall":MAILTO:roxanne@clintoncountyhousing.com
END:VEVENT
BEGIN:VEVENT
DTSTART;TZID=America/New_York:20260202T153000
DTEND;TZID=America/New_York:20260202T163000
DTSTAMP:20260423T134823
CREATED:20250825T193530Z
LAST-MODIFIED:20250825T193813Z
UID:10000719-1770046200-1770049800@www.clintoncountyhousing.com
SUMMARY:After School Program 2025 - 2026
DESCRIPTION:CCHA’s After Schol Program\n \nThe After School Program runs every Monday & Wednesday from 3:30 to 4:30 at the John Yost Community Center. \nWe will provide help with homework\, snacks\, arts & crafts\, games\, computer days\, outside activities. \n – Kids in the Kitchen Days \n – Special Guests and Demonstrations \n 
URL:https://www.clintoncountyhousing.com/event/after-school-program-2025-2026/2026-02-02/
LOCATION:John Yost Community Center\, 180 Bennage Ave\, Lock Haven\, PA\, 17745\, United States
ORGANIZER;CN="Roxanne Gottshall":MAILTO:roxanne@clintoncountyhousing.com
END:VEVENT
BEGIN:VEVENT
DTSTART;TZID=America/New_York:20260128T153000
DTEND;TZID=America/New_York:20260128T163000
DTSTAMP:20260423T134823
CREATED:20250825T193530Z
LAST-MODIFIED:20250825T193813Z
UID:10000718-1769614200-1769617800@www.clintoncountyhousing.com
SUMMARY:After School Program 2025 - 2026
DESCRIPTION:CCHA’s After Schol Program\n \nThe After School Program runs every Monday & Wednesday from 3:30 to 4:30 at the John Yost Community Center. \nWe will provide help with homework\, snacks\, arts & crafts\, games\, computer days\, outside activities. \n – Kids in the Kitchen Days \n – Special Guests and Demonstrations \n 
URL:https://www.clintoncountyhousing.com/event/after-school-program-2025-2026/2026-01-28/
LOCATION:John Yost Community Center\, 180 Bennage Ave\, Lock Haven\, PA\, 17745\, United States
ORGANIZER;CN="Roxanne Gottshall":MAILTO:roxanne@clintoncountyhousing.com
END:VEVENT
BEGIN:VEVENT
DTSTART;TZID=America/New_York:20260126T153000
DTEND;TZID=America/New_York:20260126T163000
DTSTAMP:20260423T134823
CREATED:20250825T193530Z
LAST-MODIFIED:20250825T193813Z
UID:10000717-1769441400-1769445000@www.clintoncountyhousing.com
SUMMARY:After School Program 2025 - 2026
DESCRIPTION:CCHA’s After Schol Program\n \nThe After School Program runs every Monday & Wednesday from 3:30 to 4:30 at the John Yost Community Center. \nWe will provide help with homework\, snacks\, arts & crafts\, games\, computer days\, outside activities. \n – Kids in the Kitchen Days \n – Special Guests and Demonstrations \n 
URL:https://www.clintoncountyhousing.com/event/after-school-program-2025-2026/2026-01-26/
LOCATION:John Yost Community Center\, 180 Bennage Ave\, Lock Haven\, PA\, 17745\, United States
ORGANIZER;CN="Roxanne Gottshall":MAILTO:roxanne@clintoncountyhousing.com
END:VEVENT
BEGIN:VEVENT
DTSTART;TZID=America/New_York:20260121T153000
DTEND;TZID=America/New_York:20260121T163000
DTSTAMP:20260423T134823
CREATED:20250825T193530Z
LAST-MODIFIED:20250825T193813Z
UID:10000716-1769009400-1769013000@www.clintoncountyhousing.com
SUMMARY:After School Program 2025 - 2026
DESCRIPTION:CCHA’s After Schol Program\n \nThe After School Program runs every Monday & Wednesday from 3:30 to 4:30 at the John Yost Community Center. \nWe will provide help with homework\, snacks\, arts & crafts\, games\, computer days\, outside activities. \n – Kids in the Kitchen Days \n – Special Guests and Demonstrations \n 
URL:https://www.clintoncountyhousing.com/event/after-school-program-2025-2026/2026-01-21/
LOCATION:John Yost Community Center\, 180 Bennage Ave\, Lock Haven\, PA\, 17745\, United States
ORGANIZER;CN="Roxanne Gottshall":MAILTO:roxanne@clintoncountyhousing.com
END:VEVENT
BEGIN:VEVENT
DTSTART;TZID=America/New_York:20260114T153000
DTEND;TZID=America/New_York:20260114T163000
DTSTAMP:20260423T134823
CREATED:20250825T193530Z
LAST-MODIFIED:20250825T193813Z
UID:10000714-1768404600-1768408200@www.clintoncountyhousing.com
SUMMARY:After School Program 2025 - 2026
DESCRIPTION:CCHA’s After Schol Program\n \nThe After School Program runs every Monday & Wednesday from 3:30 to 4:30 at the John Yost Community Center. \nWe will provide help with homework\, snacks\, arts & crafts\, games\, computer days\, outside activities. \n – Kids in the Kitchen Days \n – Special Guests and Demonstrations \n 
URL:https://www.clintoncountyhousing.com/event/after-school-program-2025-2026/2026-01-14/
LOCATION:John Yost Community Center\, 180 Bennage Ave\, Lock Haven\, PA\, 17745\, United States
ORGANIZER;CN="Roxanne Gottshall":MAILTO:roxanne@clintoncountyhousing.com
END:VEVENT
BEGIN:VEVENT
DTSTART;TZID=America/New_York:20260112T153000
DTEND;TZID=America/New_York:20260112T163000
DTSTAMP:20260423T134823
CREATED:20250825T193530Z
LAST-MODIFIED:20250825T193813Z
UID:10000713-1768231800-1768235400@www.clintoncountyhousing.com
SUMMARY:After School Program 2025 - 2026
DESCRIPTION:CCHA’s After Schol Program\n \nThe After School Program runs every Monday & Wednesday from 3:30 to 4:30 at the John Yost Community Center. \nWe will provide help with homework\, snacks\, arts & crafts\, games\, computer days\, outside activities. \n – Kids in the Kitchen Days \n – Special Guests and Demonstrations \n 
URL:https://www.clintoncountyhousing.com/event/after-school-program-2025-2026/2026-01-12/
LOCATION:John Yost Community Center\, 180 Bennage Ave\, Lock Haven\, PA\, 17745\, United States
ORGANIZER;CN="Roxanne Gottshall":MAILTO:roxanne@clintoncountyhousing.com
END:VEVENT
BEGIN:VEVENT
DTSTART;TZID=America/New_York:20260107T153000
DTEND;TZID=America/New_York:20260107T163000
DTSTAMP:20260423T134823
CREATED:20250825T193530Z
LAST-MODIFIED:20250825T193813Z
UID:10000712-1767799800-1767803400@www.clintoncountyhousing.com
SUMMARY:After School Program 2025 - 2026
DESCRIPTION:CCHA’s After Schol Program\n \nThe After School Program runs every Monday & Wednesday from 3:30 to 4:30 at the John Yost Community Center. \nWe will provide help with homework\, snacks\, arts & crafts\, games\, computer days\, outside activities. \n – Kids in the Kitchen Days \n – Special Guests and Demonstrations \n 
URL:https://www.clintoncountyhousing.com/event/after-school-program-2025-2026/2026-01-07/
LOCATION:John Yost Community Center\, 180 Bennage Ave\, Lock Haven\, PA\, 17745\, United States
ORGANIZER;CN="Roxanne Gottshall":MAILTO:roxanne@clintoncountyhousing.com
END:VEVENT
BEGIN:VEVENT
DTSTART;TZID=America/New_York:20260105T153000
DTEND;TZID=America/New_York:20260105T163000
DTSTAMP:20260423T134823
CREATED:20250825T193530Z
LAST-MODIFIED:20250825T193813Z
UID:10000711-1767627000-1767630600@www.clintoncountyhousing.com
SUMMARY:After School Program 2025 - 2026
DESCRIPTION:CCHA’s After Schol Program\n \nThe After School Program runs every Monday & Wednesday from 3:30 to 4:30 at the John Yost Community Center. \nWe will provide help with homework\, snacks\, arts & crafts\, games\, computer days\, outside activities. \n – Kids in the Kitchen Days \n – Special Guests and Demonstrations \n 
URL:https://www.clintoncountyhousing.com/event/after-school-program-2025-2026/2026-01-05/
LOCATION:John Yost Community Center\, 180 Bennage Ave\, Lock Haven\, PA\, 17745\, United States
ORGANIZER;CN="Roxanne Gottshall":MAILTO:roxanne@clintoncountyhousing.com
END:VEVENT
BEGIN:VEVENT
DTSTART;TZID=America/New_York:20251217T153000
DTEND;TZID=America/New_York:20251217T163000
DTSTAMP:20260423T134823
CREATED:20250825T193530Z
LAST-MODIFIED:20250825T193813Z
UID:10000706-1765985400-1765989000@www.clintoncountyhousing.com
SUMMARY:After School Program 2025 - 2026
DESCRIPTION:CCHA’s After Schol Program\n \nThe After School Program runs every Monday & Wednesday from 3:30 to 4:30 at the John Yost Community Center. \nWe will provide help with homework\, snacks\, arts & crafts\, games\, computer days\, outside activities. \n – Kids in the Kitchen Days \n – Special Guests and Demonstrations \n 
URL:https://www.clintoncountyhousing.com/event/after-school-program-2025-2026/2025-12-17/
LOCATION:John Yost Community Center\, 180 Bennage Ave\, Lock Haven\, PA\, 17745\, United States
ORGANIZER;CN="Roxanne Gottshall":MAILTO:roxanne@clintoncountyhousing.com
END:VEVENT
BEGIN:VEVENT
DTSTART;TZID=America/New_York:20251215T153000
DTEND;TZID=America/New_York:20251215T163000
DTSTAMP:20260423T134823
CREATED:20250825T193530Z
LAST-MODIFIED:20250825T193813Z
UID:10000705-1765812600-1765816200@www.clintoncountyhousing.com
SUMMARY:After School Program 2025 - 2026
DESCRIPTION:CCHA’s After Schol Program\n \nThe After School Program runs every Monday & Wednesday from 3:30 to 4:30 at the John Yost Community Center. \nWe will provide help with homework\, snacks\, arts & crafts\, games\, computer days\, outside activities. \n – Kids in the Kitchen Days \n – Special Guests and Demonstrations \n 
URL:https://www.clintoncountyhousing.com/event/after-school-program-2025-2026/2025-12-15/
LOCATION:John Yost Community Center\, 180 Bennage Ave\, Lock Haven\, PA\, 17745\, United States
ORGANIZER;CN="Roxanne Gottshall":MAILTO:roxanne@clintoncountyhousing.com
END:VEVENT
BEGIN:VEVENT
DTSTART;TZID=America/New_York:20251210T153000
DTEND;TZID=America/New_York:20251210T163000
DTSTAMP:20260423T134823
CREATED:20250825T193530Z
LAST-MODIFIED:20250825T193813Z
UID:10000704-1765380600-1765384200@www.clintoncountyhousing.com
SUMMARY:After School Program 2025 - 2026
DESCRIPTION:CCHA’s After Schol Program\n \nThe After School Program runs every Monday & Wednesday from 3:30 to 4:30 at the John Yost Community Center. \nWe will provide help with homework\, snacks\, arts & crafts\, games\, computer days\, outside activities. \n – Kids in the Kitchen Days \n – Special Guests and Demonstrations \n 
URL:https://www.clintoncountyhousing.com/event/after-school-program-2025-2026/2025-12-10/
LOCATION:John Yost Community Center\, 180 Bennage Ave\, Lock Haven\, PA\, 17745\, United States
ORGANIZER;CN="Roxanne Gottshall":MAILTO:roxanne@clintoncountyhousing.com
END:VEVENT
BEGIN:VEVENT
DTSTART;TZID=America/New_York:20251208T153000
DTEND;TZID=America/New_York:20251208T163000
DTSTAMP:20260423T134823
CREATED:20250825T193530Z
LAST-MODIFIED:20250825T193813Z
UID:10000703-1765207800-1765211400@www.clintoncountyhousing.com
SUMMARY:After School Program 2025 - 2026
DESCRIPTION:CCHA’s After Schol Program\n \nThe After School Program runs every Monday & Wednesday from 3:30 to 4:30 at the John Yost Community Center. \nWe will provide help with homework\, snacks\, arts & crafts\, games\, computer days\, outside activities. \n – Kids in the Kitchen Days \n – Special Guests and Demonstrations \n 
URL:https://www.clintoncountyhousing.com/event/after-school-program-2025-2026/2025-12-08/
LOCATION:John Yost Community Center\, 180 Bennage Ave\, Lock Haven\, PA\, 17745\, United States
ORGANIZER;CN="Roxanne Gottshall":MAILTO:roxanne@clintoncountyhousing.com
END:VEVENT
BEGIN:VEVENT
DTSTART;TZID=America/New_York:20251203T153000
DTEND;TZID=America/New_York:20251203T163000
DTSTAMP:20260423T134823
CREATED:20250825T193530Z
LAST-MODIFIED:20250825T193813Z
UID:10000702-1764775800-1764779400@www.clintoncountyhousing.com
SUMMARY:After School Program 2025 - 2026
DESCRIPTION:CCHA’s After Schol Program\n \nThe After School Program runs every Monday & Wednesday from 3:30 to 4:30 at the John Yost Community Center. \nWe will provide help with homework\, snacks\, arts & crafts\, games\, computer days\, outside activities. \n – Kids in the Kitchen Days \n – Special Guests and Demonstrations \n 
URL:https://www.clintoncountyhousing.com/event/after-school-program-2025-2026/2025-12-03/
LOCATION:John Yost Community Center\, 180 Bennage Ave\, Lock Haven\, PA\, 17745\, United States
ORGANIZER;CN="Roxanne Gottshall":MAILTO:roxanne@clintoncountyhousing.com
END:VEVENT
BEGIN:VEVENT
DTSTART;TZID=America/New_York:20251124T153000
DTEND;TZID=America/New_York:20251124T163000
DTSTAMP:20260423T134823
CREATED:20250825T193530Z
LAST-MODIFIED:20250825T193813Z
UID:10000699-1763998200-1764001800@www.clintoncountyhousing.com
SUMMARY:After School Program 2025 - 2026
DESCRIPTION:CCHA’s After Schol Program\n \nThe After School Program runs every Monday & Wednesday from 3:30 to 4:30 at the John Yost Community Center. \nWe will provide help with homework\, snacks\, arts & crafts\, games\, computer days\, outside activities. \n – Kids in the Kitchen Days \n – Special Guests and Demonstrations \n 
URL:https://www.clintoncountyhousing.com/event/after-school-program-2025-2026/2025-11-24/
LOCATION:John Yost Community Center\, 180 Bennage Ave\, Lock Haven\, PA\, 17745\, United States
ORGANIZER;CN="Roxanne Gottshall":MAILTO:roxanne@clintoncountyhousing.com
END:VEVENT
BEGIN:VEVENT
DTSTART;TZID=America/New_York:20251119T153000
DTEND;TZID=America/New_York:20251119T163000
DTSTAMP:20260423T134823
CREATED:20250825T193530Z
LAST-MODIFIED:20250825T193813Z
UID:10000698-1763566200-1763569800@www.clintoncountyhousing.com
SUMMARY:After School Program 2025 - 2026
DESCRIPTION:CCHA’s After Schol Program\n \nThe After School Program runs every Monday & Wednesday from 3:30 to 4:30 at the John Yost Community Center. \nWe will provide help with homework\, snacks\, arts & crafts\, games\, computer days\, outside activities. \n – Kids in the Kitchen Days \n – Special Guests and Demonstrations \n 
URL:https://www.clintoncountyhousing.com/event/after-school-program-2025-2026/2025-11-19/
LOCATION:John Yost Community Center\, 180 Bennage Ave\, Lock Haven\, PA\, 17745\, United States
ORGANIZER;CN="Roxanne Gottshall":MAILTO:roxanne@clintoncountyhousing.com
END:VEVENT
BEGIN:VEVENT
DTSTART;TZID=America/New_York:20251117T153000
DTEND;TZID=America/New_York:20251117T163000
DTSTAMP:20260423T134823
CREATED:20250825T193530Z
LAST-MODIFIED:20250825T193813Z
UID:10000697-1763393400-1763397000@www.clintoncountyhousing.com
SUMMARY:After School Program 2025 - 2026
DESCRIPTION:CCHA’s After Schol Program\n \nThe After School Program runs every Monday & Wednesday from 3:30 to 4:30 at the John Yost Community Center. \nWe will provide help with homework\, snacks\, arts & crafts\, games\, computer days\, outside activities. \n – Kids in the Kitchen Days \n – Special Guests and Demonstrations \n 
URL:https://www.clintoncountyhousing.com/event/after-school-program-2025-2026/2025-11-17/
LOCATION:John Yost Community Center\, 180 Bennage Ave\, Lock Haven\, PA\, 17745\, United States
ORGANIZER;CN="Roxanne Gottshall":MAILTO:roxanne@clintoncountyhousing.com
END:VEVENT
BEGIN:VEVENT
DTSTART;TZID=America/New_York:20251112T153000
DTEND;TZID=America/New_York:20251112T163000
DTSTAMP:20260423T134823
CREATED:20250825T193530Z
LAST-MODIFIED:20250825T193813Z
UID:10000696-1762961400-1762965000@www.clintoncountyhousing.com
SUMMARY:After School Program 2025 - 2026
DESCRIPTION:CCHA’s After Schol Program\n \nThe After School Program runs every Monday & Wednesday from 3:30 to 4:30 at the John Yost Community Center. \nWe will provide help with homework\, snacks\, arts & crafts\, games\, computer days\, outside activities. \n – Kids in the Kitchen Days \n – Special Guests and Demonstrations \n 
URL:https://www.clintoncountyhousing.com/event/after-school-program-2025-2026/2025-11-12/
LOCATION:John Yost Community Center\, 180 Bennage Ave\, Lock Haven\, PA\, 17745\, United States
ORGANIZER;CN="Roxanne Gottshall":MAILTO:roxanne@clintoncountyhousing.com
END:VEVENT
BEGIN:VEVENT
DTSTART;TZID=America/New_York:20251110T153000
DTEND;TZID=America/New_York:20251110T163000
DTSTAMP:20260423T134823
CREATED:20250825T193530Z
LAST-MODIFIED:20250825T193813Z
UID:10000695-1762788600-1762792200@www.clintoncountyhousing.com
SUMMARY:After School Program 2025 - 2026
DESCRIPTION:CCHA’s After Schol Program\n \nThe After School Program runs every Monday & Wednesday from 3:30 to 4:30 at the John Yost Community Center. \nWe will provide help with homework\, snacks\, arts & crafts\, games\, computer days\, outside activities. \n – Kids in the Kitchen Days \n – Special Guests and Demonstrations \n 
URL:https://www.clintoncountyhousing.com/event/after-school-program-2025-2026/2025-11-10/
LOCATION:John Yost Community Center\, 180 Bennage Ave\, Lock Haven\, PA\, 17745\, United States
ORGANIZER;CN="Roxanne Gottshall":MAILTO:roxanne@clintoncountyhousing.com
END:VEVENT
BEGIN:VEVENT
DTSTART;TZID=America/New_York:20251105T153000
DTEND;TZID=America/New_York:20251105T163000
DTSTAMP:20260423T134823
CREATED:20250825T193530Z
LAST-MODIFIED:20250825T193813Z
UID:10000694-1762356600-1762360200@www.clintoncountyhousing.com
SUMMARY:After School Program 2025 - 2026
DESCRIPTION:CCHA’s After Schol Program\n \nThe After School Program runs every Monday & Wednesday from 3:30 to 4:30 at the John Yost Community Center. \nWe will provide help with homework\, snacks\, arts & crafts\, games\, computer days\, outside activities. \n – Kids in the Kitchen Days \n – Special Guests and Demonstrations \n 
URL:https://www.clintoncountyhousing.com/event/after-school-program-2025-2026/2025-11-05/
LOCATION:John Yost Community Center\, 180 Bennage Ave\, Lock Haven\, PA\, 17745\, United States
ORGANIZER;CN="Roxanne Gottshall":MAILTO:roxanne@clintoncountyhousing.com
END:VEVENT
END:VCALENDAR