BEGIN:VCALENDAR
VERSION:2.0
PRODID:-//Clinton County Housing Authority - ECPv6.15.20//NONSGML v1.0//EN
CALSCALE:GREGORIAN
METHOD:PUBLISH
X-WR-CALNAME:Clinton County Housing Authority
X-ORIGINAL-URL:https://www.clintoncountyhousing.com
X-WR-CALDESC:Events for Clinton County Housing Authority
REFRESH-INTERVAL;VALUE=DURATION:PT1H
X-Robots-Tag:noindex
X-PUBLISHED-TTL:PT1H
BEGIN:VTIMEZONE
TZID:America/New_York
BEGIN:DAYLIGHT
TZOFFSETFROM:-0500
TZOFFSETTO:-0400
TZNAME:EDT
DTSTART:20230312T070000
END:DAYLIGHT
BEGIN:STANDARD
TZOFFSETFROM:-0400
TZOFFSETTO:-0500
TZNAME:EST
DTSTART:20231105T060000
END:STANDARD
BEGIN:DAYLIGHT
TZOFFSETFROM:-0500
TZOFFSETTO:-0400
TZNAME:EDT
DTSTART:20240310T070000
END:DAYLIGHT
BEGIN:STANDARD
TZOFFSETFROM:-0400
TZOFFSETTO:-0500
TZNAME:EST
DTSTART:20241103T060000
END:STANDARD
BEGIN:DAYLIGHT
TZOFFSETFROM:-0500
TZOFFSETTO:-0400
TZNAME:EDT
DTSTART:20250309T070000
END:DAYLIGHT
BEGIN:STANDARD
TZOFFSETFROM:-0400
TZOFFSETTO:-0500
TZNAME:EST
DTSTART:20251102T060000
END:STANDARD
BEGIN:DAYLIGHT
TZOFFSETFROM:-0500
TZOFFSETTO:-0400
TZNAME:EDT
DTSTART:20260308T070000
END:DAYLIGHT
BEGIN:STANDARD
TZOFFSETFROM:-0400
TZOFFSETTO:-0500
TZNAME:EST
DTSTART:20261101T060000
END:STANDARD
END:VTIMEZONE
BEGIN:VEVENT
DTSTART;TZID=America/New_York:20250605T100000
DTEND;TZID=America/New_York:20250605T120000
DTSTAMP:20260424T074033
CREATED:20250107T140901Z
LAST-MODIFIED:20250107T141721Z
UID:10000291-1749117600-1749124800@www.clintoncountyhousing.com
SUMMARY:Adult Computer Lab
DESCRIPTION:Adult Computer Lab is each Thursday from 10:00 am – 12:00 pm at the John Yost Community Center.
URL:https://www.clintoncountyhousing.com/event/adult-computer-lab-2/2025-06-05/
LOCATION:John Yost Community Center\, 180 Bennage Ave\, Lock Haven\, PA\, 17745\, United States
ORGANIZER;CN="Tenant Services Coordinator":MAILTO:roxanne@clintoncountyhousing.com
END:VEVENT
BEGIN:VEVENT
DTSTART;TZID=America/New_York:20250529T100000
DTEND;TZID=America/New_York:20250529T120000
DTSTAMP:20260424T074033
CREATED:20250107T140901Z
LAST-MODIFIED:20250107T141721Z
UID:10000290-1748512800-1748520000@www.clintoncountyhousing.com
SUMMARY:Adult Computer Lab
DESCRIPTION:Adult Computer Lab is each Thursday from 10:00 am – 12:00 pm at the John Yost Community Center.
URL:https://www.clintoncountyhousing.com/event/adult-computer-lab-2/2025-05-29/
LOCATION:John Yost Community Center\, 180 Bennage Ave\, Lock Haven\, PA\, 17745\, United States
ORGANIZER;CN="Tenant Services Coordinator":MAILTO:roxanne@clintoncountyhousing.com
END:VEVENT
BEGIN:VEVENT
DTSTART;TZID=America/New_York:20250522T100000
DTEND;TZID=America/New_York:20250522T120000
DTSTAMP:20260424T074033
CREATED:20250107T140901Z
LAST-MODIFIED:20250107T141721Z
UID:10000289-1747908000-1747915200@www.clintoncountyhousing.com
SUMMARY:Adult Computer Lab
DESCRIPTION:Adult Computer Lab is each Thursday from 10:00 am – 12:00 pm at the John Yost Community Center.
URL:https://www.clintoncountyhousing.com/event/adult-computer-lab-2/2025-05-22/
LOCATION:John Yost Community Center\, 180 Bennage Ave\, Lock Haven\, PA\, 17745\, United States
ORGANIZER;CN="Tenant Services Coordinator":MAILTO:roxanne@clintoncountyhousing.com
END:VEVENT
BEGIN:VEVENT
DTSTART;TZID=America/New_York:20250515T100000
DTEND;TZID=America/New_York:20250515T120000
DTSTAMP:20260424T074033
CREATED:20250107T140901Z
LAST-MODIFIED:20250107T141721Z
UID:10000288-1747303200-1747310400@www.clintoncountyhousing.com
SUMMARY:Adult Computer Lab
DESCRIPTION:Adult Computer Lab is each Thursday from 10:00 am – 12:00 pm at the John Yost Community Center.
URL:https://www.clintoncountyhousing.com/event/adult-computer-lab-2/2025-05-15/
LOCATION:John Yost Community Center\, 180 Bennage Ave\, Lock Haven\, PA\, 17745\, United States
ORGANIZER;CN="Tenant Services Coordinator":MAILTO:roxanne@clintoncountyhousing.com
END:VEVENT
BEGIN:VEVENT
DTSTART;TZID=America/New_York:20250508T100000
DTEND;TZID=America/New_York:20250508T120000
DTSTAMP:20260424T074033
CREATED:20250107T140901Z
LAST-MODIFIED:20250107T141721Z
UID:10000287-1746698400-1746705600@www.clintoncountyhousing.com
SUMMARY:Adult Computer Lab
DESCRIPTION:Adult Computer Lab is each Thursday from 10:00 am – 12:00 pm at the John Yost Community Center.
URL:https://www.clintoncountyhousing.com/event/adult-computer-lab-2/2025-05-08/
LOCATION:John Yost Community Center\, 180 Bennage Ave\, Lock Haven\, PA\, 17745\, United States
ORGANIZER;CN="Tenant Services Coordinator":MAILTO:roxanne@clintoncountyhousing.com
END:VEVENT
BEGIN:VEVENT
DTSTART;TZID=America/New_York:20250501T100000
DTEND;TZID=America/New_York:20250501T120000
DTSTAMP:20260424T074033
CREATED:20250107T140901Z
LAST-MODIFIED:20250107T141721Z
UID:10000286-1746093600-1746100800@www.clintoncountyhousing.com
SUMMARY:Adult Computer Lab
DESCRIPTION:Adult Computer Lab is each Thursday from 10:00 am – 12:00 pm at the John Yost Community Center.
URL:https://www.clintoncountyhousing.com/event/adult-computer-lab-2/2025-05-01/
LOCATION:John Yost Community Center\, 180 Bennage Ave\, Lock Haven\, PA\, 17745\, United States
ORGANIZER;CN="Tenant Services Coordinator":MAILTO:roxanne@clintoncountyhousing.com
END:VEVENT
BEGIN:VEVENT
DTSTART;TZID=America/New_York:20250424T100000
DTEND;TZID=America/New_York:20250424T120000
DTSTAMP:20260424T074033
CREATED:20250107T140901Z
LAST-MODIFIED:20250107T141721Z
UID:10000285-1745488800-1745496000@www.clintoncountyhousing.com
SUMMARY:Adult Computer Lab
DESCRIPTION:Adult Computer Lab is each Thursday from 10:00 am – 12:00 pm at the John Yost Community Center.
URL:https://www.clintoncountyhousing.com/event/adult-computer-lab-2/2025-04-24/
LOCATION:John Yost Community Center\, 180 Bennage Ave\, Lock Haven\, PA\, 17745\, United States
ORGANIZER;CN="Tenant Services Coordinator":MAILTO:roxanne@clintoncountyhousing.com
END:VEVENT
BEGIN:VEVENT
DTSTART;TZID=America/New_York:20250418T100000
DTEND;TZID=America/New_York:20250418T110000
DTSTAMP:20260424T074033
CREATED:20250403T122722Z
LAST-MODIFIED:20250403T122722Z
UID:10000400-1744970400-1744974000@www.clintoncountyhousing.com
SUMMARY:Annual Easter Egg Hunt - Renovo
DESCRIPTION:The 2025 Annual Easter Egg hunt will be held at the Schuylkill Avenue circle.  \nThis will take place on Friday\, April 18\, 2025\, at 10:00 am. \nRaffle Baskets and Prizes for the kids! \nRegistration is REQUIRED for this event. \nDeadline for Registration is Wednesday April 16\, 2025 \n \n 
URL:https://www.clintoncountyhousing.com/event/annual-easter-egg-hunt-renovo/
LOCATION:Schuylkill Ave\, Renovo\, 17764\, United States
ORGANIZER;CN="Tenant Services Coordinator":MAILTO:roxanne@clintoncountyhousing.com
END:VEVENT
BEGIN:VEVENT
DTSTART;TZID=America/New_York:20250417T100000
DTEND;TZID=America/New_York:20250417T120000
DTSTAMP:20260424T074033
CREATED:20250107T140901Z
LAST-MODIFIED:20250107T141721Z
UID:10000284-1744884000-1744891200@www.clintoncountyhousing.com
SUMMARY:Adult Computer Lab
DESCRIPTION:Adult Computer Lab is each Thursday from 10:00 am – 12:00 pm at the John Yost Community Center.
URL:https://www.clintoncountyhousing.com/event/adult-computer-lab-2/2025-04-17/
LOCATION:John Yost Community Center\, 180 Bennage Ave\, Lock Haven\, PA\, 17745\, United States
ORGANIZER;CN="Tenant Services Coordinator":MAILTO:roxanne@clintoncountyhousing.com
END:VEVENT
BEGIN:VEVENT
DTSTART;TZID=America/New_York:20250410T100000
DTEND;TZID=America/New_York:20250410T120000
DTSTAMP:20260424T074033
CREATED:20250107T140901Z
LAST-MODIFIED:20250107T141721Z
UID:10000283-1744279200-1744286400@www.clintoncountyhousing.com
SUMMARY:Adult Computer Lab
DESCRIPTION:Adult Computer Lab is each Thursday from 10:00 am – 12:00 pm at the John Yost Community Center.
URL:https://www.clintoncountyhousing.com/event/adult-computer-lab-2/2025-04-10/
LOCATION:John Yost Community Center\, 180 Bennage Ave\, Lock Haven\, PA\, 17745\, United States
ORGANIZER;CN="Tenant Services Coordinator":MAILTO:roxanne@clintoncountyhousing.com
END:VEVENT
BEGIN:VEVENT
DTSTART;TZID=America/New_York:20250403T100000
DTEND;TZID=America/New_York:20250403T120000
DTSTAMP:20260424T074033
CREATED:20250107T140901Z
LAST-MODIFIED:20250107T141721Z
UID:10000282-1743674400-1743681600@www.clintoncountyhousing.com
SUMMARY:Adult Computer Lab
DESCRIPTION:Adult Computer Lab is each Thursday from 10:00 am – 12:00 pm at the John Yost Community Center.
URL:https://www.clintoncountyhousing.com/event/adult-computer-lab-2/2025-04-03/
LOCATION:John Yost Community Center\, 180 Bennage Ave\, Lock Haven\, PA\, 17745\, United States
ORGANIZER;CN="Tenant Services Coordinator":MAILTO:roxanne@clintoncountyhousing.com
END:VEVENT
BEGIN:VEVENT
DTSTART;TZID=America/New_York:20250327T100000
DTEND;TZID=America/New_York:20250327T120000
DTSTAMP:20260424T074033
CREATED:20250107T140901Z
LAST-MODIFIED:20250107T141721Z
UID:10000281-1743069600-1743076800@www.clintoncountyhousing.com
SUMMARY:Adult Computer Lab
DESCRIPTION:Adult Computer Lab is each Thursday from 10:00 am – 12:00 pm at the John Yost Community Center.
URL:https://www.clintoncountyhousing.com/event/adult-computer-lab-2/2025-03-27/
LOCATION:John Yost Community Center\, 180 Bennage Ave\, Lock Haven\, PA\, 17745\, United States
ORGANIZER;CN="Tenant Services Coordinator":MAILTO:roxanne@clintoncountyhousing.com
END:VEVENT
BEGIN:VEVENT
DTSTART;TZID=America/New_York:20250320T100000
DTEND;TZID=America/New_York:20250320T120000
DTSTAMP:20260424T074033
CREATED:20250107T140901Z
LAST-MODIFIED:20250107T141721Z
UID:10000280-1742464800-1742472000@www.clintoncountyhousing.com
SUMMARY:Adult Computer Lab
DESCRIPTION:Adult Computer Lab is each Thursday from 10:00 am – 12:00 pm at the John Yost Community Center.
URL:https://www.clintoncountyhousing.com/event/adult-computer-lab-2/2025-03-20/
LOCATION:John Yost Community Center\, 180 Bennage Ave\, Lock Haven\, PA\, 17745\, United States
ORGANIZER;CN="Tenant Services Coordinator":MAILTO:roxanne@clintoncountyhousing.com
END:VEVENT
BEGIN:VEVENT
DTSTART;TZID=America/New_York:20250319T180000
DTEND;TZID=America/New_York:20250319T190000
DTSTAMP:20260424T074033
CREATED:20250220T145101Z
LAST-MODIFIED:20250220T145830Z
UID:10000391-1742407200-1742410800@www.clintoncountyhousing.com
SUMMARY:Reading Across PA
DESCRIPTION:  \nCCHA and BENV Kiwanis host Reading Across PA at the John Yost Community Center on March 19\, 2025\,  from 6 to 7 pm \n  \n🎶🎵🎶🎵 The theme is MUSIC!! 🎵🎶🎵🎶 \n  \nWe will have a variety of fun activities\, including reading books about Music. We will have Arts & Crafts and Making Noice Makers. We will offer pizza\, drinks and snacks. \nSPECIAL GUESTS from Keystone Central School District Band will be here with their instruments\, to provide a little demonstration and share their knowledge of the music. \nSign-ups are required for this event. You can sign up here\, you can sign up from the flyer distributed and scanning the QR Code\, or by contacting Roxanne or Tia at 570-893-1911.
URL:https://www.clintoncountyhousing.com/event/reading-across-pa/
LOCATION:John Yost Community Center\, 180 Bennage Ave\, Lock Haven\, PA\, 17745\, United States
ORGANIZER;CN="Tenant Services Coordinator":MAILTO:roxanne@clintoncountyhousing.com
END:VEVENT
BEGIN:VEVENT
DTSTART;TZID=America/New_York:20250313T100000
DTEND;TZID=America/New_York:20250313T120000
DTSTAMP:20260424T074033
CREATED:20250107T140901Z
LAST-MODIFIED:20250107T141721Z
UID:10000279-1741860000-1741867200@www.clintoncountyhousing.com
SUMMARY:Adult Computer Lab
DESCRIPTION:Adult Computer Lab is each Thursday from 10:00 am – 12:00 pm at the John Yost Community Center.
URL:https://www.clintoncountyhousing.com/event/adult-computer-lab-2/2025-03-13/
LOCATION:John Yost Community Center\, 180 Bennage Ave\, Lock Haven\, PA\, 17745\, United States
ORGANIZER;CN="Tenant Services Coordinator":MAILTO:roxanne@clintoncountyhousing.com
END:VEVENT
BEGIN:VEVENT
DTSTART;TZID=America/New_York:20250306T100000
DTEND;TZID=America/New_York:20250306T120000
DTSTAMP:20260424T074033
CREATED:20250107T140901Z
LAST-MODIFIED:20250107T141721Z
UID:10000278-1741255200-1741262400@www.clintoncountyhousing.com
SUMMARY:Adult Computer Lab
DESCRIPTION:Adult Computer Lab is each Thursday from 10:00 am – 12:00 pm at the John Yost Community Center.
URL:https://www.clintoncountyhousing.com/event/adult-computer-lab-2/2025-03-06/
LOCATION:John Yost Community Center\, 180 Bennage Ave\, Lock Haven\, PA\, 17745\, United States
ORGANIZER;CN="Tenant Services Coordinator":MAILTO:roxanne@clintoncountyhousing.com
END:VEVENT
BEGIN:VEVENT
DTSTART;TZID=America/New_York:20250227T100000
DTEND;TZID=America/New_York:20250227T120000
DTSTAMP:20260424T074033
CREATED:20250107T140901Z
LAST-MODIFIED:20250107T141721Z
UID:10000277-1740650400-1740657600@www.clintoncountyhousing.com
SUMMARY:Adult Computer Lab
DESCRIPTION:Adult Computer Lab is each Thursday from 10:00 am – 12:00 pm at the John Yost Community Center.
URL:https://www.clintoncountyhousing.com/event/adult-computer-lab-2/2025-02-27/
LOCATION:John Yost Community Center\, 180 Bennage Ave\, Lock Haven\, PA\, 17745\, United States
ORGANIZER;CN="Tenant Services Coordinator":MAILTO:roxanne@clintoncountyhousing.com
END:VEVENT
BEGIN:VEVENT
DTSTART;TZID=America/New_York:20250220T100000
DTEND;TZID=America/New_York:20250220T120000
DTSTAMP:20260424T074033
CREATED:20250107T140901Z
LAST-MODIFIED:20250107T141721Z
UID:10000276-1740045600-1740052800@www.clintoncountyhousing.com
SUMMARY:Adult Computer Lab
DESCRIPTION:Adult Computer Lab is each Thursday from 10:00 am – 12:00 pm at the John Yost Community Center.
URL:https://www.clintoncountyhousing.com/event/adult-computer-lab-2/2025-02-20/
LOCATION:John Yost Community Center\, 180 Bennage Ave\, Lock Haven\, PA\, 17745\, United States
ORGANIZER;CN="Tenant Services Coordinator":MAILTO:roxanne@clintoncountyhousing.com
END:VEVENT
BEGIN:VEVENT
DTSTART;TZID=America/New_York:20250213T100000
DTEND;TZID=America/New_York:20250213T120000
DTSTAMP:20260424T074033
CREATED:20250107T140901Z
LAST-MODIFIED:20250107T141721Z
UID:10000275-1739440800-1739448000@www.clintoncountyhousing.com
SUMMARY:Adult Computer Lab
DESCRIPTION:Adult Computer Lab is each Thursday from 10:00 am – 12:00 pm at the John Yost Community Center.
URL:https://www.clintoncountyhousing.com/event/adult-computer-lab-2/2025-02-13/
LOCATION:John Yost Community Center\, 180 Bennage Ave\, Lock Haven\, PA\, 17745\, United States
ORGANIZER;CN="Tenant Services Coordinator":MAILTO:roxanne@clintoncountyhousing.com
END:VEVENT
BEGIN:VEVENT
DTSTART;TZID=America/New_York:20250206T100000
DTEND;TZID=America/New_York:20250206T120000
DTSTAMP:20260424T074033
CREATED:20250107T140901Z
LAST-MODIFIED:20250107T141721Z
UID:10000274-1738836000-1738843200@www.clintoncountyhousing.com
SUMMARY:Adult Computer Lab
DESCRIPTION:Adult Computer Lab is each Thursday from 10:00 am – 12:00 pm at the John Yost Community Center.
URL:https://www.clintoncountyhousing.com/event/adult-computer-lab-2/2025-02-06/
LOCATION:John Yost Community Center\, 180 Bennage Ave\, Lock Haven\, PA\, 17745\, United States
ORGANIZER;CN="Tenant Services Coordinator":MAILTO:roxanne@clintoncountyhousing.com
END:VEVENT
BEGIN:VEVENT
DTSTART;TZID=America/New_York:20250130T100000
DTEND;TZID=America/New_York:20250130T120000
DTSTAMP:20260424T074033
CREATED:20250107T140901Z
LAST-MODIFIED:20250107T141721Z
UID:10000273-1738231200-1738238400@www.clintoncountyhousing.com
SUMMARY:Adult Computer Lab
DESCRIPTION:Adult Computer Lab is each Thursday from 10:00 am – 12:00 pm at the John Yost Community Center.
URL:https://www.clintoncountyhousing.com/event/adult-computer-lab-2/2025-01-30/
LOCATION:John Yost Community Center\, 180 Bennage Ave\, Lock Haven\, PA\, 17745\, United States
ORGANIZER;CN="Tenant Services Coordinator":MAILTO:roxanne@clintoncountyhousing.com
END:VEVENT
BEGIN:VEVENT
DTSTART;TZID=America/New_York:20250123T100000
DTEND;TZID=America/New_York:20250123T120000
DTSTAMP:20260424T074033
CREATED:20250107T140901Z
LAST-MODIFIED:20250107T141721Z
UID:10000272-1737626400-1737633600@www.clintoncountyhousing.com
SUMMARY:Adult Computer Lab
DESCRIPTION:Adult Computer Lab is each Thursday from 10:00 am – 12:00 pm at the John Yost Community Center.
URL:https://www.clintoncountyhousing.com/event/adult-computer-lab-2/2025-01-23/
LOCATION:John Yost Community Center\, 180 Bennage Ave\, Lock Haven\, PA\, 17745\, United States
ORGANIZER;CN="Tenant Services Coordinator":MAILTO:roxanne@clintoncountyhousing.com
END:VEVENT
BEGIN:VEVENT
DTSTART;TZID=America/New_York:20250116T100000
DTEND;TZID=America/New_York:20250116T120000
DTSTAMP:20260424T074033
CREATED:20250107T140901Z
LAST-MODIFIED:20250107T141721Z
UID:10000271-1737021600-1737028800@www.clintoncountyhousing.com
SUMMARY:Adult Computer Lab
DESCRIPTION:Adult Computer Lab is each Thursday from 10:00 am – 12:00 pm at the John Yost Community Center.
URL:https://www.clintoncountyhousing.com/event/adult-computer-lab-2/2025-01-16/
LOCATION:John Yost Community Center\, 180 Bennage Ave\, Lock Haven\, PA\, 17745\, United States
ORGANIZER;CN="Tenant Services Coordinator":MAILTO:roxanne@clintoncountyhousing.com
END:VEVENT
BEGIN:VEVENT
DTSTART;TZID=America/New_York:20250109T100000
DTEND;TZID=America/New_York:20250109T120000
DTSTAMP:20260424T074033
CREATED:20250107T140901Z
LAST-MODIFIED:20250107T141721Z
UID:10000163-1736416800-1736424000@www.clintoncountyhousing.com
SUMMARY:Adult Computer Lab
DESCRIPTION:Adult Computer Lab is each Thursday from 10:00 am – 12:00 pm at the John Yost Community Center.
URL:https://www.clintoncountyhousing.com/event/adult-computer-lab-2/2025-01-09/
LOCATION:John Yost Community Center\, 180 Bennage Ave\, Lock Haven\, PA\, 17745\, United States
ORGANIZER;CN="Tenant Services Coordinator":MAILTO:roxanne@clintoncountyhousing.com
END:VEVENT
BEGIN:VEVENT
DTSTART;TZID=America/New_York:20241219T100000
DTEND;TZID=America/New_York:20241219T120000
DTSTAMP:20260424T074033
CREATED:20240729T131753Z
LAST-MODIFIED:20240729T195146Z
UID:10000162-1734602400-1734609600@www.clintoncountyhousing.com
SUMMARY:Adult Computer Lab
DESCRIPTION:Adult Computer Lab is each Thursday from 10:00 am – 12:00 pm at the John Yost Community Center.
URL:https://www.clintoncountyhousing.com/event/adult-computer-lab/2024-12-19/
LOCATION:John Yost Community Center\, 180 Bennage Ave\, Lock Haven\, PA\, 17745\, United States
ORGANIZER;CN="Tenant Services Coordinator":MAILTO:roxanne@clintoncountyhousing.com
END:VEVENT
BEGIN:VEVENT
DTSTART;TZID=America/New_York:20241212T100000
DTEND;TZID=America/New_York:20241212T120000
DTSTAMP:20260424T074033
CREATED:20240729T131753Z
LAST-MODIFIED:20240729T195146Z
UID:10000161-1733997600-1734004800@www.clintoncountyhousing.com
SUMMARY:Adult Computer Lab
DESCRIPTION:Adult Computer Lab is each Thursday from 10:00 am – 12:00 pm at the John Yost Community Center.
URL:https://www.clintoncountyhousing.com/event/adult-computer-lab/2024-12-12/
LOCATION:John Yost Community Center\, 180 Bennage Ave\, Lock Haven\, PA\, 17745\, United States
ORGANIZER;CN="Tenant Services Coordinator":MAILTO:roxanne@clintoncountyhousing.com
END:VEVENT
BEGIN:VEVENT
DTSTART;TZID=America/New_York:20241210T130000
DTEND;TZID=America/New_York:20241210T140000
DTSTAMP:20260424T074033
CREATED:20241125T165303Z
LAST-MODIFIED:20241125T165303Z
UID:10000265-1733835600-1733839200@www.clintoncountyhousing.com
SUMMARY:Probst Plaza Winter Social
DESCRIPTION:We encourage you to bring some cookies to share. CCHA will provide cookies\, finger foods\, drinks and GAMES!! Come socialize and spread holiday cheer!
URL:https://www.clintoncountyhousing.com/event/probst-plaza-winter-social/
LOCATION:Probst Plaza\, N Jones St\, Lock Haven\, PA\, 17745\, United States
ORGANIZER;CN="Tenant Services Coordinator":MAILTO:roxanne@clintoncountyhousing.com
END:VEVENT
BEGIN:VEVENT
DTSTART;TZID=America/New_York:20241210T100000
DTEND;TZID=America/New_York:20241210T110000
DTSTAMP:20260424T074033
CREATED:20241125T165250Z
LAST-MODIFIED:20241125T165250Z
UID:10000264-1733824800-1733828400@www.clintoncountyhousing.com
SUMMARY:Carter Towers Winter Social
DESCRIPTION:We encourage you to bring some cookies to share. CCHA will provide cookies\, finger foods\, drinks and GAMES!! Come socialize and spread holiday cheer!
URL:https://www.clintoncountyhousing.com/event/carter-towers-winter-social/
LOCATION:Carter Towers\, 11 S Jones St\, Lock Haven\, PA\, 17745\, United States
ORGANIZER;CN="Tenant Services Coordinator":MAILTO:roxanne@clintoncountyhousing.com
END:VEVENT
BEGIN:VEVENT
DTSTART;TZID=America/New_York:20241205T100000
DTEND;TZID=America/New_York:20241205T120000
DTSTAMP:20260424T074033
CREATED:20240729T131753Z
LAST-MODIFIED:20240729T195146Z
UID:10000160-1733392800-1733400000@www.clintoncountyhousing.com
SUMMARY:Adult Computer Lab
DESCRIPTION:Adult Computer Lab is each Thursday from 10:00 am – 12:00 pm at the John Yost Community Center.
URL:https://www.clintoncountyhousing.com/event/adult-computer-lab/2024-12-05/
LOCATION:John Yost Community Center\, 180 Bennage Ave\, Lock Haven\, PA\, 17745\, United States
ORGANIZER;CN="Tenant Services Coordinator":MAILTO:roxanne@clintoncountyhousing.com
END:VEVENT
BEGIN:VEVENT
DTSTART;TZID=America/New_York:20241203T130000
DTEND;TZID=America/New_York:20241203T140000
DTSTAMP:20260424T074033
CREATED:20241125T165230Z
LAST-MODIFIED:20241125T165230Z
UID:10000263-1733230800-1733234400@www.clintoncountyhousing.com
SUMMARY:Ransdorf Manor Winter Social
DESCRIPTION:We encourage you to bring some cookies to share. CCHA will provide cookies\, finger foods\, drinks and GAMES!! Come socialize and spread holiday cheer!
URL:https://www.clintoncountyhousing.com/event/ransdorf-manor-winter-social/
LOCATION:Ransdorf Manor\, 350 Huron Ave\, Renovo\, PA\, 17764\, United States
ORGANIZER;CN="Tenant Services Coordinator":MAILTO:roxanne@clintoncountyhousing.com
END:VEVENT
END:VCALENDAR