BEGIN:VCALENDAR
VERSION:2.0
PRODID:-//Clinton County Housing Authority - ECPv6.15.20//NONSGML v1.0//EN
CALSCALE:GREGORIAN
METHOD:PUBLISH
X-WR-CALNAME:Clinton County Housing Authority
X-ORIGINAL-URL:https://www.clintoncountyhousing.com
X-WR-CALDESC:Events for Clinton County Housing Authority
REFRESH-INTERVAL;VALUE=DURATION:PT1H
X-Robots-Tag:noindex
X-PUBLISHED-TTL:PT1H
BEGIN:VTIMEZONE
TZID:America/New_York
BEGIN:DAYLIGHT
TZOFFSETFROM:-0500
TZOFFSETTO:-0400
TZNAME:EDT
DTSTART:20250309T070000
END:DAYLIGHT
BEGIN:STANDARD
TZOFFSETFROM:-0400
TZOFFSETTO:-0500
TZNAME:EST
DTSTART:20251102T060000
END:STANDARD
BEGIN:DAYLIGHT
TZOFFSETFROM:-0500
TZOFFSETTO:-0400
TZNAME:EDT
DTSTART:20260308T070000
END:DAYLIGHT
BEGIN:STANDARD
TZOFFSETFROM:-0400
TZOFFSETTO:-0500
TZNAME:EST
DTSTART:20261101T060000
END:STANDARD
BEGIN:DAYLIGHT
TZOFFSETFROM:-0500
TZOFFSETTO:-0400
TZNAME:EDT
DTSTART:20270314T070000
END:DAYLIGHT
BEGIN:STANDARD
TZOFFSETFROM:-0400
TZOFFSETTO:-0500
TZNAME:EST
DTSTART:20271107T060000
END:STANDARD
END:VTIMEZONE
BEGIN:VEVENT
DTSTART;TZID=America/New_York:20260423T100000
DTEND;TZID=America/New_York:20260423T120000
DTSTAMP:20260423T134824
CREATED:20260122T144456Z
LAST-MODIFIED:20260122T144456Z
UID:10000887-1776938400-1776945600@www.clintoncountyhousing.com
SUMMARY:Adult Computer Lab
DESCRIPTION:ADULT COMPUTER LAB\n \nWeekly on Thursdays\n10 am to 12 noon\n\ncall ahead to ensure computer availability\n570-893-1911 x-2\n\n 
URL:https://www.clintoncountyhousing.com/event/adult-computer-lab-3/2026-04-23/
LOCATION:John Yost Community Center\, 180 Bennage Ave\, Lock Haven\, PA\, 17745\, United States
ORGANIZER;CN="Tenant Services Coordinator":MAILTO:roxanne@clintoncountyhousing.com
END:VEVENT
BEGIN:VEVENT
DTSTART;TZID=America/New_York:20260422T160000
DTEND;TZID=America/New_York:20260422T180000
DTSTAMP:20260423T134824
CREATED:20260302T200839Z
LAST-MODIFIED:20260305T140010Z
UID:10000943-1776873600-1776880800@www.clintoncountyhousing.com
SUMMARY:AmeriHealth Mobile Wellness Unit & Opportunity Center - Coffee & Conversation
DESCRIPTION:Did you miss the BUS? Join us as for FREE snacks and conversation!\nThe John Yost Community Center will host the Mobile Wellness Unit AGAIN!\nWednesday April 22\, 2026\, from 4 to 6 pm in front of the JYCC\n\nAmeriHealth will have information on topics such as Actions for a Heart Health\, Tobacco Cessation\, High Blood Pressure\, Diabetes Checklist\, and much\, much more! There will be some freebies from AmeriHealth like pens\, water bottles\, drawstring bags\, band-aides\, toothbrushes\, and more!
URL:https://www.clintoncountyhousing.com/event/amerihealth-mobile-wellness-unit-opportunity-center-coffee-conversation/
LOCATION:John Yost Community Center\, 180 Bennage Ave\, Lock Haven\, PA\, 17745\, United States
END:VEVENT
BEGIN:VEVENT
DTSTART;TZID=America/New_York:20260422T153000
DTEND;TZID=America/New_York:20260422T163000
DTSTAMP:20260423T134824
CREATED:20250825T193530Z
LAST-MODIFIED:20250825T193813Z
UID:10000742-1776871800-1776875400@www.clintoncountyhousing.com
SUMMARY:After School Program 2025 - 2026
DESCRIPTION:CCHA’s After Schol Program\n \nThe After School Program runs every Monday & Wednesday from 3:30 to 4:30 at the John Yost Community Center. \nWe will provide help with homework\, snacks\, arts & crafts\, games\, computer days\, outside activities. \n – Kids in the Kitchen Days \n – Special Guests and Demonstrations \n 
URL:https://www.clintoncountyhousing.com/event/after-school-program-2025-2026/2026-04-22/
LOCATION:John Yost Community Center\, 180 Bennage Ave\, Lock Haven\, PA\, 17745\, United States
ORGANIZER;CN="Roxanne Gottshall":MAILTO:roxanne@clintoncountyhousing.com
END:VEVENT
BEGIN:VEVENT
DTSTART;TZID=America/New_York:20260420T153000
DTEND;TZID=America/New_York:20260420T163000
DTSTAMP:20260423T134824
CREATED:20250825T193530Z
LAST-MODIFIED:20250825T193813Z
UID:10000741-1776699000-1776702600@www.clintoncountyhousing.com
SUMMARY:After School Program 2025 - 2026
DESCRIPTION:CCHA’s After Schol Program\n \nThe After School Program runs every Monday & Wednesday from 3:30 to 4:30 at the John Yost Community Center. \nWe will provide help with homework\, snacks\, arts & crafts\, games\, computer days\, outside activities. \n – Kids in the Kitchen Days \n – Special Guests and Demonstrations \n 
URL:https://www.clintoncountyhousing.com/event/after-school-program-2025-2026/2026-04-20/
LOCATION:John Yost Community Center\, 180 Bennage Ave\, Lock Haven\, PA\, 17745\, United States
ORGANIZER;CN="Roxanne Gottshall":MAILTO:roxanne@clintoncountyhousing.com
END:VEVENT
BEGIN:VEVENT
DTSTART;TZID=America/New_York:20260420T120000
DTEND;TZID=America/New_York:20260420T140000
DTSTAMP:20260423T134824
CREATED:20260122T141917Z
LAST-MODIFIED:20260122T141917Z
UID:10000834-1776686400-1776693600@www.clintoncountyhousing.com
SUMMARY:Fresh Express Food Bank- Lock Haven
DESCRIPTION:Fresh Express Food Distribution\nJohn Yost Community Center\n180 Bennage Avenue\n12:00 noon to 2:00 pm\n \n  \n 
URL:https://www.clintoncountyhousing.com/event/fresh-express-food-bank-lock-haven/2026-04-20/
LOCATION:John Yost Community Center\, 180 Bennage Ave\, Lock Haven\, PA\, 17745\, United States
END:VEVENT
BEGIN:VEVENT
DTSTART;TZID=America/New_York:20260416T100000
DTEND;TZID=America/New_York:20260416T120000
DTSTAMP:20260423T134824
CREATED:20260122T144456Z
LAST-MODIFIED:20260122T144456Z
UID:10000886-1776333600-1776340800@www.clintoncountyhousing.com
SUMMARY:Adult Computer Lab
DESCRIPTION:ADULT COMPUTER LAB\n \nWeekly on Thursdays\n10 am to 12 noon\n\ncall ahead to ensure computer availability\n570-893-1911 x-2\n\n 
URL:https://www.clintoncountyhousing.com/event/adult-computer-lab-3/2026-04-16/
LOCATION:John Yost Community Center\, 180 Bennage Ave\, Lock Haven\, PA\, 17745\, United States
ORGANIZER;CN="Tenant Services Coordinator":MAILTO:roxanne@clintoncountyhousing.com
END:VEVENT
BEGIN:VEVENT
DTSTART;TZID=America/New_York:20260415T153000
DTEND;TZID=America/New_York:20260415T163000
DTSTAMP:20260423T134824
CREATED:20250825T193530Z
LAST-MODIFIED:20250825T193813Z
UID:10000740-1776267000-1776270600@www.clintoncountyhousing.com
SUMMARY:After School Program 2025 - 2026
DESCRIPTION:CCHA’s After Schol Program\n \nThe After School Program runs every Monday & Wednesday from 3:30 to 4:30 at the John Yost Community Center. \nWe will provide help with homework\, snacks\, arts & crafts\, games\, computer days\, outside activities. \n – Kids in the Kitchen Days \n – Special Guests and Demonstrations \n 
URL:https://www.clintoncountyhousing.com/event/after-school-program-2025-2026/2026-04-15/
LOCATION:John Yost Community Center\, 180 Bennage Ave\, Lock Haven\, PA\, 17745\, United States
ORGANIZER;CN="Roxanne Gottshall":MAILTO:roxanne@clintoncountyhousing.com
END:VEVENT
BEGIN:VEVENT
DTSTART;TZID=America/New_York:20260413T153000
DTEND;TZID=America/New_York:20260413T163000
DTSTAMP:20260423T134824
CREATED:20250825T193530Z
LAST-MODIFIED:20250825T193813Z
UID:10000739-1776094200-1776097800@www.clintoncountyhousing.com
SUMMARY:After School Program 2025 - 2026
DESCRIPTION:CCHA’s After Schol Program\n \nThe After School Program runs every Monday & Wednesday from 3:30 to 4:30 at the John Yost Community Center. \nWe will provide help with homework\, snacks\, arts & crafts\, games\, computer days\, outside activities. \n – Kids in the Kitchen Days \n – Special Guests and Demonstrations \n 
URL:https://www.clintoncountyhousing.com/event/after-school-program-2025-2026/2026-04-13/
LOCATION:John Yost Community Center\, 180 Bennage Ave\, Lock Haven\, PA\, 17745\, United States
ORGANIZER;CN="Roxanne Gottshall":MAILTO:roxanne@clintoncountyhousing.com
END:VEVENT
BEGIN:VEVENT
DTSTART;TZID=America/New_York:20260409T100000
DTEND;TZID=America/New_York:20260409T120000
DTSTAMP:20260423T134824
CREATED:20260122T144456Z
LAST-MODIFIED:20260122T144456Z
UID:10000885-1775728800-1775736000@www.clintoncountyhousing.com
SUMMARY:Adult Computer Lab
DESCRIPTION:ADULT COMPUTER LAB\n \nWeekly on Thursdays\n10 am to 12 noon\n\ncall ahead to ensure computer availability\n570-893-1911 x-2\n\n 
URL:https://www.clintoncountyhousing.com/event/adult-computer-lab-3/2026-04-09/
LOCATION:John Yost Community Center\, 180 Bennage Ave\, Lock Haven\, PA\, 17745\, United States
ORGANIZER;CN="Tenant Services Coordinator":MAILTO:roxanne@clintoncountyhousing.com
END:VEVENT
BEGIN:VEVENT
DTSTART;TZID=America/New_York:20260408T153000
DTEND;TZID=America/New_York:20260408T163000
DTSTAMP:20260423T134824
CREATED:20250825T193530Z
LAST-MODIFIED:20250825T193813Z
UID:10000738-1775662200-1775665800@www.clintoncountyhousing.com
SUMMARY:After School Program 2025 - 2026
DESCRIPTION:CCHA’s After Schol Program\n \nThe After School Program runs every Monday & Wednesday from 3:30 to 4:30 at the John Yost Community Center. \nWe will provide help with homework\, snacks\, arts & crafts\, games\, computer days\, outside activities. \n – Kids in the Kitchen Days \n – Special Guests and Demonstrations \n 
URL:https://www.clintoncountyhousing.com/event/after-school-program-2025-2026/2026-04-08/
LOCATION:John Yost Community Center\, 180 Bennage Ave\, Lock Haven\, PA\, 17745\, United States
ORGANIZER;CN="Roxanne Gottshall":MAILTO:roxanne@clintoncountyhousing.com
END:VEVENT
BEGIN:VEVENT
DTSTART;TZID=America/New_York:20260402T100000
DTEND;TZID=America/New_York:20260402T120000
DTSTAMP:20260423T134824
CREATED:20260122T144456Z
LAST-MODIFIED:20260122T144456Z
UID:10000884-1775124000-1775131200@www.clintoncountyhousing.com
SUMMARY:Adult Computer Lab
DESCRIPTION:ADULT COMPUTER LAB\n \nWeekly on Thursdays\n10 am to 12 noon\n\ncall ahead to ensure computer availability\n570-893-1911 x-2\n\n 
URL:https://www.clintoncountyhousing.com/event/adult-computer-lab-3/2026-04-02/
LOCATION:John Yost Community Center\, 180 Bennage Ave\, Lock Haven\, PA\, 17745\, United States
ORGANIZER;CN="Tenant Services Coordinator":MAILTO:roxanne@clintoncountyhousing.com
END:VEVENT
BEGIN:VEVENT
DTSTART;TZID=America/New_York:20260401T153000
DTEND;TZID=America/New_York:20260401T163000
DTSTAMP:20260423T134824
CREATED:20250825T193530Z
LAST-MODIFIED:20250825T193813Z
UID:10000736-1775057400-1775061000@www.clintoncountyhousing.com
SUMMARY:After School Program 2025 - 2026
DESCRIPTION:CCHA’s After Schol Program\n \nThe After School Program runs every Monday & Wednesday from 3:30 to 4:30 at the John Yost Community Center. \nWe will provide help with homework\, snacks\, arts & crafts\, games\, computer days\, outside activities. \n – Kids in the Kitchen Days \n – Special Guests and Demonstrations \n 
URL:https://www.clintoncountyhousing.com/event/after-school-program-2025-2026/2026-04-01/
LOCATION:John Yost Community Center\, 180 Bennage Ave\, Lock Haven\, PA\, 17745\, United States
ORGANIZER;CN="Roxanne Gottshall":MAILTO:roxanne@clintoncountyhousing.com
END:VEVENT
BEGIN:VEVENT
DTSTART;TZID=America/New_York:20260330T153000
DTEND;TZID=America/New_York:20260330T163000
DTSTAMP:20260423T134824
CREATED:20250825T193530Z
LAST-MODIFIED:20250825T193813Z
UID:10000735-1774884600-1774888200@www.clintoncountyhousing.com
SUMMARY:After School Program 2025 - 2026
DESCRIPTION:CCHA’s After Schol Program\n \nThe After School Program runs every Monday & Wednesday from 3:30 to 4:30 at the John Yost Community Center. \nWe will provide help with homework\, snacks\, arts & crafts\, games\, computer days\, outside activities. \n – Kids in the Kitchen Days \n – Special Guests and Demonstrations \n 
URL:https://www.clintoncountyhousing.com/event/after-school-program-2025-2026/2026-03-30/
LOCATION:John Yost Community Center\, 180 Bennage Ave\, Lock Haven\, PA\, 17745\, United States
ORGANIZER;CN="Roxanne Gottshall":MAILTO:roxanne@clintoncountyhousing.com
END:VEVENT
BEGIN:VEVENT
DTSTART;TZID=America/New_York:20260326T100000
DTEND;TZID=America/New_York:20260326T120000
DTSTAMP:20260423T134824
CREATED:20260122T144456Z
LAST-MODIFIED:20260122T144456Z
UID:10000883-1774519200-1774526400@www.clintoncountyhousing.com
SUMMARY:Adult Computer Lab
DESCRIPTION:ADULT COMPUTER LAB\n \nWeekly on Thursdays\n10 am to 12 noon\n\ncall ahead to ensure computer availability\n570-893-1911 x-2\n\n 
URL:https://www.clintoncountyhousing.com/event/adult-computer-lab-3/2026-03-26/
LOCATION:John Yost Community Center\, 180 Bennage Ave\, Lock Haven\, PA\, 17745\, United States
ORGANIZER;CN="Tenant Services Coordinator":MAILTO:roxanne@clintoncountyhousing.com
END:VEVENT
BEGIN:VEVENT
DTSTART;TZID=America/New_York:20260325T153000
DTEND;TZID=America/New_York:20260325T163000
DTSTAMP:20260423T134824
CREATED:20250825T193530Z
LAST-MODIFIED:20250825T193813Z
UID:10000734-1774452600-1774456200@www.clintoncountyhousing.com
SUMMARY:After School Program 2025 - 2026
DESCRIPTION:CCHA’s After Schol Program\n \nThe After School Program runs every Monday & Wednesday from 3:30 to 4:30 at the John Yost Community Center. \nWe will provide help with homework\, snacks\, arts & crafts\, games\, computer days\, outside activities. \n – Kids in the Kitchen Days \n – Special Guests and Demonstrations \n 
URL:https://www.clintoncountyhousing.com/event/after-school-program-2025-2026/2026-03-25/
LOCATION:John Yost Community Center\, 180 Bennage Ave\, Lock Haven\, PA\, 17745\, United States
ORGANIZER;CN="Roxanne Gottshall":MAILTO:roxanne@clintoncountyhousing.com
END:VEVENT
BEGIN:VEVENT
DTSTART;TZID=America/New_York:20260323T153000
DTEND;TZID=America/New_York:20260323T163000
DTSTAMP:20260423T134824
CREATED:20250825T193530Z
LAST-MODIFIED:20250825T193813Z
UID:10000733-1774279800-1774283400@www.clintoncountyhousing.com
SUMMARY:After School Program 2025 - 2026
DESCRIPTION:CCHA’s After Schol Program\n \nThe After School Program runs every Monday & Wednesday from 3:30 to 4:30 at the John Yost Community Center. \nWe will provide help with homework\, snacks\, arts & crafts\, games\, computer days\, outside activities. \n – Kids in the Kitchen Days \n – Special Guests and Demonstrations \n 
URL:https://www.clintoncountyhousing.com/event/after-school-program-2025-2026/2026-03-23/
LOCATION:John Yost Community Center\, 180 Bennage Ave\, Lock Haven\, PA\, 17745\, United States
ORGANIZER;CN="Roxanne Gottshall":MAILTO:roxanne@clintoncountyhousing.com
END:VEVENT
BEGIN:VEVENT
DTSTART;TZID=America/New_York:20260319T100000
DTEND;TZID=America/New_York:20260319T120000
DTSTAMP:20260423T134824
CREATED:20260122T144456Z
LAST-MODIFIED:20260122T144456Z
UID:10000882-1773914400-1773921600@www.clintoncountyhousing.com
SUMMARY:Adult Computer Lab
DESCRIPTION:ADULT COMPUTER LAB\n \nWeekly on Thursdays\n10 am to 12 noon\n\ncall ahead to ensure computer availability\n570-893-1911 x-2\n\n 
URL:https://www.clintoncountyhousing.com/event/adult-computer-lab-3/2026-03-19/
LOCATION:John Yost Community Center\, 180 Bennage Ave\, Lock Haven\, PA\, 17745\, United States
ORGANIZER;CN="Tenant Services Coordinator":MAILTO:roxanne@clintoncountyhousing.com
END:VEVENT
BEGIN:VEVENT
DTSTART;TZID=America/New_York:20260318T180000
DTEND;TZID=America/New_York:20260318T190000
DTSTAMP:20260423T134824
CREATED:20260218T145715Z
LAST-MODIFIED:20260317T144926Z
UID:10000940-1773856800-1773860400@www.clintoncountyhousing.com
SUMMARY:Reading Across PA 2026
DESCRIPTION:Join CCHA and BENV Kiwanis for READING ACROSS PA! \n \nCCHA will host an evening of reading OCEAN themed books\, games\, crafts\, and some food with the help of BENV Kiwanis & special guest to read to the children! \nWhere: John Yost Community Center \nWhen: Wednesday March 18\, 2026\, from 6:00 to 7:00 pm \nRegistration is required for this event to provide to best event!
URL:https://www.clintoncountyhousing.com/event/reading-across-pa-2026/
LOCATION:John Yost Community Center\, 180 Bennage Ave\, Lock Haven\, PA\, 17745\, United States
ORGANIZER;CN="Tenant Services Coordinator":MAILTO:roxanne@clintoncountyhousing.com
END:VEVENT
BEGIN:VEVENT
DTSTART;TZID=America/New_York:20260318T153000
DTEND;TZID=America/New_York:20260318T163000
DTSTAMP:20260423T134824
CREATED:20250825T193530Z
LAST-MODIFIED:20250825T193813Z
UID:10000732-1773847800-1773851400@www.clintoncountyhousing.com
SUMMARY:After School Program 2025 - 2026
DESCRIPTION:CCHA’s After Schol Program\n \nThe After School Program runs every Monday & Wednesday from 3:30 to 4:30 at the John Yost Community Center. \nWe will provide help with homework\, snacks\, arts & crafts\, games\, computer days\, outside activities. \n – Kids in the Kitchen Days \n – Special Guests and Demonstrations \n 
URL:https://www.clintoncountyhousing.com/event/after-school-program-2025-2026/2026-03-18/
LOCATION:John Yost Community Center\, 180 Bennage Ave\, Lock Haven\, PA\, 17745\, United States
ORGANIZER;CN="Roxanne Gottshall":MAILTO:roxanne@clintoncountyhousing.com
END:VEVENT
BEGIN:VEVENT
DTSTART;TZID=America/New_York:20260316T153000
DTEND;TZID=America/New_York:20260316T163000
DTSTAMP:20260423T134824
CREATED:20250825T193530Z
LAST-MODIFIED:20250825T193813Z
UID:10000731-1773675000-1773678600@www.clintoncountyhousing.com
SUMMARY:After School Program 2025 - 2026
DESCRIPTION:CCHA’s After Schol Program\n \nThe After School Program runs every Monday & Wednesday from 3:30 to 4:30 at the John Yost Community Center. \nWe will provide help with homework\, snacks\, arts & crafts\, games\, computer days\, outside activities. \n – Kids in the Kitchen Days \n – Special Guests and Demonstrations \n 
URL:https://www.clintoncountyhousing.com/event/after-school-program-2025-2026/2026-03-16/
LOCATION:John Yost Community Center\, 180 Bennage Ave\, Lock Haven\, PA\, 17745\, United States
ORGANIZER;CN="Roxanne Gottshall":MAILTO:roxanne@clintoncountyhousing.com
END:VEVENT
BEGIN:VEVENT
DTSTART;TZID=America/New_York:20260316T120000
DTEND;TZID=America/New_York:20260316T140000
DTSTAMP:20260423T134824
CREATED:20260122T141917Z
LAST-MODIFIED:20260122T141917Z
UID:10000833-1773662400-1773669600@www.clintoncountyhousing.com
SUMMARY:Fresh Express Food Bank- Lock Haven
DESCRIPTION:Fresh Express Food Distribution\nJohn Yost Community Center\n180 Bennage Avenue\n12:00 noon to 2:00 pm\n \n  \n 
URL:https://www.clintoncountyhousing.com/event/fresh-express-food-bank-lock-haven/2026-03-16/
LOCATION:John Yost Community Center\, 180 Bennage Ave\, Lock Haven\, PA\, 17745\, United States
END:VEVENT
BEGIN:VEVENT
DTSTART;TZID=America/New_York:20260312T100000
DTEND;TZID=America/New_York:20260312T120000
DTSTAMP:20260423T134824
CREATED:20260122T144456Z
LAST-MODIFIED:20260122T144456Z
UID:10000881-1773309600-1773316800@www.clintoncountyhousing.com
SUMMARY:Adult Computer Lab
DESCRIPTION:ADULT COMPUTER LAB\n \nWeekly on Thursdays\n10 am to 12 noon\n\ncall ahead to ensure computer availability\n570-893-1911 x-2\n\n 
URL:https://www.clintoncountyhousing.com/event/adult-computer-lab-3/2026-03-12/
LOCATION:John Yost Community Center\, 180 Bennage Ave\, Lock Haven\, PA\, 17745\, United States
ORGANIZER;CN="Tenant Services Coordinator":MAILTO:roxanne@clintoncountyhousing.com
END:VEVENT
BEGIN:VEVENT
DTSTART;TZID=America/New_York:20260311T153000
DTEND;TZID=America/New_York:20260311T163000
DTSTAMP:20260423T134824
CREATED:20250825T193530Z
LAST-MODIFIED:20250825T193813Z
UID:10000730-1773243000-1773246600@www.clintoncountyhousing.com
SUMMARY:After School Program 2025 - 2026
DESCRIPTION:CCHA’s After Schol Program\n \nThe After School Program runs every Monday & Wednesday from 3:30 to 4:30 at the John Yost Community Center. \nWe will provide help with homework\, snacks\, arts & crafts\, games\, computer days\, outside activities. \n – Kids in the Kitchen Days \n – Special Guests and Demonstrations \n 
URL:https://www.clintoncountyhousing.com/event/after-school-program-2025-2026/2026-03-11/
LOCATION:John Yost Community Center\, 180 Bennage Ave\, Lock Haven\, PA\, 17745\, United States
ORGANIZER;CN="Roxanne Gottshall":MAILTO:roxanne@clintoncountyhousing.com
END:VEVENT
BEGIN:VEVENT
DTSTART;TZID=America/New_York:20260309T153000
DTEND;TZID=America/New_York:20260309T163000
DTSTAMP:20260423T134824
CREATED:20250825T193530Z
LAST-MODIFIED:20250825T193813Z
UID:10000729-1773070200-1773073800@www.clintoncountyhousing.com
SUMMARY:After School Program 2025 - 2026
DESCRIPTION:CCHA’s After Schol Program\n \nThe After School Program runs every Monday & Wednesday from 3:30 to 4:30 at the John Yost Community Center. \nWe will provide help with homework\, snacks\, arts & crafts\, games\, computer days\, outside activities. \n – Kids in the Kitchen Days \n – Special Guests and Demonstrations \n 
URL:https://www.clintoncountyhousing.com/event/after-school-program-2025-2026/2026-03-09/
LOCATION:John Yost Community Center\, 180 Bennage Ave\, Lock Haven\, PA\, 17745\, United States
ORGANIZER;CN="Roxanne Gottshall":MAILTO:roxanne@clintoncountyhousing.com
END:VEVENT
BEGIN:VEVENT
DTSTART;TZID=America/New_York:20260305T100000
DTEND;TZID=America/New_York:20260305T120000
DTSTAMP:20260423T134824
CREATED:20260122T144456Z
LAST-MODIFIED:20260122T144456Z
UID:10000880-1772704800-1772712000@www.clintoncountyhousing.com
SUMMARY:Adult Computer Lab
DESCRIPTION:ADULT COMPUTER LAB\n \nWeekly on Thursdays\n10 am to 12 noon\n\ncall ahead to ensure computer availability\n570-893-1911 x-2\n\n 
URL:https://www.clintoncountyhousing.com/event/adult-computer-lab-3/2026-03-05/
LOCATION:John Yost Community Center\, 180 Bennage Ave\, Lock Haven\, PA\, 17745\, United States
ORGANIZER;CN="Tenant Services Coordinator":MAILTO:roxanne@clintoncountyhousing.com
END:VEVENT
BEGIN:VEVENT
DTSTART;TZID=America/New_York:20260304T153000
DTEND;TZID=America/New_York:20260304T163000
DTSTAMP:20260423T134824
CREATED:20250825T193530Z
LAST-MODIFIED:20250825T193813Z
UID:10000728-1772638200-1772641800@www.clintoncountyhousing.com
SUMMARY:After School Program 2025 - 2026
DESCRIPTION:CCHA’s After Schol Program\n \nThe After School Program runs every Monday & Wednesday from 3:30 to 4:30 at the John Yost Community Center. \nWe will provide help with homework\, snacks\, arts & crafts\, games\, computer days\, outside activities. \n – Kids in the Kitchen Days \n – Special Guests and Demonstrations \n 
URL:https://www.clintoncountyhousing.com/event/after-school-program-2025-2026/2026-03-04/
LOCATION:John Yost Community Center\, 180 Bennage Ave\, Lock Haven\, PA\, 17745\, United States
ORGANIZER;CN="Roxanne Gottshall":MAILTO:roxanne@clintoncountyhousing.com
END:VEVENT
BEGIN:VEVENT
DTSTART;TZID=America/New_York:20260302T153000
DTEND;TZID=America/New_York:20260302T163000
DTSTAMP:20260423T134824
CREATED:20250825T193530Z
LAST-MODIFIED:20250825T193813Z
UID:10000727-1772465400-1772469000@www.clintoncountyhousing.com
SUMMARY:After School Program 2025 - 2026
DESCRIPTION:CCHA’s After Schol Program\n \nThe After School Program runs every Monday & Wednesday from 3:30 to 4:30 at the John Yost Community Center. \nWe will provide help with homework\, snacks\, arts & crafts\, games\, computer days\, outside activities. \n – Kids in the Kitchen Days \n – Special Guests and Demonstrations \n 
URL:https://www.clintoncountyhousing.com/event/after-school-program-2025-2026/2026-03-02/
LOCATION:John Yost Community Center\, 180 Bennage Ave\, Lock Haven\, PA\, 17745\, United States
ORGANIZER;CN="Roxanne Gottshall":MAILTO:roxanne@clintoncountyhousing.com
END:VEVENT
BEGIN:VEVENT
DTSTART;TZID=America/New_York:20260226T100000
DTEND;TZID=America/New_York:20260226T120000
DTSTAMP:20260423T134824
CREATED:20260122T144456Z
LAST-MODIFIED:20260122T144456Z
UID:10000879-1772100000-1772107200@www.clintoncountyhousing.com
SUMMARY:Adult Computer Lab
DESCRIPTION:ADULT COMPUTER LAB\n \nWeekly on Thursdays\n10 am to 12 noon\n\ncall ahead to ensure computer availability\n570-893-1911 x-2\n\n 
URL:https://www.clintoncountyhousing.com/event/adult-computer-lab-3/2026-02-26/
LOCATION:John Yost Community Center\, 180 Bennage Ave\, Lock Haven\, PA\, 17745\, United States
ORGANIZER;CN="Tenant Services Coordinator":MAILTO:roxanne@clintoncountyhousing.com
END:VEVENT
BEGIN:VEVENT
DTSTART;TZID=America/New_York:20260225T153000
DTEND;TZID=America/New_York:20260225T163000
DTSTAMP:20260423T134824
CREATED:20250825T193530Z
LAST-MODIFIED:20250825T193813Z
UID:10000726-1772033400-1772037000@www.clintoncountyhousing.com
SUMMARY:After School Program 2025 - 2026
DESCRIPTION:CCHA’s After Schol Program\n \nThe After School Program runs every Monday & Wednesday from 3:30 to 4:30 at the John Yost Community Center. \nWe will provide help with homework\, snacks\, arts & crafts\, games\, computer days\, outside activities. \n – Kids in the Kitchen Days \n – Special Guests and Demonstrations \n 
URL:https://www.clintoncountyhousing.com/event/after-school-program-2025-2026/2026-02-25/
LOCATION:John Yost Community Center\, 180 Bennage Ave\, Lock Haven\, PA\, 17745\, United States
ORGANIZER;CN="Roxanne Gottshall":MAILTO:roxanne@clintoncountyhousing.com
END:VEVENT
BEGIN:VEVENT
DTSTART;TZID=America/New_York:20260223T153000
DTEND;TZID=America/New_York:20260223T163000
DTSTAMP:20260423T134824
CREATED:20250825T193530Z
LAST-MODIFIED:20250825T193813Z
UID:10000725-1771860600-1771864200@www.clintoncountyhousing.com
SUMMARY:After School Program 2025 - 2026
DESCRIPTION:CCHA’s After Schol Program\n \nThe After School Program runs every Monday & Wednesday from 3:30 to 4:30 at the John Yost Community Center. \nWe will provide help with homework\, snacks\, arts & crafts\, games\, computer days\, outside activities. \n – Kids in the Kitchen Days \n – Special Guests and Demonstrations \n 
URL:https://www.clintoncountyhousing.com/event/after-school-program-2025-2026/2026-02-23/
LOCATION:John Yost Community Center\, 180 Bennage Ave\, Lock Haven\, PA\, 17745\, United States
ORGANIZER;CN="Roxanne Gottshall":MAILTO:roxanne@clintoncountyhousing.com
END:VEVENT
END:VCALENDAR