BEGIN:VCALENDAR
VERSION:2.0
PRODID:-//Clinton County Housing Authority - ECPv6.15.20//NONSGML v1.0//EN
CALSCALE:GREGORIAN
METHOD:PUBLISH
X-ORIGINAL-URL:https://www.clintoncountyhousing.com
X-WR-CALDESC:Events for Clinton County Housing Authority
REFRESH-INTERVAL;VALUE=DURATION:PT1H
X-Robots-Tag:noindex
X-PUBLISHED-TTL:PT1H
BEGIN:VTIMEZONE
TZID:America/New_York
BEGIN:DAYLIGHT
TZOFFSETFROM:-0500
TZOFFSETTO:-0400
TZNAME:EDT
DTSTART:20240310T070000
END:DAYLIGHT
BEGIN:STANDARD
TZOFFSETFROM:-0400
TZOFFSETTO:-0500
TZNAME:EST
DTSTART:20241103T060000
END:STANDARD
BEGIN:DAYLIGHT
TZOFFSETFROM:-0500
TZOFFSETTO:-0400
TZNAME:EDT
DTSTART:20250309T070000
END:DAYLIGHT
BEGIN:STANDARD
TZOFFSETFROM:-0400
TZOFFSETTO:-0500
TZNAME:EST
DTSTART:20251102T060000
END:STANDARD
BEGIN:DAYLIGHT
TZOFFSETFROM:-0500
TZOFFSETTO:-0400
TZNAME:EDT
DTSTART:20260308T070000
END:DAYLIGHT
BEGIN:STANDARD
TZOFFSETFROM:-0400
TZOFFSETTO:-0500
TZNAME:EST
DTSTART:20261101T060000
END:STANDARD
END:VTIMEZONE
BEGIN:VEVENT
DTSTART;TZID=America/New_York:20251106T100000
DTEND;TZID=America/New_York:20251106T120000
DTSTAMP:20260424T120211
CREATED:20250107T140901Z
LAST-MODIFIED:20250107T141721Z
UID:10000313-1762423200-1762430400@www.clintoncountyhousing.com
SUMMARY:Adult Computer Lab
DESCRIPTION:Adult Computer Lab is each Thursday from 10:00 am – 12:00 pm at the John Yost Community Center.
URL:https://www.clintoncountyhousing.com/event/adult-computer-lab-2/2025-11-06/
LOCATION:John Yost Community Center\, 180 Bennage Ave\, Lock Haven\, PA\, 17745\, United States
ORGANIZER;CN="Tenant Services Coordinator":MAILTO:roxanne@clintoncountyhousing.com
END:VEVENT
BEGIN:VEVENT
DTSTART;TZID=America/New_York:20251105T153000
DTEND;TZID=America/New_York:20251105T163000
DTSTAMP:20260424T120211
CREATED:20250825T193530Z
LAST-MODIFIED:20250825T193813Z
UID:10000694-1762356600-1762360200@www.clintoncountyhousing.com
SUMMARY:After School Program 2025 - 2026
DESCRIPTION:CCHA’s After Schol Program\n \nThe After School Program runs every Monday & Wednesday from 3:30 to 4:30 at the John Yost Community Center. \nWe will provide help with homework\, snacks\, arts & crafts\, games\, computer days\, outside activities. \n – Kids in the Kitchen Days \n – Special Guests and Demonstrations \n 
URL:https://www.clintoncountyhousing.com/event/after-school-program-2025-2026/2025-11-05/
LOCATION:John Yost Community Center\, 180 Bennage Ave\, Lock Haven\, PA\, 17745\, United States
ORGANIZER;CN="Roxanne Gottshall":MAILTO:roxanne@clintoncountyhousing.com
END:VEVENT
BEGIN:VEVENT
DTSTART;TZID=America/New_York:20251103T153000
DTEND;TZID=America/New_York:20251103T163000
DTSTAMP:20260424T120211
CREATED:20250825T193530Z
LAST-MODIFIED:20250825T193813Z
UID:10000693-1762183800-1762187400@www.clintoncountyhousing.com
SUMMARY:After School Program 2025 - 2026
DESCRIPTION:CCHA’s After Schol Program\n \nThe After School Program runs every Monday & Wednesday from 3:30 to 4:30 at the John Yost Community Center. \nWe will provide help with homework\, snacks\, arts & crafts\, games\, computer days\, outside activities. \n – Kids in the Kitchen Days \n – Special Guests and Demonstrations \n 
URL:https://www.clintoncountyhousing.com/event/after-school-program-2025-2026/2025-11-03/
LOCATION:John Yost Community Center\, 180 Bennage Ave\, Lock Haven\, PA\, 17745\, United States
ORGANIZER;CN="Roxanne Gottshall":MAILTO:roxanne@clintoncountyhousing.com
END:VEVENT
BEGIN:VEVENT
DTSTART;TZID=America/New_York:20251030T100000
DTEND;TZID=America/New_York:20251030T120000
DTSTAMP:20260424T120211
CREATED:20250107T140901Z
LAST-MODIFIED:20250107T141721Z
UID:10000312-1761818400-1761825600@www.clintoncountyhousing.com
SUMMARY:Adult Computer Lab
DESCRIPTION:Adult Computer Lab is each Thursday from 10:00 am – 12:00 pm at the John Yost Community Center.
URL:https://www.clintoncountyhousing.com/event/adult-computer-lab-2/2025-10-30/
LOCATION:John Yost Community Center\, 180 Bennage Ave\, Lock Haven\, PA\, 17745\, United States
ORGANIZER;CN="Tenant Services Coordinator":MAILTO:roxanne@clintoncountyhousing.com
END:VEVENT
BEGIN:VEVENT
DTSTART;TZID=America/New_York:20251029T153000
DTEND;TZID=America/New_York:20251029T163000
DTSTAMP:20260424T120211
CREATED:20250825T193530Z
LAST-MODIFIED:20250825T193813Z
UID:10000692-1761751800-1761755400@www.clintoncountyhousing.com
SUMMARY:After School Program 2025 - 2026
DESCRIPTION:CCHA’s After Schol Program\n \nThe After School Program runs every Monday & Wednesday from 3:30 to 4:30 at the John Yost Community Center. \nWe will provide help with homework\, snacks\, arts & crafts\, games\, computer days\, outside activities. \n – Kids in the Kitchen Days \n – Special Guests and Demonstrations \n 
URL:https://www.clintoncountyhousing.com/event/after-school-program-2025-2026/2025-10-29/
LOCATION:John Yost Community Center\, 180 Bennage Ave\, Lock Haven\, PA\, 17745\, United States
ORGANIZER;CN="Roxanne Gottshall":MAILTO:roxanne@clintoncountyhousing.com
END:VEVENT
BEGIN:VEVENT
DTSTART;TZID=America/New_York:20251027T153000
DTEND;TZID=America/New_York:20251027T163000
DTSTAMP:20260424T120211
CREATED:20250825T193530Z
LAST-MODIFIED:20250825T193813Z
UID:10000691-1761579000-1761582600@www.clintoncountyhousing.com
SUMMARY:After School Program 2025 - 2026
DESCRIPTION:CCHA’s After Schol Program\n \nThe After School Program runs every Monday & Wednesday from 3:30 to 4:30 at the John Yost Community Center. \nWe will provide help with homework\, snacks\, arts & crafts\, games\, computer days\, outside activities. \n – Kids in the Kitchen Days \n – Special Guests and Demonstrations \n 
URL:https://www.clintoncountyhousing.com/event/after-school-program-2025-2026/2025-10-27/
LOCATION:John Yost Community Center\, 180 Bennage Ave\, Lock Haven\, PA\, 17745\, United States
ORGANIZER;CN="Roxanne Gottshall":MAILTO:roxanne@clintoncountyhousing.com
END:VEVENT
BEGIN:VEVENT
DTSTART;TZID=America/New_York:20251023T100000
DTEND;TZID=America/New_York:20251023T120000
DTSTAMP:20260424T120211
CREATED:20250107T140901Z
LAST-MODIFIED:20250107T141721Z
UID:10000311-1761213600-1761220800@www.clintoncountyhousing.com
SUMMARY:Adult Computer Lab
DESCRIPTION:Adult Computer Lab is each Thursday from 10:00 am – 12:00 pm at the John Yost Community Center.
URL:https://www.clintoncountyhousing.com/event/adult-computer-lab-2/2025-10-23/
LOCATION:John Yost Community Center\, 180 Bennage Ave\, Lock Haven\, PA\, 17745\, United States
ORGANIZER;CN="Tenant Services Coordinator":MAILTO:roxanne@clintoncountyhousing.com
END:VEVENT
BEGIN:VEVENT
DTSTART;TZID=America/New_York:20251022T153000
DTEND;TZID=America/New_York:20251022T163000
DTSTAMP:20260424T120211
CREATED:20250825T193530Z
LAST-MODIFIED:20250825T193813Z
UID:10000690-1761147000-1761150600@www.clintoncountyhousing.com
SUMMARY:After School Program 2025 - 2026
DESCRIPTION:CCHA’s After Schol Program\n \nThe After School Program runs every Monday & Wednesday from 3:30 to 4:30 at the John Yost Community Center. \nWe will provide help with homework\, snacks\, arts & crafts\, games\, computer days\, outside activities. \n – Kids in the Kitchen Days \n – Special Guests and Demonstrations \n 
URL:https://www.clintoncountyhousing.com/event/after-school-program-2025-2026/2025-10-22/
LOCATION:John Yost Community Center\, 180 Bennage Ave\, Lock Haven\, PA\, 17745\, United States
ORGANIZER;CN="Roxanne Gottshall":MAILTO:roxanne@clintoncountyhousing.com
END:VEVENT
BEGIN:VEVENT
DTSTART;TZID=America/New_York:20251020T153000
DTEND;TZID=America/New_York:20251020T163000
DTSTAMP:20260424T120211
CREATED:20250825T193530Z
LAST-MODIFIED:20250825T193813Z
UID:10000689-1760974200-1760977800@www.clintoncountyhousing.com
SUMMARY:After School Program 2025 - 2026
DESCRIPTION:CCHA’s After Schol Program\n \nThe After School Program runs every Monday & Wednesday from 3:30 to 4:30 at the John Yost Community Center. \nWe will provide help with homework\, snacks\, arts & crafts\, games\, computer days\, outside activities. \n – Kids in the Kitchen Days \n – Special Guests and Demonstrations \n 
URL:https://www.clintoncountyhousing.com/event/after-school-program-2025-2026/2025-10-20/
LOCATION:John Yost Community Center\, 180 Bennage Ave\, Lock Haven\, PA\, 17745\, United States
ORGANIZER;CN="Roxanne Gottshall":MAILTO:roxanne@clintoncountyhousing.com
END:VEVENT
BEGIN:VEVENT
DTSTART;TZID=America/New_York:20251020T120000
DTEND;TZID=America/New_York:20251020T140000
DTSTAMP:20260424T120211
CREATED:20250107T143551Z
LAST-MODIFIED:20250404T171709Z
UID:10000373-1760961600-1760968800@www.clintoncountyhousing.com
SUMMARY:Central PA Food Bank - Fresh Express for Lock Haven
DESCRIPTION:
URL:https://www.clintoncountyhousing.com/event/central-pa-food-bank-fresh-express-for-lock-haven-2/2025-10-20/
LOCATION:John Yost Community Center\, 180 Bennage Ave\, Lock Haven\, PA\, 17745\, United States
END:VEVENT
BEGIN:VEVENT
DTSTART;TZID=America/New_York:20251016T100000
DTEND;TZID=America/New_York:20251016T120000
DTSTAMP:20260424T120211
CREATED:20250107T140901Z
LAST-MODIFIED:20250107T141721Z
UID:10000310-1760608800-1760616000@www.clintoncountyhousing.com
SUMMARY:Adult Computer Lab
DESCRIPTION:Adult Computer Lab is each Thursday from 10:00 am – 12:00 pm at the John Yost Community Center.
URL:https://www.clintoncountyhousing.com/event/adult-computer-lab-2/2025-10-16/
LOCATION:John Yost Community Center\, 180 Bennage Ave\, Lock Haven\, PA\, 17745\, United States
ORGANIZER;CN="Tenant Services Coordinator":MAILTO:roxanne@clintoncountyhousing.com
END:VEVENT
BEGIN:VEVENT
DTSTART;TZID=America/New_York:20251015T153000
DTEND;TZID=America/New_York:20251015T163000
DTSTAMP:20260424T120211
CREATED:20250825T193530Z
LAST-MODIFIED:20250825T193813Z
UID:10000688-1760542200-1760545800@www.clintoncountyhousing.com
SUMMARY:After School Program 2025 - 2026
DESCRIPTION:CCHA’s After Schol Program\n \nThe After School Program runs every Monday & Wednesday from 3:30 to 4:30 at the John Yost Community Center. \nWe will provide help with homework\, snacks\, arts & crafts\, games\, computer days\, outside activities. \n – Kids in the Kitchen Days \n – Special Guests and Demonstrations \n 
URL:https://www.clintoncountyhousing.com/event/after-school-program-2025-2026/2025-10-15/
LOCATION:John Yost Community Center\, 180 Bennage Ave\, Lock Haven\, PA\, 17745\, United States
ORGANIZER;CN="Roxanne Gottshall":MAILTO:roxanne@clintoncountyhousing.com
END:VEVENT
BEGIN:VEVENT
DTSTART;TZID=America/New_York:20251009T100000
DTEND;TZID=America/New_York:20251009T120000
DTSTAMP:20260424T120211
CREATED:20250107T140901Z
LAST-MODIFIED:20250107T141721Z
UID:10000309-1760004000-1760011200@www.clintoncountyhousing.com
SUMMARY:Adult Computer Lab
DESCRIPTION:Adult Computer Lab is each Thursday from 10:00 am – 12:00 pm at the John Yost Community Center.
URL:https://www.clintoncountyhousing.com/event/adult-computer-lab-2/2025-10-09/
LOCATION:John Yost Community Center\, 180 Bennage Ave\, Lock Haven\, PA\, 17745\, United States
ORGANIZER;CN="Tenant Services Coordinator":MAILTO:roxanne@clintoncountyhousing.com
END:VEVENT
BEGIN:VEVENT
DTSTART;TZID=America/New_York:20251008T153000
DTEND;TZID=America/New_York:20251008T163000
DTSTAMP:20260424T120211
CREATED:20250825T193530Z
LAST-MODIFIED:20250825T193813Z
UID:10000686-1759937400-1759941000@www.clintoncountyhousing.com
SUMMARY:After School Program 2025 - 2026
DESCRIPTION:CCHA’s After Schol Program\n \nThe After School Program runs every Monday & Wednesday from 3:30 to 4:30 at the John Yost Community Center. \nWe will provide help with homework\, snacks\, arts & crafts\, games\, computer days\, outside activities. \n – Kids in the Kitchen Days \n – Special Guests and Demonstrations \n 
URL:https://www.clintoncountyhousing.com/event/after-school-program-2025-2026/2025-10-08/
LOCATION:John Yost Community Center\, 180 Bennage Ave\, Lock Haven\, PA\, 17745\, United States
ORGANIZER;CN="Roxanne Gottshall":MAILTO:roxanne@clintoncountyhousing.com
END:VEVENT
BEGIN:VEVENT
DTSTART;TZID=America/New_York:20251006T153000
DTEND;TZID=America/New_York:20251006T163000
DTSTAMP:20260424T120211
CREATED:20250825T193530Z
LAST-MODIFIED:20250825T193813Z
UID:10000685-1759764600-1759768200@www.clintoncountyhousing.com
SUMMARY:After School Program 2025 - 2026
DESCRIPTION:CCHA’s After Schol Program\n \nThe After School Program runs every Monday & Wednesday from 3:30 to 4:30 at the John Yost Community Center. \nWe will provide help with homework\, snacks\, arts & crafts\, games\, computer days\, outside activities. \n – Kids in the Kitchen Days \n – Special Guests and Demonstrations \n 
URL:https://www.clintoncountyhousing.com/event/after-school-program-2025-2026/2025-10-06/
LOCATION:John Yost Community Center\, 180 Bennage Ave\, Lock Haven\, PA\, 17745\, United States
ORGANIZER;CN="Roxanne Gottshall":MAILTO:roxanne@clintoncountyhousing.com
END:VEVENT
BEGIN:VEVENT
DTSTART;TZID=America/New_York:20251002T100000
DTEND;TZID=America/New_York:20251002T120000
DTSTAMP:20260424T120211
CREATED:20250107T140901Z
LAST-MODIFIED:20250107T141721Z
UID:10000308-1759399200-1759406400@www.clintoncountyhousing.com
SUMMARY:Adult Computer Lab
DESCRIPTION:Adult Computer Lab is each Thursday from 10:00 am – 12:00 pm at the John Yost Community Center.
URL:https://www.clintoncountyhousing.com/event/adult-computer-lab-2/2025-10-02/
LOCATION:John Yost Community Center\, 180 Bennage Ave\, Lock Haven\, PA\, 17745\, United States
ORGANIZER;CN="Tenant Services Coordinator":MAILTO:roxanne@clintoncountyhousing.com
END:VEVENT
BEGIN:VEVENT
DTSTART;TZID=America/New_York:20251001T153000
DTEND;TZID=America/New_York:20251001T163000
DTSTAMP:20260424T120211
CREATED:20250825T193530Z
LAST-MODIFIED:20250825T193813Z
UID:10000684-1759332600-1759336200@www.clintoncountyhousing.com
SUMMARY:After School Program 2025 - 2026
DESCRIPTION:CCHA’s After Schol Program\n \nThe After School Program runs every Monday & Wednesday from 3:30 to 4:30 at the John Yost Community Center. \nWe will provide help with homework\, snacks\, arts & crafts\, games\, computer days\, outside activities. \n – Kids in the Kitchen Days \n – Special Guests and Demonstrations \n 
URL:https://www.clintoncountyhousing.com/event/after-school-program-2025-2026/2025-10-01/
LOCATION:John Yost Community Center\, 180 Bennage Ave\, Lock Haven\, PA\, 17745\, United States
ORGANIZER;CN="Roxanne Gottshall":MAILTO:roxanne@clintoncountyhousing.com
END:VEVENT
BEGIN:VEVENT
DTSTART;TZID=America/New_York:20250929T153000
DTEND;TZID=America/New_York:20250929T163000
DTSTAMP:20260424T120211
CREATED:20250825T193530Z
LAST-MODIFIED:20250825T193813Z
UID:10000683-1759159800-1759163400@www.clintoncountyhousing.com
SUMMARY:After School Program 2025 - 2026
DESCRIPTION:CCHA’s After Schol Program\n \nThe After School Program runs every Monday & Wednesday from 3:30 to 4:30 at the John Yost Community Center. \nWe will provide help with homework\, snacks\, arts & crafts\, games\, computer days\, outside activities. \n – Kids in the Kitchen Days \n – Special Guests and Demonstrations \n 
URL:https://www.clintoncountyhousing.com/event/after-school-program-2025-2026/2025-09-29/
LOCATION:John Yost Community Center\, 180 Bennage Ave\, Lock Haven\, PA\, 17745\, United States
ORGANIZER;CN="Roxanne Gottshall":MAILTO:roxanne@clintoncountyhousing.com
END:VEVENT
BEGIN:VEVENT
DTSTART;TZID=America/New_York:20250925T100000
DTEND;TZID=America/New_York:20250925T120000
DTSTAMP:20260424T120211
CREATED:20250107T140901Z
LAST-MODIFIED:20250107T141721Z
UID:10000307-1758794400-1758801600@www.clintoncountyhousing.com
SUMMARY:Adult Computer Lab
DESCRIPTION:Adult Computer Lab is each Thursday from 10:00 am – 12:00 pm at the John Yost Community Center.
URL:https://www.clintoncountyhousing.com/event/adult-computer-lab-2/2025-09-25/
LOCATION:John Yost Community Center\, 180 Bennage Ave\, Lock Haven\, PA\, 17745\, United States
ORGANIZER;CN="Tenant Services Coordinator":MAILTO:roxanne@clintoncountyhousing.com
END:VEVENT
BEGIN:VEVENT
DTSTART;TZID=America/New_York:20250924T153000
DTEND;TZID=America/New_York:20250924T163000
DTSTAMP:20260424T120211
CREATED:20250825T193530Z
LAST-MODIFIED:20250825T193813Z
UID:10000682-1758727800-1758731400@www.clintoncountyhousing.com
SUMMARY:After School Program 2025 - 2026
DESCRIPTION:CCHA’s After Schol Program\n \nThe After School Program runs every Monday & Wednesday from 3:30 to 4:30 at the John Yost Community Center. \nWe will provide help with homework\, snacks\, arts & crafts\, games\, computer days\, outside activities. \n – Kids in the Kitchen Days \n – Special Guests and Demonstrations \n 
URL:https://www.clintoncountyhousing.com/event/after-school-program-2025-2026/2025-09-24/
LOCATION:John Yost Community Center\, 180 Bennage Ave\, Lock Haven\, PA\, 17745\, United States
ORGANIZER;CN="Roxanne Gottshall":MAILTO:roxanne@clintoncountyhousing.com
END:VEVENT
BEGIN:VEVENT
DTSTART;TZID=America/New_York:20250922T153000
DTEND;TZID=America/New_York:20250922T163000
DTSTAMP:20260424T120211
CREATED:20250825T193530Z
LAST-MODIFIED:20250825T193813Z
UID:10000681-1758555000-1758558600@www.clintoncountyhousing.com
SUMMARY:After School Program 2025 - 2026
DESCRIPTION:CCHA’s After Schol Program\n \nThe After School Program runs every Monday & Wednesday from 3:30 to 4:30 at the John Yost Community Center. \nWe will provide help with homework\, snacks\, arts & crafts\, games\, computer days\, outside activities. \n – Kids in the Kitchen Days \n – Special Guests and Demonstrations \n 
URL:https://www.clintoncountyhousing.com/event/after-school-program-2025-2026/2025-09-22/
LOCATION:John Yost Community Center\, 180 Bennage Ave\, Lock Haven\, PA\, 17745\, United States
ORGANIZER;CN="Roxanne Gottshall":MAILTO:roxanne@clintoncountyhousing.com
END:VEVENT
BEGIN:VEVENT
DTSTART;TZID=America/New_York:20250918T100000
DTEND;TZID=America/New_York:20250918T120000
DTSTAMP:20260424T120211
CREATED:20250107T140901Z
LAST-MODIFIED:20250107T141721Z
UID:10000306-1758189600-1758196800@www.clintoncountyhousing.com
SUMMARY:Adult Computer Lab
DESCRIPTION:Adult Computer Lab is each Thursday from 10:00 am – 12:00 pm at the John Yost Community Center.
URL:https://www.clintoncountyhousing.com/event/adult-computer-lab-2/2025-09-18/
LOCATION:John Yost Community Center\, 180 Bennage Ave\, Lock Haven\, PA\, 17745\, United States
ORGANIZER;CN="Tenant Services Coordinator":MAILTO:roxanne@clintoncountyhousing.com
END:VEVENT
BEGIN:VEVENT
DTSTART;TZID=America/New_York:20250917T153000
DTEND;TZID=America/New_York:20250917T163000
DTSTAMP:20260424T120211
CREATED:20250825T193530Z
LAST-MODIFIED:20250825T193813Z
UID:10000680-1758123000-1758126600@www.clintoncountyhousing.com
SUMMARY:After School Program 2025 - 2026
DESCRIPTION:CCHA’s After Schol Program\n \nThe After School Program runs every Monday & Wednesday from 3:30 to 4:30 at the John Yost Community Center. \nWe will provide help with homework\, snacks\, arts & crafts\, games\, computer days\, outside activities. \n – Kids in the Kitchen Days \n – Special Guests and Demonstrations \n 
URL:https://www.clintoncountyhousing.com/event/after-school-program-2025-2026/2025-09-17/
LOCATION:John Yost Community Center\, 180 Bennage Ave\, Lock Haven\, PA\, 17745\, United States
ORGANIZER;CN="Roxanne Gottshall":MAILTO:roxanne@clintoncountyhousing.com
END:VEVENT
BEGIN:VEVENT
DTSTART;TZID=America/New_York:20250915T153000
DTEND;TZID=America/New_York:20250915T163000
DTSTAMP:20260424T120211
CREATED:20250825T193530Z
LAST-MODIFIED:20250825T193813Z
UID:10000679-1757950200-1757953800@www.clintoncountyhousing.com
SUMMARY:After School Program 2025 - 2026
DESCRIPTION:CCHA’s After Schol Program\n \nThe After School Program runs every Monday & Wednesday from 3:30 to 4:30 at the John Yost Community Center. \nWe will provide help with homework\, snacks\, arts & crafts\, games\, computer days\, outside activities. \n – Kids in the Kitchen Days \n – Special Guests and Demonstrations \n 
URL:https://www.clintoncountyhousing.com/event/after-school-program-2025-2026/2025-09-15/
LOCATION:John Yost Community Center\, 180 Bennage Ave\, Lock Haven\, PA\, 17745\, United States
ORGANIZER;CN="Roxanne Gottshall":MAILTO:roxanne@clintoncountyhousing.com
END:VEVENT
BEGIN:VEVENT
DTSTART;TZID=America/New_York:20250915T120000
DTEND;TZID=America/New_York:20250915T140000
DTSTAMP:20260424T120211
CREATED:20250107T143551Z
LAST-MODIFIED:20250404T171709Z
UID:10000372-1757937600-1757944800@www.clintoncountyhousing.com
SUMMARY:Central PA Food Bank - Fresh Express for Lock Haven
DESCRIPTION:
URL:https://www.clintoncountyhousing.com/event/central-pa-food-bank-fresh-express-for-lock-haven-2/2025-09-15/
LOCATION:John Yost Community Center\, 180 Bennage Ave\, Lock Haven\, PA\, 17745\, United States
END:VEVENT
BEGIN:VEVENT
DTSTART;TZID=America/New_York:20250911T100000
DTEND;TZID=America/New_York:20250911T120000
DTSTAMP:20260424T120211
CREATED:20250107T140901Z
LAST-MODIFIED:20250107T141721Z
UID:10000305-1757584800-1757592000@www.clintoncountyhousing.com
SUMMARY:Adult Computer Lab
DESCRIPTION:Adult Computer Lab is each Thursday from 10:00 am – 12:00 pm at the John Yost Community Center.
URL:https://www.clintoncountyhousing.com/event/adult-computer-lab-2/2025-09-11/
LOCATION:John Yost Community Center\, 180 Bennage Ave\, Lock Haven\, PA\, 17745\, United States
ORGANIZER;CN="Tenant Services Coordinator":MAILTO:roxanne@clintoncountyhousing.com
END:VEVENT
BEGIN:VEVENT
DTSTART;TZID=America/New_York:20250910T153000
DTEND;TZID=America/New_York:20250910T163000
DTSTAMP:20260424T120211
CREATED:20250825T193530Z
LAST-MODIFIED:20250825T193813Z
UID:10000678-1757518200-1757521800@www.clintoncountyhousing.com
SUMMARY:After School Program 2025 - 2026
DESCRIPTION:CCHA’s After Schol Program\n \nThe After School Program runs every Monday & Wednesday from 3:30 to 4:30 at the John Yost Community Center. \nWe will provide help with homework\, snacks\, arts & crafts\, games\, computer days\, outside activities. \n – Kids in the Kitchen Days \n – Special Guests and Demonstrations \n 
URL:https://www.clintoncountyhousing.com/event/after-school-program-2025-2026/2025-09-10/
LOCATION:John Yost Community Center\, 180 Bennage Ave\, Lock Haven\, PA\, 17745\, United States
ORGANIZER;CN="Roxanne Gottshall":MAILTO:roxanne@clintoncountyhousing.com
END:VEVENT
BEGIN:VEVENT
DTSTART;TZID=America/New_York:20250908T153000
DTEND;TZID=America/New_York:20250908T163000
DTSTAMP:20260424T120211
CREATED:20250825T193530Z
LAST-MODIFIED:20250825T193813Z
UID:10000677-1757345400-1757349000@www.clintoncountyhousing.com
SUMMARY:After School Program 2025 - 2026
DESCRIPTION:CCHA’s After Schol Program\n \nThe After School Program runs every Monday & Wednesday from 3:30 to 4:30 at the John Yost Community Center. \nWe will provide help with homework\, snacks\, arts & crafts\, games\, computer days\, outside activities. \n – Kids in the Kitchen Days \n – Special Guests and Demonstrations \n 
URL:https://www.clintoncountyhousing.com/event/after-school-program-2025-2026/2025-09-08/
LOCATION:John Yost Community Center\, 180 Bennage Ave\, Lock Haven\, PA\, 17745\, United States
ORGANIZER;CN="Roxanne Gottshall":MAILTO:roxanne@clintoncountyhousing.com
END:VEVENT
BEGIN:VEVENT
DTSTART;TZID=America/New_York:20250904T100000
DTEND;TZID=America/New_York:20250904T120000
DTSTAMP:20260424T120211
CREATED:20250107T140901Z
LAST-MODIFIED:20250107T141721Z
UID:10000304-1756980000-1756987200@www.clintoncountyhousing.com
SUMMARY:Adult Computer Lab
DESCRIPTION:Adult Computer Lab is each Thursday from 10:00 am – 12:00 pm at the John Yost Community Center.
URL:https://www.clintoncountyhousing.com/event/adult-computer-lab-2/2025-09-04/
LOCATION:John Yost Community Center\, 180 Bennage Ave\, Lock Haven\, PA\, 17745\, United States
ORGANIZER;CN="Tenant Services Coordinator":MAILTO:roxanne@clintoncountyhousing.com
END:VEVENT
BEGIN:VEVENT
DTSTART;TZID=America/New_York:20250828T100000
DTEND;TZID=America/New_York:20250828T120000
DTSTAMP:20260424T120211
CREATED:20250107T140901Z
LAST-MODIFIED:20250107T141721Z
UID:10000303-1756375200-1756382400@www.clintoncountyhousing.com
SUMMARY:Adult Computer Lab
DESCRIPTION:Adult Computer Lab is each Thursday from 10:00 am – 12:00 pm at the John Yost Community Center.
URL:https://www.clintoncountyhousing.com/event/adult-computer-lab-2/2025-08-28/
LOCATION:John Yost Community Center\, 180 Bennage Ave\, Lock Haven\, PA\, 17745\, United States
ORGANIZER;CN="Tenant Services Coordinator":MAILTO:roxanne@clintoncountyhousing.com
END:VEVENT
END:VCALENDAR