BEGIN:VCALENDAR
VERSION:2.0
PRODID:-//Clinton County Housing Authority - ECPv6.15.20//NONSGML v1.0//EN
CALSCALE:GREGORIAN
METHOD:PUBLISH
X-ORIGINAL-URL:https://www.clintoncountyhousing.com
X-WR-CALDESC:Events for Clinton County Housing Authority
REFRESH-INTERVAL;VALUE=DURATION:PT1H
X-Robots-Tag:noindex
X-PUBLISHED-TTL:PT1H
BEGIN:VTIMEZONE
TZID:America/New_York
BEGIN:DAYLIGHT
TZOFFSETFROM:-0500
TZOFFSETTO:-0400
TZNAME:EDT
DTSTART:20250309T070000
END:DAYLIGHT
BEGIN:STANDARD
TZOFFSETFROM:-0400
TZOFFSETTO:-0500
TZNAME:EST
DTSTART:20251102T060000
END:STANDARD
BEGIN:DAYLIGHT
TZOFFSETFROM:-0500
TZOFFSETTO:-0400
TZNAME:EDT
DTSTART:20260308T070000
END:DAYLIGHT
BEGIN:STANDARD
TZOFFSETFROM:-0400
TZOFFSETTO:-0500
TZNAME:EST
DTSTART:20261101T060000
END:STANDARD
BEGIN:DAYLIGHT
TZOFFSETFROM:-0500
TZOFFSETTO:-0400
TZNAME:EDT
DTSTART:20270314T070000
END:DAYLIGHT
BEGIN:STANDARD
TZOFFSETFROM:-0400
TZOFFSETTO:-0500
TZNAME:EST
DTSTART:20271107T060000
END:STANDARD
END:VTIMEZONE
BEGIN:VEVENT
DTSTART;TZID=America/New_York:20260428T130000
DTEND;TZID=America/New_York:20260428T150000
DTSTAMP:20260423T105839
CREATED:20260122T140329Z
LAST-MODIFIED:20260122T144638Z
UID:10000933-1777381200-1777388400@www.clintoncountyhousing.com
SUMMARY:Putman Manor Prize Bingo
DESCRIPTION:Prize Bingo\nResidents are welcome to join CCHA Tenant Services and volunteers monthly for Bingo games. \nAlways 1:00 to 3:00 in the Community Room
URL:https://www.clintoncountyhousing.com/event/putman-manor-prize-bingo-3/2026-04-28/
LOCATION:Putnam Manor\, 335 Center St\, Lock Haven\, PA\, 17745\, United States
END:VEVENT
BEGIN:VEVENT
DTSTART;TZID=America/New_York:20260526T130000
DTEND;TZID=America/New_York:20260526T150000
DTSTAMP:20260423T105839
CREATED:20260122T140329Z
LAST-MODIFIED:20260122T144638Z
UID:10000934-1779800400-1779807600@www.clintoncountyhousing.com
SUMMARY:Putman Manor Prize Bingo
DESCRIPTION:Prize Bingo\nResidents are welcome to join CCHA Tenant Services and volunteers monthly for Bingo games. \nAlways 1:00 to 3:00 in the Community Room
URL:https://www.clintoncountyhousing.com/event/putman-manor-prize-bingo-3/2026-05-26/
LOCATION:Putnam Manor\, 335 Center St\, Lock Haven\, PA\, 17745\, United States
END:VEVENT
BEGIN:VEVENT
DTSTART;TZID=America/New_York:20260623T130000
DTEND;TZID=America/New_York:20260623T150000
DTSTAMP:20260423T105839
CREATED:20260122T140329Z
LAST-MODIFIED:20260122T144638Z
UID:10000935-1782219600-1782226800@www.clintoncountyhousing.com
SUMMARY:Putman Manor Prize Bingo
DESCRIPTION:Prize Bingo\nResidents are welcome to join CCHA Tenant Services and volunteers monthly for Bingo games. \nAlways 1:00 to 3:00 in the Community Room
URL:https://www.clintoncountyhousing.com/event/putman-manor-prize-bingo-3/2026-06-23/
LOCATION:Putnam Manor\, 335 Center St\, Lock Haven\, PA\, 17745\, United States
END:VEVENT
BEGIN:VEVENT
DTSTART;TZID=America/New_York:20260728T130000
DTEND;TZID=America/New_York:20260728T150000
DTSTAMP:20260423T105839
CREATED:20260122T140329Z
LAST-MODIFIED:20260122T144638Z
UID:10000936-1785243600-1785250800@www.clintoncountyhousing.com
SUMMARY:Putman Manor Prize Bingo
DESCRIPTION:Prize Bingo\nResidents are welcome to join CCHA Tenant Services and volunteers monthly for Bingo games. \nAlways 1:00 to 3:00 in the Community Room
URL:https://www.clintoncountyhousing.com/event/putman-manor-prize-bingo-3/2026-07-28/
LOCATION:Putnam Manor\, 335 Center St\, Lock Haven\, PA\, 17745\, United States
END:VEVENT
BEGIN:VEVENT
DTSTART;TZID=America/New_York:20260825T130000
DTEND;TZID=America/New_York:20260825T150000
DTSTAMP:20260423T105839
CREATED:20260122T140329Z
LAST-MODIFIED:20260122T144638Z
UID:10000937-1787662800-1787670000@www.clintoncountyhousing.com
SUMMARY:Putman Manor Prize Bingo
DESCRIPTION:Prize Bingo\nResidents are welcome to join CCHA Tenant Services and volunteers monthly for Bingo games. \nAlways 1:00 to 3:00 in the Community Room
URL:https://www.clintoncountyhousing.com/event/putman-manor-prize-bingo-3/2026-08-25/
LOCATION:Putnam Manor\, 335 Center St\, Lock Haven\, PA\, 17745\, United States
END:VEVENT
BEGIN:VEVENT
DTSTART;TZID=America/New_York:20260922T130000
DTEND;TZID=America/New_York:20260922T150000
DTSTAMP:20260423T105839
CREATED:20260122T140329Z
LAST-MODIFIED:20260122T144638Z
UID:10000938-1790082000-1790089200@www.clintoncountyhousing.com
SUMMARY:Putman Manor Prize Bingo
DESCRIPTION:Prize Bingo\nResidents are welcome to join CCHA Tenant Services and volunteers monthly for Bingo games. \nAlways 1:00 to 3:00 in the Community Room
URL:https://www.clintoncountyhousing.com/event/putman-manor-prize-bingo-3/2026-09-22/
LOCATION:Putnam Manor\, 335 Center St\, Lock Haven\, PA\, 17745\, United States
END:VEVENT
BEGIN:VEVENT
DTSTART;TZID=America/New_York:20261027T130000
DTEND;TZID=America/New_York:20261027T150000
DTSTAMP:20260423T105839
CREATED:20260122T140329Z
LAST-MODIFIED:20260122T144638Z
UID:10000939-1793106000-1793113200@www.clintoncountyhousing.com
SUMMARY:Putman Manor Prize Bingo
DESCRIPTION:Prize Bingo\nResidents are welcome to join CCHA Tenant Services and volunteers monthly for Bingo games. \nAlways 1:00 to 3:00 in the Community Room
URL:https://www.clintoncountyhousing.com/event/putman-manor-prize-bingo-3/2026-10-27/
LOCATION:Putnam Manor\, 335 Center St\, Lock Haven\, PA\, 17745\, United States
END:VEVENT
END:VCALENDAR