BEGIN:VCALENDAR
VERSION:2.0
PRODID:-//Clinton County Housing Authority - ECPv6.15.20//NONSGML v1.0//EN
CALSCALE:GREGORIAN
METHOD:PUBLISH
X-ORIGINAL-URL:https://www.clintoncountyhousing.com
X-WR-CALDESC:Events for Clinton County Housing Authority
REFRESH-INTERVAL;VALUE=DURATION:PT1H
X-Robots-Tag:noindex
X-PUBLISHED-TTL:PT1H
BEGIN:VTIMEZONE
TZID:America/New_York
BEGIN:DAYLIGHT
TZOFFSETFROM:-0500
TZOFFSETTO:-0400
TZNAME:EDT
DTSTART:20250309T070000
END:DAYLIGHT
BEGIN:STANDARD
TZOFFSETFROM:-0400
TZOFFSETTO:-0500
TZNAME:EST
DTSTART:20251102T060000
END:STANDARD
BEGIN:DAYLIGHT
TZOFFSETFROM:-0500
TZOFFSETTO:-0400
TZNAME:EDT
DTSTART:20260308T070000
END:DAYLIGHT
BEGIN:STANDARD
TZOFFSETFROM:-0400
TZOFFSETTO:-0500
TZNAME:EST
DTSTART:20261101T060000
END:STANDARD
BEGIN:DAYLIGHT
TZOFFSETFROM:-0500
TZOFFSETTO:-0400
TZNAME:EDT
DTSTART:20270314T070000
END:DAYLIGHT
BEGIN:STANDARD
TZOFFSETFROM:-0400
TZOFFSETTO:-0500
TZNAME:EST
DTSTART:20271107T060000
END:STANDARD
END:VTIMEZONE
BEGIN:VEVENT
DTSTART;TZID=America/New_York:20260518T100000
DTEND;TZID=America/New_York:20260518T120000
DTSTAMP:20260423T145910
CREATED:20260122T142315Z
LAST-MODIFIED:20260122T142315Z
UID:10000853-1779098400-1779105600@www.clintoncountyhousing.com
SUMMARY:Fresh Express Food Bank- Renovo
DESCRIPTION:Fresh Express Food Distribution\nRansdorf Manor\n350 Huron Avenue Avenue\n10:00 am to 12:00 noon\n \n  \n 
URL:https://www.clintoncountyhousing.com/event/fresh-express-food-bank-renovo/2026-05-18/
LOCATION:Ransdorf Manor\, 350 Huron Ave\, Renovo\, PA\, 17764\, United States
END:VEVENT
BEGIN:VEVENT
DTSTART;TZID=America/New_York:20260519T130000
DTEND;TZID=America/New_York:20260519T150000
DTSTAMP:20260423T145910
CREATED:20260122T140155Z
LAST-MODIFIED:20260122T140155Z
UID:10000826-1779195600-1779202800@www.clintoncountyhousing.com
SUMMARY:Ransdorf Manor Prize Bingo
DESCRIPTION:Prize Bingo\nResidents are welcome to join CCHA Tenant Services and volunteers monthly for Bingo games. \nAlways 1:00 to 3:00 in the Community Room
URL:https://www.clintoncountyhousing.com/event/ransdorf-manor-prize-bingo-4/2026-05-19/
LOCATION:Ransdorf Manor\, 350 Huron Ave\, Renovo\, PA\, 17764\, United States
END:VEVENT
BEGIN:VEVENT
DTSTART;TZID=America/New_York:20260615T100000
DTEND;TZID=America/New_York:20260615T120000
DTSTAMP:20260423T145910
CREATED:20260122T142315Z
LAST-MODIFIED:20260122T142315Z
UID:10000854-1781517600-1781524800@www.clintoncountyhousing.com
SUMMARY:Fresh Express Food Bank- Renovo
DESCRIPTION:Fresh Express Food Distribution\nRansdorf Manor\n350 Huron Avenue Avenue\n10:00 am to 12:00 noon\n \n  \n 
URL:https://www.clintoncountyhousing.com/event/fresh-express-food-bank-renovo/2026-06-15/
LOCATION:Ransdorf Manor\, 350 Huron Ave\, Renovo\, PA\, 17764\, United States
END:VEVENT
BEGIN:VEVENT
DTSTART;TZID=America/New_York:20260616T130000
DTEND;TZID=America/New_York:20260616T150000
DTSTAMP:20260423T145910
CREATED:20260122T140155Z
LAST-MODIFIED:20260122T140155Z
UID:10000827-1781614800-1781622000@www.clintoncountyhousing.com
SUMMARY:Ransdorf Manor Prize Bingo
DESCRIPTION:Prize Bingo\nResidents are welcome to join CCHA Tenant Services and volunteers monthly for Bingo games. \nAlways 1:00 to 3:00 in the Community Room
URL:https://www.clintoncountyhousing.com/event/ransdorf-manor-prize-bingo-4/2026-06-16/
LOCATION:Ransdorf Manor\, 350 Huron Ave\, Renovo\, PA\, 17764\, United States
END:VEVENT
BEGIN:VEVENT
DTSTART;TZID=America/New_York:20260720T100000
DTEND;TZID=America/New_York:20260720T120000
DTSTAMP:20260423T145910
CREATED:20260122T142315Z
LAST-MODIFIED:20260122T142315Z
UID:10000855-1784541600-1784548800@www.clintoncountyhousing.com
SUMMARY:Fresh Express Food Bank- Renovo
DESCRIPTION:Fresh Express Food Distribution\nRansdorf Manor\n350 Huron Avenue Avenue\n10:00 am to 12:00 noon\n \n  \n 
URL:https://www.clintoncountyhousing.com/event/fresh-express-food-bank-renovo/2026-07-20/
LOCATION:Ransdorf Manor\, 350 Huron Ave\, Renovo\, PA\, 17764\, United States
END:VEVENT
BEGIN:VEVENT
DTSTART;TZID=America/New_York:20260721T130000
DTEND;TZID=America/New_York:20260721T150000
DTSTAMP:20260423T145910
CREATED:20260122T140155Z
LAST-MODIFIED:20260122T140155Z
UID:10000828-1784638800-1784646000@www.clintoncountyhousing.com
SUMMARY:Ransdorf Manor Prize Bingo
DESCRIPTION:Prize Bingo\nResidents are welcome to join CCHA Tenant Services and volunteers monthly for Bingo games. \nAlways 1:00 to 3:00 in the Community Room
URL:https://www.clintoncountyhousing.com/event/ransdorf-manor-prize-bingo-4/2026-07-21/
LOCATION:Ransdorf Manor\, 350 Huron Ave\, Renovo\, PA\, 17764\, United States
END:VEVENT
BEGIN:VEVENT
DTSTART;TZID=America/New_York:20260817T100000
DTEND;TZID=America/New_York:20260817T120000
DTSTAMP:20260423T145910
CREATED:20260122T142315Z
LAST-MODIFIED:20260122T142315Z
UID:10000856-1786960800-1786968000@www.clintoncountyhousing.com
SUMMARY:Fresh Express Food Bank- Renovo
DESCRIPTION:Fresh Express Food Distribution\nRansdorf Manor\n350 Huron Avenue Avenue\n10:00 am to 12:00 noon\n \n  \n 
URL:https://www.clintoncountyhousing.com/event/fresh-express-food-bank-renovo/2026-08-17/
LOCATION:Ransdorf Manor\, 350 Huron Ave\, Renovo\, PA\, 17764\, United States
END:VEVENT
BEGIN:VEVENT
DTSTART;TZID=America/New_York:20260818T130000
DTEND;TZID=America/New_York:20260818T150000
DTSTAMP:20260423T145910
CREATED:20260122T140155Z
LAST-MODIFIED:20260122T140155Z
UID:10000829-1787058000-1787065200@www.clintoncountyhousing.com
SUMMARY:Ransdorf Manor Prize Bingo
DESCRIPTION:Prize Bingo\nResidents are welcome to join CCHA Tenant Services and volunteers monthly for Bingo games. \nAlways 1:00 to 3:00 in the Community Room
URL:https://www.clintoncountyhousing.com/event/ransdorf-manor-prize-bingo-4/2026-08-18/
LOCATION:Ransdorf Manor\, 350 Huron Ave\, Renovo\, PA\, 17764\, United States
END:VEVENT
BEGIN:VEVENT
DTSTART;TZID=America/New_York:20260915T130000
DTEND;TZID=America/New_York:20260915T150000
DTSTAMP:20260423T145910
CREATED:20260122T140155Z
LAST-MODIFIED:20260122T140155Z
UID:10000830-1789477200-1789484400@www.clintoncountyhousing.com
SUMMARY:Ransdorf Manor Prize Bingo
DESCRIPTION:Prize Bingo\nResidents are welcome to join CCHA Tenant Services and volunteers monthly for Bingo games. \nAlways 1:00 to 3:00 in the Community Room
URL:https://www.clintoncountyhousing.com/event/ransdorf-manor-prize-bingo-4/2026-09-15/
LOCATION:Ransdorf Manor\, 350 Huron Ave\, Renovo\, PA\, 17764\, United States
END:VEVENT
BEGIN:VEVENT
DTSTART;TZID=America/New_York:20260921T100000
DTEND;TZID=America/New_York:20260921T120000
DTSTAMP:20260423T145910
CREATED:20260122T142315Z
LAST-MODIFIED:20260122T142315Z
UID:10000857-1789984800-1789992000@www.clintoncountyhousing.com
SUMMARY:Fresh Express Food Bank- Renovo
DESCRIPTION:Fresh Express Food Distribution\nRansdorf Manor\n350 Huron Avenue Avenue\n10:00 am to 12:00 noon\n \n  \n 
URL:https://www.clintoncountyhousing.com/event/fresh-express-food-bank-renovo/2026-09-21/
LOCATION:Ransdorf Manor\, 350 Huron Ave\, Renovo\, PA\, 17764\, United States
END:VEVENT
BEGIN:VEVENT
DTSTART;TZID=America/New_York:20261019T100000
DTEND;TZID=America/New_York:20261019T120000
DTSTAMP:20260423T145910
CREATED:20260122T142315Z
LAST-MODIFIED:20260122T142315Z
UID:10000858-1792404000-1792411200@www.clintoncountyhousing.com
SUMMARY:Fresh Express Food Bank- Renovo
DESCRIPTION:Fresh Express Food Distribution\nRansdorf Manor\n350 Huron Avenue Avenue\n10:00 am to 12:00 noon\n \n  \n 
URL:https://www.clintoncountyhousing.com/event/fresh-express-food-bank-renovo/2026-10-19/
LOCATION:Ransdorf Manor\, 350 Huron Ave\, Renovo\, PA\, 17764\, United States
END:VEVENT
BEGIN:VEVENT
DTSTART;TZID=America/New_York:20261020T130000
DTEND;TZID=America/New_York:20261020T150000
DTSTAMP:20260423T145910
CREATED:20260122T140155Z
LAST-MODIFIED:20260122T140155Z
UID:10000831-1792501200-1792508400@www.clintoncountyhousing.com
SUMMARY:Ransdorf Manor Prize Bingo
DESCRIPTION:Prize Bingo\nResidents are welcome to join CCHA Tenant Services and volunteers monthly for Bingo games. \nAlways 1:00 to 3:00 in the Community Room
URL:https://www.clintoncountyhousing.com/event/ransdorf-manor-prize-bingo-4/2026-10-20/
LOCATION:Ransdorf Manor\, 350 Huron Ave\, Renovo\, PA\, 17764\, United States
END:VEVENT
BEGIN:VEVENT
DTSTART;TZID=America/New_York:20261116T100000
DTEND;TZID=America/New_York:20261116T120000
DTSTAMP:20260423T145910
CREATED:20260122T142315Z
LAST-MODIFIED:20260122T142315Z
UID:10000859-1794823200-1794830400@www.clintoncountyhousing.com
SUMMARY:Fresh Express Food Bank- Renovo
DESCRIPTION:Fresh Express Food Distribution\nRansdorf Manor\n350 Huron Avenue Avenue\n10:00 am to 12:00 noon\n \n  \n 
URL:https://www.clintoncountyhousing.com/event/fresh-express-food-bank-renovo/2026-11-16/
LOCATION:Ransdorf Manor\, 350 Huron Ave\, Renovo\, PA\, 17764\, United States
END:VEVENT
END:VCALENDAR